BEGIN:VCALENDAR
VERSION:2.0
PRODID:-//Gyulai Református Egyházközség - ECPv6.11.2.1//NONSGML v1.0//EN
CALSCALE:GREGORIAN
METHOD:PUBLISH
X-WR-CALNAME:Gyulai Református Egyházközség
X-ORIGINAL-URL:https://gyularef.hu
X-WR-CALDESC:Events for Gyulai Református Egyházközség
REFRESH-INTERVAL;VALUE=DURATION:PT1H
X-Robots-Tag:noindex
X-PUBLISHED-TTL:PT1H
BEGIN:VTIMEZONE
TZID:Europe/Budapest
BEGIN:DAYLIGHT
TZOFFSETFROM:+0100
TZOFFSETTO:+0200
TZNAME:CEST
DTSTART:20160327T010000
END:DAYLIGHT
BEGIN:STANDARD
TZOFFSETFROM:+0200
TZOFFSETTO:+0100
TZNAME:CET
DTSTART:20161030T010000
END:STANDARD
END:VTIMEZONE
BEGIN:VEVENT
DTSTART;TZID=Europe/Budapest:20161022T090000
DTEND;TZID=Europe/Budapest:20161022T120000
DTSTAMP:20260425T202321
CREATED:20161016T141515Z
LAST-MODIFIED:20161016T141515Z
UID:371-1477126800-1477137600@gyularef.hu
SUMMARY:Egyházmegye presbiteri és gyülekezeti konferencia
DESCRIPTION:
URL:https://gyularef.hu/event/egyhazmegye-presbiteri-es-gyulekezeti-konferencia/
LOCATION:Református templom – Békéscsaba\, Békéscsaba\, 5600\, Magyarország
CATEGORIES:Csendesnap
ATTACH;FMTTYPE=image/jpeg:https://gyularef.hu/wp-content/uploads/2016/09/bibliaora_sz.jpg
END:VEVENT
BEGIN:VEVENT
DTSTART;TZID=Europe/Budapest:20161022T100000
DTEND;TZID=Europe/Budapest:20161022T120000
DTSTAMP:20260425T202321
CREATED:20161016T141608Z
LAST-MODIFIED:20161016T141608Z
UID:375-1477130400-1477137600@gyularef.hu
SUMMARY:Csendesnap
DESCRIPTION:
URL:https://gyularef.hu/event/csendesnap/
LOCATION:Kálvin utcai gyülekezeti ház\, Kálvin u. 4.\, Gyula\, Békés\, 5700\, Magyarország
CATEGORIES:Csendesnap
ATTACH;FMTTYPE=image/jpeg:https://gyularef.hu/wp-content/uploads/2016/09/bibliaora.jpg
END:VEVENT
END:VCALENDAR