BEGIN:VCALENDAR
VERSION:2.0
PRODID:-//Gyulai Református Egyházközség - ECPv6.11.2.1//NONSGML v1.0//EN
CALSCALE:GREGORIAN
METHOD:PUBLISH
X-WR-CALNAME:Gyulai Református Egyházközség
X-ORIGINAL-URL:https://gyularef.hu
X-WR-CALDESC:Events for Gyulai Református Egyházközség
REFRESH-INTERVAL;VALUE=DURATION:PT1H
X-Robots-Tag:noindex
X-PUBLISHED-TTL:PT1H
BEGIN:VTIMEZONE
TZID:Europe/Budapest
BEGIN:DAYLIGHT
TZOFFSETFROM:+0100
TZOFFSETTO:+0200
TZNAME:CEST
DTSTART:20160327T010000
END:DAYLIGHT
BEGIN:STANDARD
TZOFFSETFROM:+0200
TZOFFSETTO:+0100
TZNAME:CET
DTSTART:20161030T010000
END:STANDARD
END:VTIMEZONE
BEGIN:VEVENT
DTSTART;TZID=Europe/Budapest:20161223T150000
DTEND;TZID=Europe/Budapest:20161223T160000
DTSTAMP:20260423T122318
CREATED:20161218T115740Z
LAST-MODIFIED:20161218T115740Z
UID:613-1482505200-1482508800@gyularef.hu
SUMMARY:Biztos Szikla klub
DESCRIPTION:
URL:https://gyularef.hu/event/biztos-szikla-klub-10/
LOCATION:Kisház\, Petőfi tér 4.\, Gyula\, Békés\, 5700\, Magyarország
ATTACH;FMTTYPE=image/jpeg:https://gyularef.hu/wp-content/uploads/2016/08/biztos_szikla.jpg
END:VEVENT
BEGIN:VEVENT
DTSTART;TZID=Europe/Budapest:20161223T180000
DTEND;TZID=Europe/Budapest:20161223T190000
DTSTAMP:20260423T122318
CREATED:20161218T115641Z
LAST-MODIFIED:20161218T115641Z
UID:611-1482516000-1482519600@gyularef.hu
SUMMARY:Bűnbánati istentisztelet (p)
DESCRIPTION:
URL:https://gyularef.hu/event/bunbanati-istentisztelet-p/
LOCATION:Békés
CATEGORIES:Bűnbánati istentisztelet
ATTACH;FMTTYPE=image/jpeg:https://gyularef.hu/wp-content/uploads/2016/09/bibliaora_sz.jpg
END:VEVENT
BEGIN:VEVENT
DTSTART;TZID=Europe/Budapest:20161223T190000
DTEND;TZID=Europe/Budapest:20161223T200000
DTSTAMP:20260423T122318
CREATED:20161218T115838Z
LAST-MODIFIED:20161218T115838Z
UID:615-1482519600-1482523200@gyularef.hu
SUMMARY:Fiatalok bibliaköre
DESCRIPTION:
URL:https://gyularef.hu/event/fiatalok-bibliakore-13/
LOCATION:Kisház\, Petőfi tér 4.\, Gyula\, Békés\, 5700\, Magyarország
CATEGORIES:Fiatalok bibliaköre
ATTACH;FMTTYPE=image/jpeg:https://gyularef.hu/wp-content/uploads/2016/08/ofi.jpg
END:VEVENT
END:VCALENDAR