BEGIN:VCALENDAR
VERSION:2.0
PRODID:-//Gyulai Református Egyházközség - ECPv6.11.2.1//NONSGML v1.0//EN
CALSCALE:GREGORIAN
METHOD:PUBLISH
X-ORIGINAL-URL:https://gyularef.hu
X-WR-CALDESC:Events for Gyulai Református Egyházközség
REFRESH-INTERVAL;VALUE=DURATION:PT1H
X-Robots-Tag:noindex
X-PUBLISHED-TTL:PT1H
BEGIN:VTIMEZONE
TZID:Europe/Budapest
BEGIN:DAYLIGHT
TZOFFSETFROM:+0100
TZOFFSETTO:+0200
TZNAME:CEST
DTSTART:20170326T010000
END:DAYLIGHT
BEGIN:STANDARD
TZOFFSETFROM:+0200
TZOFFSETTO:+0100
TZNAME:CET
DTSTART:20171029T010000
END:STANDARD
END:VTIMEZONE
BEGIN:VEVENT
DTSTART;TZID=Europe/Budapest:20170115T170000
DTEND;TZID=Europe/Budapest:20170115T180000
DTSTAMP:20260423T093331
CREATED:20170115T144924Z
LAST-MODIFIED:20170115T144940Z
UID:754-1484499600-1484503200@gyularef.hu
SUMMARY:Ökomenikus istentisztelet
DESCRIPTION:
URL:https://gyularef.hu/event/okomenikus-istentisztelet/
LOCATION:Babtista imaház\, Gyula\, Munkácsy M. u. 11/b\, 5700\, Magyarország
CATEGORIES:Istentisztelet
ATTACH;FMTTYPE=image/jpeg:https://gyularef.hu/wp-content/uploads/2017/01/oku_imahet_2017_vagott.jpg
END:VEVENT
END:VCALENDAR