BEGIN:VCALENDAR
VERSION:2.0
PRODID:-//Gyulai Református Egyházközség - ECPv6.11.2.1//NONSGML v1.0//EN
CALSCALE:GREGORIAN
METHOD:PUBLISH
X-ORIGINAL-URL:https://gyularef.hu
X-WR-CALDESC:Events for Gyulai Református Egyházközség
REFRESH-INTERVAL;VALUE=DURATION:PT1H
X-Robots-Tag:noindex
X-PUBLISHED-TTL:PT1H
BEGIN:VTIMEZONE
TZID:Europe/Budapest
BEGIN:DAYLIGHT
TZOFFSETFROM:+0100
TZOFFSETTO:+0200
TZNAME:CEST
DTSTART:20170326T010000
END:DAYLIGHT
BEGIN:STANDARD
TZOFFSETFROM:+0200
TZOFFSETTO:+0100
TZNAME:CET
DTSTART:20171029T010000
END:STANDARD
END:VTIMEZONE
BEGIN:VEVENT
DTSTART;TZID=Europe/Budapest:20170527T100000
DTEND;TZID=Europe/Budapest:20170527T120000
DTSTAMP:20260422T033457
CREATED:20170522T064526Z
LAST-MODIFIED:20170522T064526Z
UID:1408-1495879200-1495886400@gyularef.hu
SUMMARY:Református Óvoda  Ballagása
DESCRIPTION:
URL:https://gyularef.hu/event/reformatus-ovoda-ballagasa/
LOCATION:Templom\, Petőfi tér 4.\, Gyula\, Békés\, 5700\, Magyarország
CATEGORIES:Istentisztelet
ATTACH;FMTTYPE=image/jpeg:https://gyularef.hu/wp-content/uploads/2017/05/gyularef_ovi.jpg
END:VEVENT
BEGIN:VEVENT
DTSTART;TZID=Europe/Budapest:20170527T153000
DTEND;TZID=Europe/Budapest:20170527T160000
DTSTAMP:20260422T033457
CREATED:20170522T064734Z
LAST-MODIFIED:20170522T064734Z
UID:1411-1495899000-1495900800@gyularef.hu
SUMMARY:Házasságkötés megáldása
DESCRIPTION:
URL:https://gyularef.hu/event/hazassagkotes-megaldasa/
LOCATION:Templom\, Petőfi tér 4.\, Gyula\, Békés\, 5700\, Magyarország
CATEGORIES:Istentisztelet
ATTACH;FMTTYPE=image/jpeg:https://gyularef.hu/wp-content/uploads/2017/05/aranygyuru.jpg
END:VEVENT
BEGIN:VEVENT
DTSTART;TZID=Europe/Budapest:20170527T170000
DTEND;TZID=Europe/Budapest:20170527T190000
DTSTAMP:20260422T033457
CREATED:20170522T065103Z
LAST-MODIFIED:20170522T065103Z
UID:1414-1495904400-1495911600@gyularef.hu
SUMMARY:Árva Bethlen Kata című  dráma
DESCRIPTION:
URL:https://gyularef.hu/event/arva-bethlen-kata-cimu-drama/
LOCATION:Templom\, Petőfi tér 4.\, Gyula\, Békés\, 5700\, Magyarország
CATEGORIES:Evangelizáció
ATTACH;FMTTYPE=image/jpeg:https://gyularef.hu/wp-content/uploads/2017/05/arva_bethlen.jpg
END:VEVENT
END:VCALENDAR