BEGIN:VCALENDAR
VERSION:2.0
PRODID:-//Gyulai Református Egyházközség - ECPv6.11.2.1//NONSGML v1.0//EN
CALSCALE:GREGORIAN
METHOD:PUBLISH
X-WR-CALNAME:Gyulai Református Egyházközség
X-ORIGINAL-URL:https://gyularef.hu
X-WR-CALDESC:Events for Gyulai Református Egyházközség
REFRESH-INTERVAL;VALUE=DURATION:PT1H
X-Robots-Tag:noindex
X-PUBLISHED-TTL:PT1H
BEGIN:VTIMEZONE
TZID:Europe/Budapest
BEGIN:DAYLIGHT
TZOFFSETFROM:+0100
TZOFFSETTO:+0200
TZNAME:CEST
DTSTART:20170326T010000
END:DAYLIGHT
BEGIN:STANDARD
TZOFFSETFROM:+0200
TZOFFSETTO:+0100
TZNAME:CET
DTSTART:20171029T010000
END:STANDARD
END:VTIMEZONE
BEGIN:VEVENT
DTSTART;TZID=Europe/Budapest:20171009T080000
DTEND;TZID=Europe/Budapest:20171009T083000
DTSTAMP:20260421T045938
CREATED:20171008T135349Z
LAST-MODIFIED:20171008T135349Z
UID:1868-1507536000-1507537800@gyularef.hu
SUMMARY:Hétkezdő áhítat
DESCRIPTION:
URL:https://gyularef.hu/event/hetkezdo-ahitat-3/
LOCATION:Templom\, Petőfi tér 4.\, Gyula\, Békés\, 5700\, Magyarország
CATEGORIES:Istentisztelet
ATTACH;FMTTYPE=image/jpeg:https://gyularef.hu/wp-content/uploads/2016/08/templomunk.jpg
END:VEVENT
BEGIN:VEVENT
DTSTART;TZID=Europe/Budapest:20171009T180000
DTEND;TZID=Europe/Budapest:20171009T190000
DTSTAMP:20260421T045938
CREATED:20171008T135442Z
LAST-MODIFIED:20171008T135503Z
UID:1870-1507572000-1507575600@gyularef.hu
SUMMARY:Szolgálattevők bibliaórája
DESCRIPTION:
URL:https://gyularef.hu/event/szolgaltattevok-bibliaoraja/
LOCATION:Gyülekezeti kisterem\, Petőfi tér 4.\, Gyula\, Békés\, 5700\, Magyarország
CATEGORIES:Bibliaóra
ATTACH;FMTTYPE=image/jpeg:https://gyularef.hu/wp-content/uploads/2017/10/biblia-.jpg
END:VEVENT
END:VCALENDAR