BEGIN:VCALENDAR
VERSION:2.0
PRODID:-//Gyulai Református Egyházközség - ECPv6.11.2.1//NONSGML v1.0//EN
CALSCALE:GREGORIAN
METHOD:PUBLISH
X-ORIGINAL-URL:https://gyularef.hu
X-WR-CALDESC:Events for Gyulai Református Egyházközség
REFRESH-INTERVAL;VALUE=DURATION:PT1H
X-Robots-Tag:noindex
X-PUBLISHED-TTL:PT1H
BEGIN:VTIMEZONE
TZID:Europe/Budapest
BEGIN:DAYLIGHT
TZOFFSETFROM:+0100
TZOFFSETTO:+0200
TZNAME:CEST
DTSTART:20170326T010000
END:DAYLIGHT
BEGIN:STANDARD
TZOFFSETFROM:+0200
TZOFFSETTO:+0100
TZNAME:CET
DTSTART:20171029T010000
END:STANDARD
END:VTIMEZONE
BEGIN:VEVENT
DTSTART;TZID=Europe/Budapest:20171013T140000
DTEND;TZID=Europe/Budapest:20171013T150000
DTSTAMP:20260421T050042
CREATED:20171008T140012Z
LAST-MODIFIED:20171008T140012Z
UID:1880-1507903200-1507906800@gyularef.hu
SUMMARY:Konfrimáció felkészítő alkalom
DESCRIPTION:
URL:https://gyularef.hu/event/konfrimacio-felkeszito-alkalom/
LOCATION:Gyülekezeti kisterem\, Petőfi tér 4.\, Gyula\, Békés\, 5700\, Magyarország
CATEGORIES:Bibliaóra
ATTACH;FMTTYPE=image/gif:https://gyularef.hu/wp-content/uploads/2017/06/imadkozo-pap2.gif
END:VEVENT
BEGIN:VEVENT
DTSTART;TZID=Europe/Budapest:20171013T150000
DTEND;TZID=Europe/Budapest:20171013T160000
DTSTAMP:20260421T050042
CREATED:20171008T140113Z
LAST-MODIFIED:20171008T140113Z
UID:1882-1507906800-1507910400@gyularef.hu
SUMMARY:Ifjúsági óra - Biztos Szikla klub
DESCRIPTION:
URL:https://gyularef.hu/event/ifjusagi-ora-biztos-szikla-klub-26/
LOCATION:Kisház\, Petőfi tér 4.\, Gyula\, Békés\, 5700\, Magyarország
CATEGORIES:Biztos Szikla klub
ATTACH;FMTTYPE=image/jpeg:https://gyularef.hu/wp-content/uploads/2016/08/biztos_szikla.jpg
END:VEVENT
BEGIN:VEVENT
DTSTART;TZID=Europe/Budapest:20171013T180000
DTEND;TZID=Europe/Budapest:20171013T190000
DTSTAMP:20260421T050042
CREATED:20171008T140154Z
LAST-MODIFIED:20171008T140154Z
UID:1884-1507917600-1507921200@gyularef.hu
SUMMARY:Fiatalok bibliaköre
DESCRIPTION:
URL:https://gyularef.hu/event/fiatalok-bibliakore-46/
LOCATION:Kisház\, Petőfi tér 4.\, Gyula\, Békés\, 5700\, Magyarország
CATEGORIES:Fiatalok bibliaköre
ATTACH;FMTTYPE=image/jpeg:https://gyularef.hu/wp-content/uploads/2016/08/ofi.jpg
END:VEVENT
END:VCALENDAR