BEGIN:VCALENDAR
VERSION:2.0
PRODID:-//Gyulai Református Egyházközség - ECPv6.11.2.1//NONSGML v1.0//EN
CALSCALE:GREGORIAN
METHOD:PUBLISH
X-ORIGINAL-URL:https://gyularef.hu
X-WR-CALDESC:Events for Gyulai Református Egyházközség
REFRESH-INTERVAL;VALUE=DURATION:PT1H
X-Robots-Tag:noindex
X-PUBLISHED-TTL:PT1H
BEGIN:VTIMEZONE
TZID:Europe/Budapest
BEGIN:DAYLIGHT
TZOFFSETFROM:+0100
TZOFFSETTO:+0200
TZNAME:CEST
DTSTART:20170326T010000
END:DAYLIGHT
BEGIN:STANDARD
TZOFFSETFROM:+0200
TZOFFSETTO:+0100
TZNAME:CET
DTSTART:20171029T010000
END:STANDARD
END:VTIMEZONE
BEGIN:VEVENT
DTSTART;TZID=Europe/Budapest:20171029T093000
DTEND;TZID=Europe/Budapest:20171029T095000
DTSTAMP:20260421T050047
CREATED:20171024T055802Z
LAST-MODIFIED:20171024T055802Z
UID:2020-1509269400-1509270600@gyularef.hu
SUMMARY:Imaközösség
DESCRIPTION:
URL:https://gyularef.hu/event/imakozosseg-47/
LOCATION:Gyülekezeti kisterem\, Petőfi tér 4.\, Gyula\, Békés\, 5700\, Magyarország
CATEGORIES:Imaközösség
ATTACH;FMTTYPE=image/jpeg:https://gyularef.hu/wp-content/uploads/2016/09/imakozosseg.jpg
END:VEVENT
BEGIN:VEVENT
DTSTART;TZID=Europe/Budapest:20171029T100000
DTEND;TZID=Europe/Budapest:20171029T120000
DTSTAMP:20260421T050047
CREATED:20171024T055850Z
LAST-MODIFIED:20171024T055850Z
UID:2022-1509271200-1509278400@gyularef.hu
SUMMARY:Úrvacsorás istentisztelet
DESCRIPTION:
URL:https://gyularef.hu/event/urvacsoras-istentisztelet-5/
LOCATION:Templom\, Petőfi tér 4.\, Gyula\, Békés\, 5700\, Magyarország
CATEGORIES:Úrvacsorás istentisztelet
ATTACH;FMTTYPE=image/jpeg:https://gyularef.hu/wp-content/uploads/2016/09/urvacsora.jpg
END:VEVENT
BEGIN:VEVENT
DTSTART;TZID=Europe/Budapest:20171029T170000
DTEND;TZID=Europe/Budapest:20171029T180000
DTSTAMP:20260421T050047
CREATED:20171024T060058Z
LAST-MODIFIED:20171024T060058Z
UID:2024-1509296400-1509300000@gyularef.hu
SUMMARY:Reformáció ünnepi istentisztelet a baptista és evangélikus gyülekezettel
DESCRIPTION:
URL:https://gyularef.hu/event/reformacio-unnepi-istentisztelet-a-baptista-es-evangelikus-gyulekezettel/
LOCATION:Evangélikus templom
CATEGORIES:Istentisztelet
ATTACH;FMTTYPE=image/jpeg:https://gyularef.hu/wp-content/uploads/2017/10/konfirmáció_2.jpg
END:VEVENT
END:VCALENDAR