BEGIN:VCALENDAR
VERSION:2.0
PRODID:-//Gyulai Református Egyházközség - ECPv6.11.2.1//NONSGML v1.0//EN
CALSCALE:GREGORIAN
METHOD:PUBLISH
X-WR-CALNAME:Gyulai Református Egyházközség
X-ORIGINAL-URL:https://gyularef.hu
X-WR-CALDESC:Events for Gyulai Református Egyházközség
REFRESH-INTERVAL;VALUE=DURATION:PT1H
X-Robots-Tag:noindex
X-PUBLISHED-TTL:PT1H
BEGIN:VTIMEZONE
TZID:Europe/Budapest
BEGIN:DAYLIGHT
TZOFFSETFROM:+0100
TZOFFSETTO:+0200
TZNAME:CEST
DTSTART:20170326T010000
END:DAYLIGHT
BEGIN:STANDARD
TZOFFSETFROM:+0200
TZOFFSETTO:+0100
TZNAME:CET
DTSTART:20171029T010000
END:STANDARD
END:VTIMEZONE
BEGIN:VEVENT
DTSTART;TZID=Europe/Budapest:20171110T140000
DTEND;TZID=Europe/Budapest:20171110T150000
DTSTAMP:20260421T014314
CREATED:20171106T091640Z
LAST-MODIFIED:20171106T091640Z
UID:2083-1510322400-1510326000@gyularef.hu
SUMMARY:Konfirmáció felkészítő alkalom
DESCRIPTION:
URL:https://gyularef.hu/event/konfirmacio-felkeszito-alkalom-3/
LOCATION:Gyülekezeti kisterem\, Petőfi tér 4.\, Gyula\, Békés\, 5700\, Magyarország
CATEGORIES:Bibliaóra
ATTACH;FMTTYPE=image/jpeg:https://gyularef.hu/wp-content/uploads/2017/10/biblia-.jpg
END:VEVENT
BEGIN:VEVENT
DTSTART;TZID=Europe/Budapest:20171110T150000
DTEND;TZID=Europe/Budapest:20171110T160000
DTSTAMP:20260421T014314
CREATED:20171106T091748Z
LAST-MODIFIED:20171106T091748Z
UID:2085-1510326000-1510329600@gyularef.hu
SUMMARY:Ifjúsági óra Biztos Szikla klub
DESCRIPTION:
URL:https://gyularef.hu/event/ifjusagi-ora-biztos-szikla-klub-29/
LOCATION:Kisház\, Petőfi tér 4.\, Gyula\, Békés\, 5700\, Magyarország
CATEGORIES:Biztos Szikla klub
ATTACH;FMTTYPE=image/jpeg:https://gyularef.hu/wp-content/uploads/2016/08/biztos_szikla.jpg
END:VEVENT
BEGIN:VEVENT
DTSTART;TZID=Europe/Budapest:20171110T180000
DTEND;TZID=Europe/Budapest:20171110T190000
DTSTAMP:20260421T014314
CREATED:20171106T091837Z
LAST-MODIFIED:20171106T091837Z
UID:2087-1510336800-1510340400@gyularef.hu
SUMMARY:Fiatalok Bibliaköre
DESCRIPTION:
URL:https://gyularef.hu/event/fiatalok-bibliakore-49/
LOCATION:Kisház\, Petőfi tér 4.\, Gyula\, Békés\, 5700\, Magyarország
CATEGORIES:Fiatalok bibliaköre
ATTACH;FMTTYPE=image/jpeg:https://gyularef.hu/wp-content/uploads/2016/08/ofi.jpg
END:VEVENT
END:VCALENDAR