BEGIN:VCALENDAR
VERSION:2.0
PRODID:-//Gyulai Református Egyházközség - ECPv6.11.2.1//NONSGML v1.0//EN
CALSCALE:GREGORIAN
METHOD:PUBLISH
X-ORIGINAL-URL:https://gyularef.hu
X-WR-CALDESC:Events for Gyulai Református Egyházközség
REFRESH-INTERVAL;VALUE=DURATION:PT1H
X-Robots-Tag:noindex
X-PUBLISHED-TTL:PT1H
BEGIN:VTIMEZONE
TZID:Europe/Budapest
BEGIN:DAYLIGHT
TZOFFSETFROM:+0100
TZOFFSETTO:+0200
TZNAME:CEST
DTSTART:20170326T010000
END:DAYLIGHT
BEGIN:STANDARD
TZOFFSETFROM:+0200
TZOFFSETTO:+0100
TZNAME:CET
DTSTART:20171029T010000
END:STANDARD
END:VTIMEZONE
BEGIN:VEVENT
DTSTART;TZID=Europe/Budapest:20171126T093000
DTEND;TZID=Europe/Budapest:20171126T095000
DTSTAMP:20260421T013928
CREATED:20171122T062853Z
LAST-MODIFIED:20171122T062853Z
UID:2162-1511688600-1511689800@gyularef.hu
SUMMARY:Imaközösség
DESCRIPTION:
URL:https://gyularef.hu/event/imakozosseg-51/
LOCATION:Gyülekezeti kisterem\, Petőfi tér 4.\, Gyula\, Békés\, 5700\, Magyarország
CATEGORIES:Imaközösség
ATTACH;FMTTYPE=image/jpeg:https://gyularef.hu/wp-content/uploads/2016/09/imakozosseg.jpg
END:VEVENT
BEGIN:VEVENT
DTSTART;TZID=Europe/Budapest:20171126T100000
DTEND;TZID=Europe/Budapest:20171126T110000
DTSTAMP:20260421T013928
CREATED:20171122T062956Z
LAST-MODIFIED:20171122T062956Z
UID:2164-1511690400-1511694000@gyularef.hu
SUMMARY:Istentisztelet
DESCRIPTION:
URL:https://gyularef.hu/event/istentisztelet-34/
LOCATION:Templom\, Petőfi tér 4.\, Gyula\, Békés\, 5700\, Magyarország
CATEGORIES:Istentisztelet
ATTACH;FMTTYPE=image/jpeg:https://gyularef.hu/wp-content/uploads/2016/08/istentisztelet.jpg
END:VEVENT
BEGIN:VEVENT
DTSTART;TZID=Europe/Budapest:20171126T170000
DTEND;TZID=Europe/Budapest:20171126T180000
DTSTAMP:20260421T013928
CREATED:20171122T063103Z
LAST-MODIFIED:20171122T063103Z
UID:2166-1511715600-1511719200@gyularef.hu
SUMMARY:Istentisztelet (du)
DESCRIPTION:
URL:https://gyularef.hu/event/istentisztelet-du-39/
LOCATION:Gyülekezeti kisterem\, Petőfi tér 4.\, Gyula\, Békés\, 5700\, Magyarország
CATEGORIES:Istentisztelet
ATTACH;FMTTYPE=image/jpeg:https://gyularef.hu/wp-content/uploads/2016/09/bibliaora.jpg
END:VEVENT
END:VCALENDAR