BEGIN:VCALENDAR
VERSION:2.0
PRODID:-//Gyulai Református Egyházközség - ECPv6.11.2.1//NONSGML v1.0//EN
CALSCALE:GREGORIAN
METHOD:PUBLISH
X-WR-CALNAME:Gyulai Református Egyházközség
X-ORIGINAL-URL:https://gyularef.hu
X-WR-CALDESC:Events for Gyulai Református Egyházközség
REFRESH-INTERVAL;VALUE=DURATION:PT1H
X-Robots-Tag:noindex
X-PUBLISHED-TTL:PT1H
BEGIN:VTIMEZONE
TZID:Europe/Budapest
BEGIN:DAYLIGHT
TZOFFSETFROM:+0100
TZOFFSETTO:+0200
TZNAME:CEST
DTSTART:20170326T010000
END:DAYLIGHT
BEGIN:STANDARD
TZOFFSETFROM:+0200
TZOFFSETTO:+0100
TZNAME:CET
DTSTART:20171029T010000
END:STANDARD
END:VTIMEZONE
BEGIN:VEVENT
DTSTART;TZID=Europe/Budapest:20171201T140000
DTEND;TZID=Europe/Budapest:20171201T150000
DTSTAMP:20260421T000755
CREATED:20171127T080414Z
LAST-MODIFIED:20171127T080414Z
UID:2187-1512136800-1512140400@gyularef.hu
SUMMARY:Konfirmáció felkészítő alkalom
DESCRIPTION:
URL:https://gyularef.hu/event/konfirmacio-felkeszito-alkalom-5/
LOCATION:Gyülekezeti kisterem\, Petőfi tér 4.\, Gyula\, Békés\, 5700\, Magyarország
CATEGORIES:Bibliaóra
ATTACH;FMTTYPE=image/jpeg:https://gyularef.hu/wp-content/uploads/2017/11/biblia-.jpg
END:VEVENT
BEGIN:VEVENT
DTSTART;TZID=Europe/Budapest:20171201T150000
DTEND;TZID=Europe/Budapest:20171201T160000
DTSTAMP:20260421T000755
CREATED:20171127T080720Z
LAST-MODIFIED:20171127T080720Z
UID:2189-1512140400-1512144000@gyularef.hu
SUMMARY:Ifjúsági óra Biztos Szikla klub
DESCRIPTION:
URL:https://gyularef.hu/event/ifjusagi-ora-biztos-szikla-klub-32/
LOCATION:Kisház\, Petőfi tér 4.\, Gyula\, Békés\, 5700\, Magyarország
CATEGORIES:Biztos Szikla klub
ATTACH;FMTTYPE=image/jpeg:https://gyularef.hu/wp-content/uploads/2016/08/biztos_szikla.jpg
END:VEVENT
BEGIN:VEVENT
DTSTART;TZID=Europe/Budapest:20171201T180000
DTEND;TZID=Europe/Budapest:20171201T190000
DTSTAMP:20260421T000755
CREATED:20171127T075336Z
LAST-MODIFIED:20171127T075336Z
UID:2183-1512151200-1512154800@gyularef.hu
SUMMARY:Adventi igehirdetés sorozat (p)
DESCRIPTION:
URL:https://gyularef.hu/event/adventi-igehirdetes-sorozat-p/
LOCATION:Gyülekezeti kisterem\, Petőfi tér 4.\, Gyula\, Békés\, 5700\, Magyarország
CATEGORIES:Istentisztelet
ATTACH;FMTTYPE=image/jpeg:https://gyularef.hu/wp-content/uploads/2017/11/adventi-sorozat-logoja.jpg
END:VEVENT
BEGIN:VEVENT
DTSTART;TZID=Europe/Budapest:20171201T190000
DTEND;TZID=Europe/Budapest:20171201T200000
DTSTAMP:20260421T000755
CREATED:20171127T080905Z
LAST-MODIFIED:20171127T080905Z
UID:2191-1512154800-1512158400@gyularef.hu
SUMMARY:Fiatalok Bibliaköre
DESCRIPTION:
URL:https://gyularef.hu/event/fiatalok-bibliakore-52/
LOCATION:Békés
CATEGORIES:Fiatalok bibliaköre
ATTACH;FMTTYPE=image/jpeg:https://gyularef.hu/wp-content/uploads/2016/08/ofi.jpg
END:VEVENT
END:VCALENDAR