BEGIN:VCALENDAR
VERSION:2.0
PRODID:-//Gyulai Református Egyházközség - ECPv6.11.2.1//NONSGML v1.0//EN
CALSCALE:GREGORIAN
METHOD:PUBLISH
X-WR-CALNAME:Gyulai Református Egyházközség
X-ORIGINAL-URL:https://gyularef.hu
X-WR-CALDESC:Events for Gyulai Református Egyházközség
REFRESH-INTERVAL;VALUE=DURATION:PT1H
X-Robots-Tag:noindex
X-PUBLISHED-TTL:PT1H
BEGIN:VTIMEZONE
TZID:Europe/Budapest
BEGIN:DAYLIGHT
TZOFFSETFROM:+0100
TZOFFSETTO:+0200
TZNAME:CEST
DTSTART:20170326T010000
END:DAYLIGHT
BEGIN:STANDARD
TZOFFSETFROM:+0200
TZOFFSETTO:+0100
TZNAME:CET
DTSTART:20171029T010000
END:STANDARD
END:VTIMEZONE
BEGIN:VEVENT
DTSTART;TZID=Europe/Budapest:20171217T093000
DTEND;TZID=Europe/Budapest:20171217T095000
DTSTAMP:20260421T000732
CREATED:20171211T192825Z
LAST-MODIFIED:20171211T192825Z
UID:2224-1513503000-1513504200@gyularef.hu
SUMMARY:Imaközösség
DESCRIPTION:
URL:https://gyularef.hu/event/imakozosseg-53/
LOCATION:Gyülekezeti kisterem\, Petőfi tér 4.\, Gyula\, Békés\, 5700\, Magyarország
CATEGORIES:Imaközösség
ATTACH;FMTTYPE=image/jpeg:https://gyularef.hu/wp-content/uploads/2016/09/imakozosseg.jpg
END:VEVENT
BEGIN:VEVENT
DTSTART;TZID=Europe/Budapest:20171217T100000
DTEND;TZID=Europe/Budapest:20171217T110000
DTSTAMP:20260421T000732
CREATED:20171211T192918Z
LAST-MODIFIED:20171211T192918Z
UID:2226-1513504800-1513508400@gyularef.hu
SUMMARY:Istentisztelet
DESCRIPTION:
URL:https://gyularef.hu/event/istentisztelet-35/
LOCATION:Templom\, Petőfi tér 4.\, Gyula\, Békés\, 5700\, Magyarország
CATEGORIES:Istentisztelet
ATTACH;FMTTYPE=image/jpeg:https://gyularef.hu/wp-content/uploads/2016/08/istentisztelet.jpg
END:VEVENT
BEGIN:VEVENT
DTSTART;TZID=Europe/Budapest:20171217T170000
DTEND;TZID=Europe/Budapest:20171217T180000
DTSTAMP:20260421T000732
CREATED:20171211T193017Z
LAST-MODIFIED:20171211T193017Z
UID:2228-1513530000-1513533600@gyularef.hu
SUMMARY:Istentisztelet (du)
DESCRIPTION:
URL:https://gyularef.hu/event/istentisztelet-du-40/
LOCATION:Gyülekezeti kisterem\, Petőfi tér 4.\, Gyula\, Békés\, 5700\, Magyarország
CATEGORIES:Istentisztelet
ATTACH;FMTTYPE=image/jpeg:https://gyularef.hu/wp-content/uploads/2016/09/bibliaora.jpg
END:VEVENT
END:VCALENDAR