BEGIN:VCALENDAR
VERSION:2.0
PRODID:-//Gyulai Református Egyházközség - ECPv6.11.2.1//NONSGML v1.0//EN
CALSCALE:GREGORIAN
METHOD:PUBLISH
X-ORIGINAL-URL:https://gyularef.hu
X-WR-CALDESC:Events for Gyulai Református Egyházközség
REFRESH-INTERVAL;VALUE=DURATION:PT1H
X-Robots-Tag:noindex
X-PUBLISHED-TTL:PT1H
BEGIN:VTIMEZONE
TZID:Europe/Budapest
BEGIN:DAYLIGHT
TZOFFSETFROM:+0100
TZOFFSETTO:+0200
TZNAME:CEST
DTSTART:20170326T010000
END:DAYLIGHT
BEGIN:STANDARD
TZOFFSETFROM:+0200
TZOFFSETTO:+0100
TZNAME:CET
DTSTART:20171029T010000
END:STANDARD
END:VTIMEZONE
BEGIN:VEVENT
DTSTART;TZID=Europe/Budapest:20171222T140000
DTEND;TZID=Europe/Budapest:20171222T150000
DTSTAMP:20260421T001033
CREATED:20171218T130547Z
LAST-MODIFIED:20171218T130547Z
UID:2276-1513951200-1513954800@gyularef.hu
SUMMARY:Ünnepi istentisztelet (Magvető Ref. Iskola)
DESCRIPTION:
URL:https://gyularef.hu/event/unnepi-istentisztelet-magveto-ref-iskola/
LOCATION:Templom\, Petőfi tér 4.\, Gyula\, Békés\, 5700\, Magyarország
CATEGORIES:Istentisztelet
ATTACH;FMTTYPE=image/jpeg:https://gyularef.hu/wp-content/uploads/2017/11/5_2.jpg
END:VEVENT
BEGIN:VEVENT
DTSTART;TZID=Europe/Budapest:20171222T180000
DTEND;TZID=Europe/Budapest:20171222T190000
DTSTAMP:20260421T001034
CREATED:20171218T130404Z
LAST-MODIFIED:20171218T130404Z
UID:2272-1513965600-1513969200@gyularef.hu
SUMMARY:Bűnbánati Istentisztelet (p)
DESCRIPTION:
URL:https://gyularef.hu/event/bunbanati-istentisztelet-p-5/
LOCATION:Gyülekezeti kisterem\, Petőfi tér 4.\, Gyula\, Békés\, 5700\, Magyarország
CATEGORIES:Bűnbánati istentisztelet
ATTACH;FMTTYPE=image/jpeg:https://gyularef.hu/wp-content/uploads/2017/12/advent4.jpg
END:VEVENT
BEGIN:VEVENT
DTSTART;TZID=Europe/Budapest:20171222T190000
DTEND;TZID=Europe/Budapest:20171222T200000
DTSTAMP:20260421T001034
CREATED:20171218T130651Z
LAST-MODIFIED:20171218T130651Z
UID:2278-1513969200-1513972800@gyularef.hu
SUMMARY:Fiatalok Bibliaköre
DESCRIPTION:
URL:https://gyularef.hu/event/fiatalok-bibliakore-54/
LOCATION:Kisház\, Petőfi tér 4.\, Gyula\, Békés\, 5700\, Magyarország
CATEGORIES:Fiatalok bibliaköre
ATTACH;FMTTYPE=image/jpeg:https://gyularef.hu/wp-content/uploads/2016/08/ofi.jpg
END:VEVENT
END:VCALENDAR