BEGIN:VCALENDAR
VERSION:2.0
PRODID:-//Gyulai Református Egyházközség - ECPv6.11.2.1//NONSGML v1.0//EN
CALSCALE:GREGORIAN
METHOD:PUBLISH
X-ORIGINAL-URL:https://gyularef.hu
X-WR-CALDESC:Events for Gyulai Református Egyházközség
REFRESH-INTERVAL;VALUE=DURATION:PT1H
X-Robots-Tag:noindex
X-PUBLISHED-TTL:PT1H
BEGIN:VTIMEZONE
TZID:Europe/Budapest
BEGIN:DAYLIGHT
TZOFFSETFROM:+0100
TZOFFSETTO:+0200
TZNAME:CEST
DTSTART:20170326T010000
END:DAYLIGHT
BEGIN:STANDARD
TZOFFSETFROM:+0200
TZOFFSETTO:+0100
TZNAME:CET
DTSTART:20171029T010000
END:STANDARD
END:VTIMEZONE
BEGIN:VEVENT
DTSTART;TZID=Europe/Budapest:20171224T100000
DTEND;TZID=Europe/Budapest:20171224T110000
DTSTAMP:20260421T001149
CREATED:20171218T130746Z
LAST-MODIFIED:20171218T130746Z
UID:2280-1514109600-1514113200@gyularef.hu
SUMMARY:Istentisztelet Advent IV. vasárnapja
DESCRIPTION:
URL:https://gyularef.hu/event/istentisztelet-advent-iv-vasarnapja/
LOCATION:Templom\, Petőfi tér 4.\, Gyula\, Békés\, 5700\, Magyarország
CATEGORIES:Istentisztelet
ATTACH;FMTTYPE=image/jpeg:https://gyularef.hu/wp-content/uploads/2016/08/istentisztelet.jpg
END:VEVENT
BEGIN:VEVENT
DTSTART;TZID=Europe/Budapest:20171224T170000
DTEND;TZID=Europe/Budapest:20171224T180000
DTSTAMP:20260421T001149
CREATED:20171218T130934Z
LAST-MODIFIED:20171218T130934Z
UID:2282-1514134800-1514138400@gyularef.hu
SUMMARY:Szentesti istentisztelet (ünnepi szolgálat)
DESCRIPTION:
URL:https://gyularef.hu/event/szentesti-istentisztelet-unnepi-szolgalat/
LOCATION:Templom\, Petőfi tér 4.\, Gyula\, Békés\, 5700\, Magyarország
CATEGORIES:Istentisztelet
ATTACH;FMTTYPE=image/jpeg:https://gyularef.hu/wp-content/uploads/2017/09/x1-1.jpg
END:VEVENT
END:VCALENDAR