BEGIN:VCALENDAR
VERSION:2.0
PRODID:-//Gyulai Református Egyházközség - ECPv6.11.2.1//NONSGML v1.0//EN
CALSCALE:GREGORIAN
METHOD:PUBLISH
X-ORIGINAL-URL:https://gyularef.hu
X-WR-CALDESC:Events for Gyulai Református Egyházközség
REFRESH-INTERVAL;VALUE=DURATION:PT1H
X-Robots-Tag:noindex
X-PUBLISHED-TTL:PT1H
BEGIN:VTIMEZONE
TZID:Europe/Budapest
BEGIN:DAYLIGHT
TZOFFSETFROM:+0100
TZOFFSETTO:+0200
TZNAME:CEST
DTSTART:20180325T010000
END:DAYLIGHT
BEGIN:STANDARD
TZOFFSETFROM:+0200
TZOFFSETTO:+0100
TZNAME:CET
DTSTART:20181028T010000
END:STANDARD
END:VTIMEZONE
BEGIN:VEVENT
DTSTART;TZID=Europe/Budapest:20180128T093000
DTEND;TZID=Europe/Budapest:20180128T095000
DTSTAMP:20260420T224529
CREATED:20180123T080816Z
LAST-MODIFIED:20180123T080816Z
UID:2413-1517131800-1517133000@gyularef.hu
SUMMARY:Imaközösség
DESCRIPTION:
URL:https://gyularef.hu/event/imakozosseg-57/
LOCATION:Gyülekezeti kisterem\, Petőfi tér 4.\, Gyula\, Békés\, 5700\, Magyarország
CATEGORIES:Imaközösség
ATTACH;FMTTYPE=image/jpeg:https://gyularef.hu/wp-content/uploads/2016/09/imakozosseg.jpg
END:VEVENT
BEGIN:VEVENT
DTSTART;TZID=Europe/Budapest:20180128T100000
DTEND;TZID=Europe/Budapest:20180128T110000
DTSTAMP:20260420T224529
CREATED:20180123T080905Z
LAST-MODIFIED:20180123T080905Z
UID:2415-1517133600-1517137200@gyularef.hu
SUMMARY:Úrvacsorás istentisztelet
DESCRIPTION:
URL:https://gyularef.hu/event/urvacsoras-istentisztelet-6/
LOCATION:Templom\, Petőfi tér 4.\, Gyula\, Békés\, 5700\, Magyarország
CATEGORIES:Úrvacsorás istentisztelet
ATTACH;FMTTYPE=image/jpeg:https://gyularef.hu/wp-content/uploads/2016/09/urvacsora.jpg
END:VEVENT
BEGIN:VEVENT
DTSTART;TZID=Europe/Budapest:20180128T170000
DTEND;TZID=Europe/Budapest:20180128T180000
DTSTAMP:20260420T224529
CREATED:20180123T075829Z
LAST-MODIFIED:20180123T075829Z
UID:2403-1517158800-1517162400@gyularef.hu
SUMMARY:Ökumenikus istentisztelet (v)
DESCRIPTION:
URL:https://gyularef.hu/event/okumenikus-istentisztelet-v/
LOCATION:Evangélikus templom
CATEGORIES:Istentisztelet
ATTACH;FMTTYPE=image/jpeg:https://gyularef.hu/wp-content/uploads/2018/01/okumenikus_plakat2018_1024.jpg
END:VEVENT
END:VCALENDAR