BEGIN:VCALENDAR
VERSION:2.0
PRODID:-//Gyulai Református Egyházközség - ECPv6.11.2.1//NONSGML v1.0//EN
CALSCALE:GREGORIAN
METHOD:PUBLISH
X-ORIGINAL-URL:https://gyularef.hu
X-WR-CALDESC:Events for Gyulai Református Egyházközség
REFRESH-INTERVAL;VALUE=DURATION:PT1H
X-Robots-Tag:noindex
X-PUBLISHED-TTL:PT1H
BEGIN:VTIMEZONE
TZID:Europe/Budapest
BEGIN:DAYLIGHT
TZOFFSETFROM:+0100
TZOFFSETTO:+0200
TZNAME:CEST
DTSTART:20180325T010000
END:DAYLIGHT
BEGIN:STANDARD
TZOFFSETFROM:+0200
TZOFFSETTO:+0100
TZNAME:CET
DTSTART:20181028T010000
END:STANDARD
END:VTIMEZONE
BEGIN:VEVENT
DTSTART;TZID=Europe/Budapest:20180816T100000
DTEND;TZID=Europe/Budapest:20180816T110000
DTSTAMP:20260419T164557
CREATED:20180815T152044Z
LAST-MODIFIED:20180815T152044Z
UID:3855-1534413600-1534417200@gyularef.hu
SUMMARY:Baba-mama kör
DESCRIPTION:
URL:https://gyularef.hu/event/baba-mama-kor-64/
LOCATION:Kisház\, Petőfi tér 4.\, Gyula\, Békés\, 5700\, Magyarország
CATEGORIES:Baba-mama kör
ATTACH;FMTTYPE=image/jpeg:https://gyularef.hu/wp-content/uploads/2016/09/baba_mama.jpg
END:VEVENT
BEGIN:VEVENT
DTSTART;TZID=Europe/Budapest:20180816T180000
DTEND;TZID=Europe/Budapest:20180816T190000
DTSTAMP:20260419T164557
CREATED:20180815T152205Z
LAST-MODIFIED:20180815T152205Z
UID:3857-1534442400-1534446000@gyularef.hu
SUMMARY:Bűnbánati istentisztelet
DESCRIPTION:
URL:https://gyularef.hu/event/bunbanati-istentisztelet-26/
LOCATION:Templom\, Petőfi tér 4.\, Gyula\, Békés\, 5700\, Magyarország
CATEGORIES:Bűnbánati istentisztelet
ATTACH;FMTTYPE=image/jpeg:https://gyularef.hu/wp-content/uploads/2016/08/templomunk.jpg
END:VEVENT
BEGIN:VEVENT
DTSTART;TZID=Europe/Budapest:20180816T190000
DTEND;TZID=Europe/Budapest:20180816T210000
DTSTAMP:20260419T164557
CREATED:20180815T152446Z
LAST-MODIFIED:20180815T152750Z
UID:3859-1534446000-1534453200@gyularef.hu
SUMMARY:Gyülekezeti sport
DESCRIPTION:
URL:https://gyularef.hu/event/gyulekezeti-sport-13/
LOCATION:Templomkert
CATEGORIES:Gyülekezeti sport
ATTACH;FMTTYPE=image/jpeg:https://gyularef.hu/wp-content/uploads/2018/05/sport.jpg
END:VEVENT
END:VCALENDAR