BEGIN:VCALENDAR
VERSION:2.0
PRODID:-//Gyulai Református Egyházközség - ECPv6.11.2.1//NONSGML v1.0//EN
CALSCALE:GREGORIAN
METHOD:PUBLISH
X-WR-CALNAME:Gyulai Református Egyházközség
X-ORIGINAL-URL:https://gyularef.hu
X-WR-CALDESC:Events for Gyulai Református Egyházközség
REFRESH-INTERVAL;VALUE=DURATION:PT1H
X-Robots-Tag:noindex
X-PUBLISHED-TTL:PT1H
BEGIN:VTIMEZONE
TZID:Europe/Budapest
BEGIN:DAYLIGHT
TZOFFSETFROM:+0100
TZOFFSETTO:+0200
TZNAME:CEST
DTSTART:20180325T010000
END:DAYLIGHT
BEGIN:STANDARD
TZOFFSETFROM:+0200
TZOFFSETTO:+0100
TZNAME:CET
DTSTART:20181028T010000
END:STANDARD
END:VTIMEZONE
BEGIN:VEVENT
DTSTART;TZID=Europe/Budapest:20181126T180000
DTEND;TZID=Europe/Budapest:20181126T190000
DTSTAMP:20260420T123858
CREATED:20181125T132400Z
LAST-MODIFIED:20181125T132400Z
UID:4634-1543255200-1543258800@gyularef.hu
SUMMARY:Bűnbánati istentisztelet
DESCRIPTION:
URL:https://gyularef.hu/event/bunbanati-istentisztelet-33/
LOCATION:Magvető Ref. Ált. Isk. ebédlője\, Kálvin utca\, Gyula\, 5700\, Magyarország
CATEGORIES:Bűnbánati istentisztelet
ATTACH;FMTTYPE=image/jpeg:https://gyularef.hu/wp-content/uploads/2016/09/bibliaora.jpg
END:VEVENT
BEGIN:VEVENT
DTSTART;TZID=Europe/Budapest:20181127T180000
DTEND;TZID=Europe/Budapest:20181127T190000
DTSTAMP:20260420T123858
CREATED:20181125T132641Z
LAST-MODIFIED:20181125T132641Z
UID:4636-1543341600-1543345200@gyularef.hu
SUMMARY:Bűnbánati istentisztelet
DESCRIPTION:
URL:https://gyularef.hu/event/bunbanati-istentisztelet-34/
LOCATION:Magvető Ref. Ált. Isk. ebédlője\, Kálvin utca\, Gyula\, 5700\, Magyarország
CATEGORIES:Bűnbánati istentisztelet
ATTACH;FMTTYPE=image/jpeg:https://gyularef.hu/wp-content/uploads/2016/09/bibliaora.jpg
END:VEVENT
BEGIN:VEVENT
DTSTART;TZID=Europe/Budapest:20181128T180000
DTEND;TZID=Europe/Budapest:20181128T190000
DTSTAMP:20260420T123858
CREATED:20181125T132840Z
LAST-MODIFIED:20181125T132840Z
UID:4638-1543428000-1543431600@gyularef.hu
SUMMARY:Bűnbánati istentisztelet
DESCRIPTION:
URL:https://gyularef.hu/event/bunbanati-istentisztelet-35/
LOCATION:Magvető Ref. Ált. Isk. ebédlője\, Kálvin utca\, Gyula\, 5700\, Magyarország
CATEGORIES:Bűnbánati istentisztelet
ATTACH;FMTTYPE=image/jpeg:https://gyularef.hu/wp-content/uploads/2016/09/bibliaora.jpg
END:VEVENT
BEGIN:VEVENT
DTSTART;TZID=Europe/Budapest:20181129T180000
DTEND;TZID=Europe/Budapest:20181129T190000
DTSTAMP:20260420T123858
CREATED:20181125T133738Z
LAST-MODIFIED:20181125T133738Z
UID:4642-1543514400-1543518000@gyularef.hu
SUMMARY:Bűnbánati istentisztelet
DESCRIPTION:
URL:https://gyularef.hu/event/bunbanati-istentisztelet-36/
LOCATION:Magvető Ref. Ált. Isk. ebédlője\, Kálvin utca\, Gyula\, 5700\, Magyarország
CATEGORIES:Bűnbánati istentisztelet
ATTACH;FMTTYPE=image/jpeg:https://gyularef.hu/wp-content/uploads/2016/09/bibliaora.jpg
END:VEVENT
BEGIN:VEVENT
DTSTART;TZID=Europe/Budapest:20181130T180000
DTEND;TZID=Europe/Budapest:20181130T190000
DTSTAMP:20260420T123858
CREATED:20181125T133842Z
LAST-MODIFIED:20181125T133842Z
UID:4644-1543600800-1543604400@gyularef.hu
SUMMARY:Bűnbánati istentisztelet
DESCRIPTION:
URL:https://gyularef.hu/event/bunbanati-istentisztelet-37/
LOCATION:Magvető Ref. Ált. Isk. ebédlője\, Kálvin utca\, Gyula\, 5700\, Magyarország
CATEGORIES:Bűnbánati istentisztelet
ATTACH;FMTTYPE=image/jpeg:https://gyularef.hu/wp-content/uploads/2016/09/bibliaora.jpg
END:VEVENT
END:VCALENDAR