BEGIN:VCALENDAR
VERSION:2.0
PRODID:-//Gyulai Református Egyházközség - ECPv6.11.2.1//NONSGML v1.0//EN
CALSCALE:GREGORIAN
METHOD:PUBLISH
X-ORIGINAL-URL:https://gyularef.hu
X-WR-CALDESC:Events for Gyulai Református Egyházközség
REFRESH-INTERVAL;VALUE=DURATION:PT1H
X-Robots-Tag:noindex
X-PUBLISHED-TTL:PT1H
BEGIN:VTIMEZONE
TZID:Europe/Budapest
BEGIN:DAYLIGHT
TZOFFSETFROM:+0100
TZOFFSETTO:+0200
TZNAME:CEST
DTSTART:20180325T010000
END:DAYLIGHT
BEGIN:STANDARD
TZOFFSETFROM:+0200
TZOFFSETTO:+0100
TZNAME:CET
DTSTART:20181028T010000
END:STANDARD
BEGIN:DAYLIGHT
TZOFFSETFROM:+0100
TZOFFSETTO:+0200
TZNAME:CEST
DTSTART:20190331T010000
END:DAYLIGHT
BEGIN:STANDARD
TZOFFSETFROM:+0200
TZOFFSETTO:+0100
TZNAME:CET
DTSTART:20191027T010000
END:STANDARD
END:VTIMEZONE
BEGIN:VEVENT
DTSTART;TZID=Europe/Budapest:20180815T180000
DTEND;TZID=Europe/Budapest:20180815T190000
DTSTAMP:20260423T001439
CREATED:20180815T151850Z
LAST-MODIFIED:20180815T152303Z
UID:3853-1534356000-1534359600@gyularef.hu
SUMMARY:Bűnbánati istentisztelet
DESCRIPTION:
URL:https://gyularef.hu/event/bunbanati-istentisztelet-25/
LOCATION:Templom\, Petőfi tér 4.\, Gyula\, Békés\, 5700\, Magyarország
CATEGORIES:Bűnbánati istentisztelet
ATTACH;FMTTYPE=image/jpeg:https://gyularef.hu/wp-content/uploads/2016/08/templomunk.jpg
END:VEVENT
BEGIN:VEVENT
DTSTART;TZID=Europe/Budapest:20180816T180000
DTEND;TZID=Europe/Budapest:20180816T190000
DTSTAMP:20260423T001439
CREATED:20180815T152205Z
LAST-MODIFIED:20180815T152205Z
UID:3857-1534442400-1534446000@gyularef.hu
SUMMARY:Bűnbánati istentisztelet
DESCRIPTION:
URL:https://gyularef.hu/event/bunbanati-istentisztelet-26/
LOCATION:Templom\, Petőfi tér 4.\, Gyula\, Békés\, 5700\, Magyarország
CATEGORIES:Bűnbánati istentisztelet
ATTACH;FMTTYPE=image/jpeg:https://gyularef.hu/wp-content/uploads/2016/08/templomunk.jpg
END:VEVENT
BEGIN:VEVENT
DTSTART;TZID=Europe/Budapest:20180817T180000
DTEND;TZID=Europe/Budapest:20180817T190000
DTSTAMP:20260423T001439
CREATED:20180815T153019Z
LAST-MODIFIED:20180815T153019Z
UID:3863-1534528800-1534532400@gyularef.hu
SUMMARY:Bűnbánati istentisztelet
DESCRIPTION:
URL:https://gyularef.hu/event/bunbanati-istentisztelet-27/
LOCATION:Templom\, Petőfi tér 4.\, Gyula\, Békés\, 5700\, Magyarország
CATEGORIES:Bűnbánati istentisztelet
ATTACH;FMTTYPE=image/jpeg:https://gyularef.hu/wp-content/uploads/2016/08/templomunk.jpg
END:VEVENT
BEGIN:VEVENT
DTSTART;TZID=Europe/Budapest:20181022T180000
DTEND;TZID=Europe/Budapest:20181022T190000
DTSTAMP:20260423T001439
CREATED:20181021T155739Z
LAST-MODIFIED:20181021T155739Z
UID:4235-1540231200-1540234800@gyularef.hu
SUMMARY:Bűnbánati istentisztelet
DESCRIPTION:
URL:https://gyularef.hu/event/bunbanati-istentisztelet-28/
LOCATION:Magvető Ref. Ált. Isk. ebédlője\, Kálvin utca\, Gyula\, 5700\, Magyarország
CATEGORIES:Bűnbánati istentisztelet
ATTACH;FMTTYPE=image/jpeg:https://gyularef.hu/wp-content/uploads/2018/10/bűnbánat.jpg
END:VEVENT
BEGIN:VEVENT
DTSTART;TZID=Europe/Budapest:20181023T180000
DTEND;TZID=Europe/Budapest:20181023T190000
DTSTAMP:20260423T001439
CREATED:20181021T160031Z
LAST-MODIFIED:20181021T160031Z
UID:4240-1540317600-1540321200@gyularef.hu
SUMMARY:Bűnbánati istentisztelet
DESCRIPTION:
URL:https://gyularef.hu/event/bunbanati-istentisztelet-29/
LOCATION:Magvető Ref. Ált. Isk. ebédlője\, Kálvin utca\, Gyula\, 5700\, Magyarország
CATEGORIES:Bűnbánati istentisztelet
ATTACH;FMTTYPE=image/jpeg:https://gyularef.hu/wp-content/uploads/2018/10/bűnbánat.jpg
END:VEVENT
BEGIN:VEVENT
DTSTART;TZID=Europe/Budapest:20181024T180000
DTEND;TZID=Europe/Budapest:20181024T190000
DTSTAMP:20260423T001439
CREATED:20181021T160205Z
LAST-MODIFIED:20181021T160205Z
UID:4242-1540404000-1540407600@gyularef.hu
SUMMARY:Bűnbánati istentisztelet
DESCRIPTION:
URL:https://gyularef.hu/event/bunbanati-istentisztelet-30/
LOCATION:Magvető Ref. Ált. Isk. ebédlője\, Kálvin utca\, Gyula\, 5700\, Magyarország
CATEGORIES:Bűnbánati istentisztelet
ATTACH;FMTTYPE=image/jpeg:https://gyularef.hu/wp-content/uploads/2018/10/bűnbánat.jpg
END:VEVENT
BEGIN:VEVENT
DTSTART;TZID=Europe/Budapest:20181025T180000
DTEND;TZID=Europe/Budapest:20181025T190000
DTSTAMP:20260423T001439
CREATED:20181021T160509Z
LAST-MODIFIED:20181021T160509Z
UID:4246-1540490400-1540494000@gyularef.hu
SUMMARY:Bűnbánati istentisztelet
DESCRIPTION:
URL:https://gyularef.hu/event/bunbanati-istentisztelet-31/
LOCATION:Magvető Ref. Ált. Isk. ebédlője\, Kálvin utca\, Gyula\, 5700\, Magyarország
CATEGORIES:Bűnbánati istentisztelet
ATTACH;FMTTYPE=image/jpeg:https://gyularef.hu/wp-content/uploads/2018/10/bűnbánat.jpg
END:VEVENT
BEGIN:VEVENT
DTSTART;TZID=Europe/Budapest:20181026T180000
DTEND;TZID=Europe/Budapest:20181026T190000
DTSTAMP:20260423T001439
CREATED:20181021T160948Z
LAST-MODIFIED:20181021T160948Z
UID:4252-1540576800-1540580400@gyularef.hu
SUMMARY:Bűnbánati istentisztelet
DESCRIPTION:
URL:https://gyularef.hu/event/bunbanati-istentisztelet-32/
LOCATION:Magvető Ref. Ált. Isk. ebédlője\, Kálvin utca\, Gyula\, 5700\, Magyarország
CATEGORIES:Bűnbánati istentisztelet
ATTACH;FMTTYPE=image/jpeg:https://gyularef.hu/wp-content/uploads/2018/10/bűnbánat.jpg
END:VEVENT
BEGIN:VEVENT
DTSTART;TZID=Europe/Budapest:20181126T180000
DTEND;TZID=Europe/Budapest:20181126T190000
DTSTAMP:20260423T001439
CREATED:20181125T132400Z
LAST-MODIFIED:20181125T132400Z
UID:4634-1543255200-1543258800@gyularef.hu
SUMMARY:Bűnbánati istentisztelet
DESCRIPTION:
URL:https://gyularef.hu/event/bunbanati-istentisztelet-33/
LOCATION:Magvető Ref. Ált. Isk. ebédlője\, Kálvin utca\, Gyula\, 5700\, Magyarország
CATEGORIES:Bűnbánati istentisztelet
ATTACH;FMTTYPE=image/jpeg:https://gyularef.hu/wp-content/uploads/2016/09/bibliaora.jpg
END:VEVENT
BEGIN:VEVENT
DTSTART;TZID=Europe/Budapest:20181127T180000
DTEND;TZID=Europe/Budapest:20181127T190000
DTSTAMP:20260423T001439
CREATED:20181125T132641Z
LAST-MODIFIED:20181125T132641Z
UID:4636-1543341600-1543345200@gyularef.hu
SUMMARY:Bűnbánati istentisztelet
DESCRIPTION:
URL:https://gyularef.hu/event/bunbanati-istentisztelet-34/
LOCATION:Magvető Ref. Ált. Isk. ebédlője\, Kálvin utca\, Gyula\, 5700\, Magyarország
CATEGORIES:Bűnbánati istentisztelet
ATTACH;FMTTYPE=image/jpeg:https://gyularef.hu/wp-content/uploads/2016/09/bibliaora.jpg
END:VEVENT
BEGIN:VEVENT
DTSTART;TZID=Europe/Budapest:20181128T180000
DTEND;TZID=Europe/Budapest:20181128T190000
DTSTAMP:20260423T001439
CREATED:20181125T132840Z
LAST-MODIFIED:20181125T132840Z
UID:4638-1543428000-1543431600@gyularef.hu
SUMMARY:Bűnbánati istentisztelet
DESCRIPTION:
URL:https://gyularef.hu/event/bunbanati-istentisztelet-35/
LOCATION:Magvető Ref. Ált. Isk. ebédlője\, Kálvin utca\, Gyula\, 5700\, Magyarország
CATEGORIES:Bűnbánati istentisztelet
ATTACH;FMTTYPE=image/jpeg:https://gyularef.hu/wp-content/uploads/2016/09/bibliaora.jpg
END:VEVENT
BEGIN:VEVENT
DTSTART;TZID=Europe/Budapest:20181129T180000
DTEND;TZID=Europe/Budapest:20181129T190000
DTSTAMP:20260423T001439
CREATED:20181125T133738Z
LAST-MODIFIED:20181125T133738Z
UID:4642-1543514400-1543518000@gyularef.hu
SUMMARY:Bűnbánati istentisztelet
DESCRIPTION:
URL:https://gyularef.hu/event/bunbanati-istentisztelet-36/
LOCATION:Magvető Ref. Ált. Isk. ebédlője\, Kálvin utca\, Gyula\, 5700\, Magyarország
CATEGORIES:Bűnbánati istentisztelet
ATTACH;FMTTYPE=image/jpeg:https://gyularef.hu/wp-content/uploads/2016/09/bibliaora.jpg
END:VEVENT
BEGIN:VEVENT
DTSTART;TZID=Europe/Budapest:20181130T180000
DTEND;TZID=Europe/Budapest:20181130T190000
DTSTAMP:20260423T001439
CREATED:20181125T133842Z
LAST-MODIFIED:20181125T133842Z
UID:4644-1543600800-1543604400@gyularef.hu
SUMMARY:Bűnbánati istentisztelet
DESCRIPTION:
URL:https://gyularef.hu/event/bunbanati-istentisztelet-37/
LOCATION:Magvető Ref. Ált. Isk. ebédlője\, Kálvin utca\, Gyula\, 5700\, Magyarország
CATEGORIES:Bűnbánati istentisztelet
ATTACH;FMTTYPE=image/jpeg:https://gyularef.hu/wp-content/uploads/2016/09/bibliaora.jpg
END:VEVENT
BEGIN:VEVENT
DTSTART;TZID=Europe/Budapest:20181219T180000
DTEND;TZID=Europe/Budapest:20181219T190000
DTSTAMP:20260423T001439
CREATED:20181216T130551Z
LAST-MODIFIED:20181216T130551Z
UID:4747-1545242400-1545246000@gyularef.hu
SUMMARY:Bűnbánati Istentisztelet
DESCRIPTION:
URL:https://gyularef.hu/event/bunbanati-istentisztelet-38/
LOCATION:Gyülekezeti kisterem\, Petőfi tér 4.\, Gyula\, Békés\, 5700\, Magyarország
CATEGORIES:Bűnbánati istentisztelet
ATTACH;FMTTYPE=image/jpeg:https://gyularef.hu/wp-content/uploads/2017/10/biblia-.jpg
END:VEVENT
BEGIN:VEVENT
DTSTART;TZID=Europe/Budapest:20181220T180000
DTEND;TZID=Europe/Budapest:20181220T193000
DTSTAMP:20260423T001439
CREATED:20181216T132447Z
LAST-MODIFIED:20181216T132447Z
UID:4753-1545328800-1545334200@gyularef.hu
SUMMARY:Bűnbánati Istentisztelet
DESCRIPTION:
URL:https://gyularef.hu/event/bunbanati-istentisztelet-40/
LOCATION:Gyülekezeti kisterem\, Petőfi tér 4.\, Gyula\, Békés\, 5700\, Magyarország
CATEGORIES:Bűnbánati istentisztelet
ATTACH;FMTTYPE=image/jpeg:https://gyularef.hu/wp-content/uploads/2017/11/biblia-.jpg
END:VEVENT
BEGIN:VEVENT
DTSTART;TZID=Europe/Budapest:20181221T180000
DTEND;TZID=Europe/Budapest:20181221T190000
DTSTAMP:20260423T001440
CREATED:20181216T132148Z
LAST-MODIFIED:20181216T132148Z
UID:4751-1545415200-1545418800@gyularef.hu
SUMMARY:Bűnbánati Istentisztelet
DESCRIPTION:
URL:https://gyularef.hu/event/bunbanati-istentisztelet-39/
LOCATION:Gyülekezeti kisterem\, Petőfi tér 4.\, Gyula\, Békés\, 5700\, Magyarország
CATEGORIES:Bűnbánati istentisztelet
ATTACH;FMTTYPE=image/jpeg:https://gyularef.hu/wp-content/uploads/2017/11/biblia-.jpg
END:VEVENT
BEGIN:VEVENT
DTSTART;TZID=Europe/Budapest:20181223T170000
DTEND;TZID=Europe/Budapest:20181223T180000
DTSTAMP:20260423T001440
CREATED:20181216T133926Z
LAST-MODIFIED:20181216T133926Z
UID:4761-1545584400-1545588000@gyularef.hu
SUMMARY:Bűnbánati Istentisztelet
DESCRIPTION:
URL:https://gyularef.hu/event/bunbanati-istentisztelet-42/
LOCATION:Gyülekezeti kisterem\, Petőfi tér 4.\, Gyula\, Békés\, 5700\, Magyarország
CATEGORIES:Bűnbánati istentisztelet
ATTACH;FMTTYPE=image/jpeg:https://gyularef.hu/wp-content/uploads/2017/11/biblia-.jpg
END:VEVENT
BEGIN:VEVENT
DTSTART;TZID=Europe/Budapest:20190311T180000
DTEND;TZID=Europe/Budapest:20190311T190000
DTSTAMP:20260423T001440
CREATED:20190310T140726Z
LAST-MODIFIED:20190310T140726Z
UID:5276-1552327200-1552330800@gyularef.hu
SUMMARY:Bűnbánati istentisztelet
DESCRIPTION:
URL:https://gyularef.hu/event/bunbanati-istentisztelet-43/
LOCATION:Gyülekezeti kisterem\, Petőfi tér 4.\, Gyula\, Békés\, 5700\, Magyarország
CATEGORIES:Bűnbánati istentisztelet
ATTACH;FMTTYPE=image/jpeg:https://gyularef.hu/wp-content/uploads/2017/10/biblia-.jpg
END:VEVENT
BEGIN:VEVENT
DTSTART;TZID=Europe/Budapest:20190312T180000
DTEND;TZID=Europe/Budapest:20190312T190000
DTSTAMP:20260423T001440
CREATED:20190310T140846Z
LAST-MODIFIED:20190310T140846Z
UID:5278-1552413600-1552417200@gyularef.hu
SUMMARY:Bűnbánati istentisztelet
DESCRIPTION:
URL:https://gyularef.hu/event/bunbanati-istentisztelet-44/
LOCATION:Gyülekezeti kisterem\, Petőfi tér 4.\, Gyula\, Békés\, 5700\, Magyarország
CATEGORIES:Bűnbánati istentisztelet
ATTACH;FMTTYPE=image/jpeg:https://gyularef.hu/wp-content/uploads/2017/11/biblia-.jpg
END:VEVENT
BEGIN:VEVENT
DTSTART;TZID=Europe/Budapest:20190313T180000
DTEND;TZID=Europe/Budapest:20190313T190000
DTSTAMP:20260423T001440
CREATED:20190310T141119Z
LAST-MODIFIED:20190310T141119Z
UID:5282-1552500000-1552503600@gyularef.hu
SUMMARY:Bűnbánati istentisztelet
DESCRIPTION:
URL:https://gyularef.hu/event/bunbanati-istentisztelet-45/
LOCATION:Gyülekezeti kisterem\, Petőfi tér 4.\, Gyula\, Békés\, 5700\, Magyarország
CATEGORIES:Bűnbánati istentisztelet
ATTACH;FMTTYPE=image/jpeg:https://gyularef.hu/wp-content/uploads/2017/11/biblia-.jpg
END:VEVENT
BEGIN:VEVENT
DTSTART;TZID=Europe/Budapest:20190314T180000
DTEND;TZID=Europe/Budapest:20190314T190000
DTSTAMP:20260423T001440
CREATED:20190310T141349Z
LAST-MODIFIED:20190310T141349Z
UID:5286-1552586400-1552590000@gyularef.hu
SUMMARY:Bűnbánati istentisztelet
DESCRIPTION:
URL:https://gyularef.hu/event/bunbanati-istentisztelet-46/
LOCATION:Gyülekezeti kisterem\, Petőfi tér 4.\, Gyula\, Békés\, 5700\, Magyarország
CATEGORIES:Bűnbánati istentisztelet
ATTACH;FMTTYPE=image/jpeg:https://gyularef.hu/wp-content/uploads/2017/11/biblia-.jpg
END:VEVENT
BEGIN:VEVENT
DTSTART;TZID=Europe/Budapest:20190415T180000
DTEND;TZID=Europe/Budapest:20190415T190000
DTSTAMP:20260423T001440
CREATED:20190414T120100Z
LAST-MODIFIED:20190414T120100Z
UID:5485-1555351200-1555354800@gyularef.hu
SUMMARY:Bűnbánati istentisztelet
DESCRIPTION:
URL:https://gyularef.hu/event/bunbanati-istentisztelet-47/
LOCATION:Magvető Ref. Ált. Isk. ebédlője\, Kálvin utca\, Gyula\, 5700\, Magyarország
CATEGORIES:Bűnbánati istentisztelet
ATTACH;FMTTYPE=image/jpeg:https://gyularef.hu/wp-content/uploads/2017/11/biblia-.jpg
END:VEVENT
BEGIN:VEVENT
DTSTART;TZID=Europe/Budapest:20190416T180000
DTEND;TZID=Europe/Budapest:20190416T190000
DTSTAMP:20260423T001440
CREATED:20190414T150626Z
LAST-MODIFIED:20190414T150626Z
UID:5504-1555437600-1555441200@gyularef.hu
SUMMARY:Bűnbánati istentisztelet
DESCRIPTION:
URL:https://gyularef.hu/event/bunbanati-istentisztelet-48/
LOCATION:Magvető Ref. Ált. Isk. ebédlője\, Kálvin utca\, Gyula\, 5700\, Magyarország
CATEGORIES:Bűnbánati istentisztelet
ATTACH;FMTTYPE=image/jpeg:https://gyularef.hu/wp-content/uploads/2017/10/biblia-.jpg
END:VEVENT
BEGIN:VEVENT
DTSTART;TZID=Europe/Budapest:20190417T180000
DTEND;TZID=Europe/Budapest:20190417T190000
DTSTAMP:20260423T001440
CREATED:20190414T150719Z
LAST-MODIFIED:20190414T150719Z
UID:5506-1555524000-1555527600@gyularef.hu
SUMMARY:Bűnbánati istentisztelet
DESCRIPTION:
URL:https://gyularef.hu/event/bunbanati-istentisztelet-49/
LOCATION:Magvető Ref. Ált. Isk. ebédlője\, Kálvin utca\, Gyula\, 5700\, Magyarország
CATEGORIES:Bűnbánati istentisztelet
ATTACH;FMTTYPE=image/jpeg:https://gyularef.hu/wp-content/uploads/2017/10/biblia-.jpg
END:VEVENT
BEGIN:VEVENT
DTSTART;TZID=Europe/Budapest:20190418T180000
DTEND;TZID=Europe/Budapest:20190418T190000
DTSTAMP:20260423T001440
CREATED:20190414T150929Z
LAST-MODIFIED:20190414T150929Z
UID:5510-1555610400-1555614000@gyularef.hu
SUMMARY:Bűnbánati istentisztelet
DESCRIPTION:
URL:https://gyularef.hu/event/bunbanati-istentisztelet-50/
LOCATION:Magvető Ref. Ált. Isk. ebédlője\, Kálvin utca\, Gyula\, 5700\, Magyarország
CATEGORIES:Bűnbánati istentisztelet
ATTACH;FMTTYPE=image/jpeg:https://gyularef.hu/wp-content/uploads/2017/11/biblia-.jpg
END:VEVENT
BEGIN:VEVENT
DTSTART;TZID=Europe/Budapest:20190603T180000
DTEND;TZID=Europe/Budapest:20190603T190000
DTSTAMP:20260423T001440
CREATED:20190602T142209Z
LAST-MODIFIED:20190602T142209Z
UID:5810-1559584800-1559588400@gyularef.hu
SUMMARY:Bűnbánati istentisztelet
DESCRIPTION:
URL:https://gyularef.hu/event/bunbanati-istentisztelet-51/
LOCATION:Kálvin utcai gyülekezeti ház\, Kálvin u. 4.\, Gyula\, Békés\, 5700\, Magyarország
CATEGORIES:Bűnbánati istentisztelet
ATTACH;FMTTYPE=image/jpeg:https://gyularef.hu/wp-content/uploads/2016/09/bibliaora_sz.jpg
END:VEVENT
BEGIN:VEVENT
DTSTART;TZID=Europe/Budapest:20190604T180000
DTEND;TZID=Europe/Budapest:20190604T190000
DTSTAMP:20260423T001440
CREATED:20190602T142523Z
LAST-MODIFIED:20190602T142523Z
UID:5812-1559671200-1559674800@gyularef.hu
SUMMARY:Bűnbánati istentisztelet
DESCRIPTION:
URL:https://gyularef.hu/event/bunbanati-istentisztelet-52/
LOCATION:Kálvin utcai gyülekezeti ház\, Kálvin u. 4.\, Gyula\, Békés\, 5700\, Magyarország
CATEGORIES:Bűnbánati istentisztelet
ATTACH;FMTTYPE=image/jpeg:https://gyularef.hu/wp-content/uploads/2016/09/bibliaora_sz.jpg
END:VEVENT
BEGIN:VEVENT
DTSTART;TZID=Europe/Budapest:20190605T180000
DTEND;TZID=Europe/Budapest:20190605T190000
DTSTAMP:20260423T001440
CREATED:20190602T142627Z
LAST-MODIFIED:20190602T142627Z
UID:5814-1559757600-1559761200@gyularef.hu
SUMMARY:Bűnbánati istentisztelet
DESCRIPTION:
URL:https://gyularef.hu/event/bunbanati-istentisztelet-53/
LOCATION:Kálvin utcai gyülekezeti ház\, Kálvin u. 4.\, Gyula\, Békés\, 5700\, Magyarország
CATEGORIES:Bűnbánati istentisztelet
ATTACH;FMTTYPE=image/jpeg:https://gyularef.hu/wp-content/uploads/2016/09/bibliaora_sz.jpg
END:VEVENT
BEGIN:VEVENT
DTSTART;TZID=Europe/Budapest:20190606T180000
DTEND;TZID=Europe/Budapest:20190606T190000
DTSTAMP:20260423T001440
CREATED:20190602T142807Z
LAST-MODIFIED:20190602T142807Z
UID:5816-1559844000-1559847600@gyularef.hu
SUMMARY:Bűnbánati istentisztelet
DESCRIPTION:
URL:https://gyularef.hu/event/bunbanati-istentisztelet-54/
LOCATION:Kálvin utcai gyülekezeti ház\, Kálvin u. 4.\, Gyula\, Békés\, 5700\, Magyarország
CATEGORIES:Bűnbánati istentisztelet
ATTACH;FMTTYPE=image/jpeg:https://gyularef.hu/wp-content/uploads/2016/09/bibliaora_sz.jpg
END:VEVENT
BEGIN:VEVENT
DTSTART;TZID=Europe/Budapest:20190607T180000
DTEND;TZID=Europe/Budapest:20190607T190000
DTSTAMP:20260423T001440
CREATED:20190602T142911Z
LAST-MODIFIED:20190602T142911Z
UID:5818-1559930400-1559934000@gyularef.hu
SUMMARY:Bűnbánati istentisztelet
DESCRIPTION:
URL:https://gyularef.hu/event/bunbanati-istentisztelet-55/
LOCATION:Kálvin utcai gyülekezeti ház\, Kálvin u. 4.\, Gyula\, Békés\, 5700\, Magyarország
CATEGORIES:Bűnbánati istentisztelet
ATTACH;FMTTYPE=image/jpeg:https://gyularef.hu/wp-content/uploads/2016/09/bibliaora_sz.jpg
END:VEVENT
END:VCALENDAR