BEGIN:VCALENDAR
VERSION:2.0
PRODID:-//Gyulai Református Egyházközség - ECPv6.11.2.1//NONSGML v1.0//EN
CALSCALE:GREGORIAN
METHOD:PUBLISH
X-ORIGINAL-URL:https://gyularef.hu
X-WR-CALDESC:Events for Gyulai Református Egyházközség
REFRESH-INTERVAL;VALUE=DURATION:PT1H
X-Robots-Tag:noindex
X-PUBLISHED-TTL:PT1H
BEGIN:VTIMEZONE
TZID:Europe/Budapest
BEGIN:DAYLIGHT
TZOFFSETFROM:+0100
TZOFFSETTO:+0200
TZNAME:CEST
DTSTART:20200329T010000
END:DAYLIGHT
BEGIN:STANDARD
TZOFFSETFROM:+0200
TZOFFSETTO:+0100
TZNAME:CET
DTSTART:20201025T010000
END:STANDARD
BEGIN:DAYLIGHT
TZOFFSETFROM:+0100
TZOFFSETTO:+0200
TZNAME:CEST
DTSTART:20210328T010000
END:DAYLIGHT
BEGIN:STANDARD
TZOFFSETFROM:+0200
TZOFFSETTO:+0100
TZNAME:CET
DTSTART:20211031T010000
END:STANDARD
BEGIN:DAYLIGHT
TZOFFSETFROM:+0100
TZOFFSETTO:+0200
TZNAME:CEST
DTSTART:20220327T010000
END:DAYLIGHT
BEGIN:STANDARD
TZOFFSETFROM:+0200
TZOFFSETTO:+0100
TZNAME:CET
DTSTART:20221030T010000
END:STANDARD
BEGIN:DAYLIGHT
TZOFFSETFROM:+0100
TZOFFSETTO:+0200
TZNAME:CEST
DTSTART:20230326T010000
END:DAYLIGHT
BEGIN:STANDARD
TZOFFSETFROM:+0200
TZOFFSETTO:+0100
TZNAME:CET
DTSTART:20231029T010000
END:STANDARD
BEGIN:DAYLIGHT
TZOFFSETFROM:+0100
TZOFFSETTO:+0200
TZNAME:CEST
DTSTART:20240331T010000
END:DAYLIGHT
BEGIN:STANDARD
TZOFFSETFROM:+0200
TZOFFSETTO:+0100
TZNAME:CET
DTSTART:20241027T010000
END:STANDARD
BEGIN:DAYLIGHT
TZOFFSETFROM:+0100
TZOFFSETTO:+0200
TZNAME:CEST
DTSTART:20250330T010000
END:DAYLIGHT
BEGIN:STANDARD
TZOFFSETFROM:+0200
TZOFFSETTO:+0100
TZNAME:CET
DTSTART:20251026T010000
END:STANDARD
END:VTIMEZONE
BEGIN:VEVENT
DTSTART;TZID=Europe/Budapest:20200527T180000
DTEND;TZID=Europe/Budapest:20200527T190000
DTSTAMP:20260420T093044
CREATED:20200524T130722Z
LAST-MODIFIED:20200524T131458Z
UID:8112-1590602400-1590606000@gyularef.hu
SUMMARY:Bűnbánati istentisztelet - Szerdán
DESCRIPTION:A gyülekezeti házban (az egyházkerületi útmutatás szerint) egyszerre legfeljebb 45 fő tartózkodhat. Érkezési sorrend szerint tudjuk beengedni a testvéreket.A belépés előtt a bejáratoknál kötelező a kézfertőtlenítés.\nAz istentisztelet alatt (az éneklés alatt is) kötelező az orrot és szájat folyamatosan takaró sálat vagy maszkot viselni. Kérjük\, azt mindenki hozzon magával.\nCsak saját\, otthonról hozott énekeskönyv használható.\nKötelező megtartani a védőtávolságot (1\,5 m) a jelenlévők között. A közös háztartásban élők között a védőtávolságot nem kell fenntartani. Az istentisztelet után a kézfogással történő lelkészi köszöntés elmarad.
URL:https://gyularef.hu/event/bunbanati-istentisztelet-68/
LOCATION:Kálvin utcai gyülekezeti ház\, Kálvin u. 4.\, Gyula\, Békés\, 5700\, Magyarország
CATEGORIES:Bűnbánati istentisztelet
ATTACH;FMTTYPE=image/jpeg:https://gyularef.hu/wp-content/uploads/2018/10/bűnbánat.jpg
END:VEVENT
BEGIN:VEVENT
DTSTART;TZID=Europe/Budapest:20200528T180000
DTEND;TZID=Europe/Budapest:20200528T190000
DTSTAMP:20260420T093044
CREATED:20200524T131048Z
LAST-MODIFIED:20200524T131429Z
UID:8114-1590688800-1590692400@gyularef.hu
SUMMARY:Bűnbánati istentisztelet - Csütörtökön
DESCRIPTION:A gyülekezeti házban (az egyházkerületi útmutatás szerint) egyszerre legfeljebb 45 fő tartózkodhat. Érkezési sorrend szerint tudjuk beengedni a testvéreket.A belépés előtt a bejáratoknál kötelező a kézfertőtlenítés.\nAz istentisztelet alatt (az éneklés alatt is) kötelező az orrot és szájat folyamatosan takaró sálat vagy maszkot viselni. Kérjük\, azt mindenki hozzon magával.\nCsak saját\, otthonról hozott énekeskönyv használható.\nKötelező megtartani a védőtávolságot (1\,5 m) a jelenlévők között. A közös háztartásban élők között a védőtávolságot nem kell fenntartani. Az istentisztelet után a kézfogással történő lelkészi köszöntés elmarad.
URL:https://gyularef.hu/event/bunbanati-istentisztelet-69/
LOCATION:Kálvin utcai gyülekezeti ház\, Kálvin u. 4.\, Gyula\, Békés\, 5700\, Magyarország
CATEGORIES:Bűnbánati istentisztelet
ATTACH;FMTTYPE=image/jpeg:https://gyularef.hu/wp-content/uploads/2018/10/bűnbánat.jpg
END:VEVENT
BEGIN:VEVENT
DTSTART;TZID=Europe/Budapest:20200529T180000
DTEND;TZID=Europe/Budapest:20200529T190000
DTSTAMP:20260420T093044
CREATED:20200524T131326Z
LAST-MODIFIED:20200524T131400Z
UID:8116-1590775200-1590778800@gyularef.hu
SUMMARY:Bűnbánati istentisztelet - Pénteken
DESCRIPTION:A gyülekezeti házban (az egyházkerületi útmutatás szerint) egyszerre legfeljebb 45 fő tartózkodhat. Érkezési sorrend szerint tudjuk beengedni a testvéreket.A belépés előtt a bejáratoknál kötelező a kézfertőtlenítés.\nAz istentisztelet alatt (az éneklés alatt is) kötelező az orrot és szájat folyamatosan takaró sálat vagy maszkot viselni. Kérjük\, azt mindenki hozzon magával.\nCsak saját\, otthonról hozott énekeskönyv használható.\nKötelező megtartani a védőtávolságot (1\,5 m) a jelenlévők között. A közös háztartásban élők között a védőtávolságot nem kell fenntartani. Az istentisztelet után a kézfogással történő lelkészi köszöntés elmarad.
URL:https://gyularef.hu/event/bunbanati-istentisztelet-70/
LOCATION:Kálvin utcai gyülekezeti ház\, Kálvin u. 4.\, Gyula\, Békés\, 5700\, Magyarország
CATEGORIES:Bűnbánati istentisztelet
ATTACH;FMTTYPE=image/jpeg:https://gyularef.hu/wp-content/uploads/2018/10/bűnbánat.jpg
END:VEVENT
BEGIN:VEVENT
DTSTART;TZID=Europe/Budapest:20200817T180000
DTEND;TZID=Europe/Budapest:20200817T190000
DTSTAMP:20260420T093044
CREATED:20200816T162649Z
LAST-MODIFIED:20200816T162649Z
UID:8370-1597687200-1597690800@gyularef.hu
SUMMARY:Bűnbánati istentisztelet
DESCRIPTION:
URL:https://gyularef.hu/event/bunbanati-istentisztelet-71/
LOCATION:Templom
CATEGORIES:Bűnbánati istentisztelet
ATTACH;FMTTYPE=image/jpeg:https://gyularef.hu/wp-content/uploads/2018/10/bűnbánat.jpg
END:VEVENT
BEGIN:VEVENT
DTSTART;TZID=Europe/Budapest:20200818T180000
DTEND;TZID=Europe/Budapest:20200818T190000
DTSTAMP:20260420T093044
CREATED:20200816T162739Z
LAST-MODIFIED:20200816T162739Z
UID:8372-1597773600-1597777200@gyularef.hu
SUMMARY:Bűnbánati istentisztelet
DESCRIPTION:
URL:https://gyularef.hu/event/bunbanati-istentisztelet-72/
LOCATION:Templom
CATEGORIES:Bűnbánati istentisztelet
ATTACH;FMTTYPE=image/jpeg:https://gyularef.hu/wp-content/uploads/2019/03/1-imadsad.jpg
END:VEVENT
BEGIN:VEVENT
DTSTART;TZID=Europe/Budapest:20200819T180000
DTEND;TZID=Europe/Budapest:20200819T190000
DTSTAMP:20260420T093044
CREATED:20200816T162850Z
LAST-MODIFIED:20200816T162850Z
UID:8374-1597860000-1597863600@gyularef.hu
SUMMARY:Bűnbánati istentisztelet
DESCRIPTION:
URL:https://gyularef.hu/event/bunbanati-istentisztelet-73/
LOCATION:Templom
CATEGORIES:Bűnbánati istentisztelet
ATTACH;FMTTYPE=image/gif:https://gyularef.hu/wp-content/uploads/2017/06/imadkozo-pap2.gif
END:VEVENT
BEGIN:VEVENT
DTSTART;TZID=Europe/Budapest:20200821T180000
DTEND;TZID=Europe/Budapest:20200821T190000
DTSTAMP:20260420T093044
CREATED:20200816T181351Z
LAST-MODIFIED:20200816T181351Z
UID:8380-1598032800-1598036400@gyularef.hu
SUMMARY:Bűnbánati istentisztelet
DESCRIPTION:
URL:https://gyularef.hu/event/bunbanati-istentisztelet-74/
LOCATION:Templom
CATEGORIES:Bűnbánati istentisztelet
ATTACH;FMTTYPE=image/jpeg:https://gyularef.hu/wp-content/uploads/2020/08/ima_5.jpg
END:VEVENT
BEGIN:VEVENT
DTSTART;TZID=Europe/Budapest:20201028T180000
DTEND;TZID=Europe/Budapest:20201028T190000
DTSTAMP:20260420T093044
CREATED:20201025T122745Z
LAST-MODIFIED:20201025T122745Z
UID:8587-1603908000-1603911600@gyularef.hu
SUMMARY:Bűnbánati istentisztelet\, úrvacsora előkészítő alkalom
DESCRIPTION:
URL:https://gyularef.hu/event/bunbanati-istentisztelet-urvacsora-elokeszito-alkalom/
LOCATION:Kálvin utcai gyülekezeti ház\, Kálvin u. 4.\, Gyula\, Békés\, 5700\, Magyarország
CATEGORIES:Bűnbánati istentisztelet
ATTACH;FMTTYPE=image/jpeg:https://gyularef.hu/wp-content/uploads/2018/10/bűnbánat.jpg
END:VEVENT
BEGIN:VEVENT
DTSTART;TZID=Europe/Budapest:20201029T180000
DTEND;TZID=Europe/Budapest:20201029T190000
DTSTAMP:20260420T093044
CREATED:20201025T122837Z
LAST-MODIFIED:20201025T122837Z
UID:8589-1603994400-1603998000@gyularef.hu
SUMMARY:Bűnbánati istentisztelet\, úrvacsora előkészítő alkalom
DESCRIPTION:
URL:https://gyularef.hu/event/bunbanati-istentisztelet-urvacsora-elokeszito-alkalom-2/
LOCATION:Kálvin utcai gyülekezeti ház\, Kálvin u. 4.\, Gyula\, Békés\, 5700\, Magyarország
CATEGORIES:Bűnbánati istentisztelet
ATTACH;FMTTYPE=image/jpeg:https://gyularef.hu/wp-content/uploads/2018/10/bűnbánat.jpg
END:VEVENT
BEGIN:VEVENT
DTSTART;TZID=Europe/Budapest:20221028T180000
DTEND;TZID=Europe/Budapest:20221028T190000
DTSTAMP:20260420T093044
CREATED:20201128T100715Z
LAST-MODIFIED:20221023T115448Z
UID:8720-1666980000-1666983600@gyularef.hu
SUMMARY:Bűnbánati istentisztelet
DESCRIPTION:
URL:https://gyularef.hu/event/bibliaora-100/
LOCATION:Templom
CATEGORIES:Bűnbánati istentisztelet
ATTACH;FMTTYPE=image/gif:https://gyularef.hu/wp-content/uploads/2017/06/imadkozo-pap2.gif
END:VEVENT
BEGIN:VEVENT
DTSTART;TZID=Europe/Budapest:20250416T180000
DTEND;TZID=Europe/Budapest:20250416T190000
DTSTAMP:20260420T093044
CREATED:20201025T122940Z
LAST-MODIFIED:20250413T065947Z
UID:8591-1744826400-1744830000@gyularef.hu
SUMMARY:Bűnbánati istentisztelet\, úrvacsora előkészítő alkalom
DESCRIPTION:
URL:https://gyularef.hu/event/bunbanati-istentisztelet-urvacsora-elokeszito-alkalom-3/
LOCATION:Templom
CATEGORIES:Bűnbánati istentisztelet
ATTACH;FMTTYPE=image/jpeg:https://gyularef.hu/wp-content/uploads/2018/10/bűnbánat.jpg
END:VEVENT
BEGIN:VEVENT
DTSTART;TZID=Europe/Budapest:20250605T180000
DTEND;TZID=Europe/Budapest:20250605T190000
DTSTAMP:20260420T093044
CREATED:20210516T114341Z
LAST-MODIFIED:20250601T104936Z
UID:9018-1749146400-1749150000@gyularef.hu
SUMMARY:Bűnbánati istentisztelet - Úrvacsorai előkészítő  alkalom
DESCRIPTION:
URL:https://gyularef.hu/event/bunbanati-urvacsora-elokeszito-istentisztelet-2/
LOCATION:Templom
CATEGORIES:Bűnbánati istentisztelet
ATTACH;FMTTYPE=image/jpeg:https://gyularef.hu/wp-content/uploads/2019/03/1-imadsad.jpg
END:VEVENT
BEGIN:VEVENT
DTSTART;TZID=Europe/Budapest:20251024T180000
DTEND;TZID=Europe/Budapest:20251024T190000
DTSTAMP:20260420T093044
CREATED:20210516T114714Z
LAST-MODIFIED:20251019T093249Z
UID:9021-1761328800-1761332400@gyularef.hu
SUMMARY:Bűnbánati istentisztelet - Úrvacsorai előkészítő  alkalom
DESCRIPTION:
URL:https://gyularef.hu/event/bunbanati-urvacsora-elokeszito-istentisztelet-3/
LOCATION:Templom
CATEGORIES:Bűnbánati istentisztelet
ATTACH;FMTTYPE=image/gif:https://gyularef.hu/wp-content/uploads/2017/06/imadkozo-pap2.gif
END:VEVENT
END:VCALENDAR