BEGIN:VCALENDAR
VERSION:2.0
PRODID:-//Gyulai Református Egyházközség - ECPv6.11.2.1//NONSGML v1.0//EN
CALSCALE:GREGORIAN
METHOD:PUBLISH
X-WR-CALNAME:Gyulai Református Egyházközség
X-ORIGINAL-URL:https://gyularef.hu
X-WR-CALDESC:Events for Gyulai Református Egyházközség
REFRESH-INTERVAL;VALUE=DURATION:PT1H
X-Robots-Tag:noindex
X-PUBLISHED-TTL:PT1H
BEGIN:VTIMEZONE
TZID:Europe/Budapest
BEGIN:DAYLIGHT
TZOFFSETFROM:+0100
TZOFFSETTO:+0200
TZNAME:CEST
DTSTART:20190331T010000
END:DAYLIGHT
BEGIN:STANDARD
TZOFFSETFROM:+0200
TZOFFSETTO:+0100
TZNAME:CET
DTSTART:20191027T010000
END:STANDARD
END:VTIMEZONE
BEGIN:VEVENT
DTSTART;TZID=Europe/Budapest:20190704T180000
DTEND;TZID=Europe/Budapest:20190704T200000
DTSTAMP:20260426T052544
CREATED:20190701T172323Z
LAST-MODIFIED:20190701T172323Z
UID:6084-1562263200-1562270400@gyularef.hu
SUMMARY:Gyülekezeti sport
DESCRIPTION:
URL:https://gyularef.hu/event/gyulekezeti-sport-33/
LOCATION:Templomkert
CATEGORIES:Gyülekezeti sport
ATTACH;FMTTYPE=image/jpeg:https://gyularef.hu/wp-content/uploads/2018/05/sport.jpg
END:VEVENT
BEGIN:VEVENT
DTSTART;TZID=Europe/Budapest:20190718T180000
DTEND;TZID=Europe/Budapest:20190718T190000
DTSTAMP:20260426T052544
CREATED:20190714T125117Z
LAST-MODIFIED:20190714T125117Z
UID:6110-1563472800-1563476400@gyularef.hu
SUMMARY:Gyülekezeti sport
DESCRIPTION:
URL:https://gyularef.hu/event/gyulekezeti-sport-34/
CATEGORIES:Gyülekezeti sport
ATTACH;FMTTYPE=image/jpeg:https://gyularef.hu/wp-content/uploads/2018/05/sport.jpg
END:VEVENT
BEGIN:VEVENT
DTSTART;TZID=Europe/Budapest:20190725T180000
DTEND;TZID=Europe/Budapest:20190725T190000
DTSTAMP:20260426T052544
CREATED:20190722T060028Z
LAST-MODIFIED:20190722T060028Z
UID:6137-1564077600-1564081200@gyularef.hu
SUMMARY:Gyülekezeti sport
DESCRIPTION:
URL:https://gyularef.hu/event/gyulekezeti-sport-35/
LOCATION:Templomkert
CATEGORIES:Gyülekezeti sport
ATTACH;FMTTYPE=image/jpeg:https://gyularef.hu/wp-content/uploads/2018/05/sport.jpg
END:VEVENT
END:VCALENDAR