BEGIN:VCALENDAR
VERSION:2.0
PRODID:-//Gyulai Református Egyházközség - ECPv6.11.2.1//NONSGML v1.0//EN
CALSCALE:GREGORIAN
METHOD:PUBLISH
X-WR-CALNAME:Gyulai Református Egyházközség
X-ORIGINAL-URL:https://gyularef.hu
X-WR-CALDESC:Events for Gyulai Református Egyházközség
REFRESH-INTERVAL;VALUE=DURATION:PT1H
X-Robots-Tag:noindex
X-PUBLISHED-TTL:PT1H
BEGIN:VTIMEZONE
TZID:Europe/Budapest
BEGIN:DAYLIGHT
TZOFFSETFROM:+0100
TZOFFSETTO:+0200
TZNAME:CEST
DTSTART:20190331T010000
END:DAYLIGHT
BEGIN:STANDARD
TZOFFSETFROM:+0200
TZOFFSETTO:+0100
TZNAME:CET
DTSTART:20191027T010000
END:STANDARD
END:VTIMEZONE
BEGIN:VEVENT
DTSTART;TZID=Europe/Budapest:20190127T170000
DTEND;TZID=Europe/Budapest:20190127T180000
DTSTAMP:20260420T022507
CREATED:20190120T121402Z
LAST-MODIFIED:20190127T135748Z
UID:4917-1548608400-1548612000@gyularef.hu
SUMMARY:Ökumenikus imahét záró alkalma
DESCRIPTION:
URL:https://gyularef.hu/event/okumenikus-imahet-zaro-alkalma/
LOCATION:Templom\, Petőfi tér 4.\, Gyula\, Békés\, 5700\, Magyarország
CATEGORIES:Ökomenikus alkalom
ATTACH;FMTTYPE=image/jpeg:https://gyularef.hu/wp-content/uploads/2019/01/okumenikus_plakat_vágott.jpg
END:VEVENT
BEGIN:VEVENT
DTSTART;TZID=Europe/Budapest:20190126T170000
DTEND;TZID=Europe/Budapest:20190126T180000
DTSTAMP:20260420T022507
CREATED:20190120T121054Z
LAST-MODIFIED:20190120T121054Z
UID:4911-1548522000-1548525600@gyularef.hu
SUMMARY:Ökumenikus imahét  7. alkalma
DESCRIPTION:
URL:https://gyularef.hu/event/okumenikus-imahet-7-alkalma/
LOCATION:Templom\, Petőfi tér 4.\, Gyula\, Békés\, 5700\, Magyarország
CATEGORIES:Ökomenikus alkalom
ATTACH;FMTTYPE=image/jpeg:https://gyularef.hu/wp-content/uploads/2019/01/okumenikus_plakat_vágott.jpg
END:VEVENT
BEGIN:VEVENT
DTSTART;TZID=Europe/Budapest:20190125T170000
DTEND;TZID=Europe/Budapest:20190125T180000
DTSTAMP:20260420T022507
CREATED:20190120T120516Z
LAST-MODIFIED:20190120T120516Z
UID:4907-1548435600-1548439200@gyularef.hu
SUMMARY:Ökumenikus imahét  6. alkalma
DESCRIPTION:
URL:https://gyularef.hu/event/okumenikus-imahet-6-alkalma/
LOCATION:Babtista imaház\, Gyula\, Munkácsy M. u. 11/b\, 5700\, Magyarország
CATEGORIES:Ökomenikus alkalom
ATTACH;FMTTYPE=image/jpeg:https://gyularef.hu/wp-content/uploads/2019/01/okumenikus_plakat_vágott.jpg
END:VEVENT
BEGIN:VEVENT
DTSTART;TZID=Europe/Budapest:20190124T170000
DTEND;TZID=Europe/Budapest:20190124T180000
DTSTAMP:20260420T022507
CREATED:20190120T120155Z
LAST-MODIFIED:20190120T120155Z
UID:4901-1548349200-1548352800@gyularef.hu
SUMMARY:Ökumenikus imahét  5. alkalma
DESCRIPTION:
URL:https://gyularef.hu/event/okumenikus-imahet-5-alkalma/
LOCATION:Babtista imaház\, Gyula\, Munkácsy M. u. 11/b\, 5700\, Magyarország
CATEGORIES:Ökomenikus alkalom
ATTACH;FMTTYPE=image/jpeg:https://gyularef.hu/wp-content/uploads/2019/01/okumenikus_plakat_vágott.jpg
END:VEVENT
BEGIN:VEVENT
DTSTART;TZID=Europe/Budapest:20190123T170000
DTEND;TZID=Europe/Budapest:20190123T180000
DTSTAMP:20260420T022507
CREATED:20190120T120009Z
LAST-MODIFIED:20190120T120009Z
UID:4897-1548262800-1548266400@gyularef.hu
SUMMARY:Ökumenikus imahét  4. alkalma
DESCRIPTION:
URL:https://gyularef.hu/event/okumenikus-imahet-4-alkalma/
LOCATION:Katolikus templom
CATEGORIES:Ökomenikus alkalom
ATTACH;FMTTYPE=image/jpeg:https://gyularef.hu/wp-content/uploads/2019/01/okumenikus_plakat_vágott.jpg
END:VEVENT
BEGIN:VEVENT
DTSTART;TZID=Europe/Budapest:20190122T170000
DTEND;TZID=Europe/Budapest:20190122T180000
DTSTAMP:20260420T022507
CREATED:20190120T115919Z
LAST-MODIFIED:20190120T115919Z
UID:4895-1548176400-1548180000@gyularef.hu
SUMMARY:Ökumenikus imahét  3. alkalma
DESCRIPTION:
URL:https://gyularef.hu/event/okumenikus-imahet-3-alkalma/
LOCATION:Katolikus templom
CATEGORIES:Ökomenikus alkalom
ATTACH;FMTTYPE=image/jpeg:https://gyularef.hu/wp-content/uploads/2019/01/okumenikus_plakat_vágott.jpg
END:VEVENT
BEGIN:VEVENT
DTSTART;TZID=Europe/Budapest:20190121T170000
DTEND;TZID=Europe/Budapest:20190121T180000
DTSTAMP:20260420T022507
CREATED:20190120T115421Z
LAST-MODIFIED:20190120T115722Z
UID:4889-1548090000-1548093600@gyularef.hu
SUMMARY:Ökumenikus imahét  2. alkalma
DESCRIPTION:
URL:https://gyularef.hu/event/okumenikus-imahet-nyito-alkalma-2/
LOCATION:Evangélikus templom
CATEGORIES:Ökomenikus alkalom
ATTACH;FMTTYPE=image/jpeg:https://gyularef.hu/wp-content/uploads/2019/01/okumenikus_plakat_vágott.jpg
END:VEVENT
END:VCALENDAR