BEGIN:VCALENDAR
VERSION:2.0
PRODID:-//Gyulai Református Egyházközség - ECPv6.11.2.1//NONSGML v1.0//EN
CALSCALE:GREGORIAN
METHOD:PUBLISH
X-WR-CALNAME:Gyulai Református Egyházközség
X-ORIGINAL-URL:https://gyularef.hu
X-WR-CALDESC:Events for Gyulai Református Egyházközség
REFRESH-INTERVAL;VALUE=DURATION:PT1H
X-Robots-Tag:noindex
X-PUBLISHED-TTL:PT1H
BEGIN:VTIMEZONE
TZID:Europe/Budapest
BEGIN:DAYLIGHT
TZOFFSETFROM:+0100
TZOFFSETTO:+0200
TZNAME:CEST
DTSTART:20160327T010000
END:DAYLIGHT
BEGIN:STANDARD
TZOFFSETFROM:+0200
TZOFFSETTO:+0100
TZNAME:CET
DTSTART:20161030T010000
END:STANDARD
BEGIN:DAYLIGHT
TZOFFSETFROM:+0100
TZOFFSETTO:+0200
TZNAME:CEST
DTSTART:20170326T010000
END:DAYLIGHT
BEGIN:STANDARD
TZOFFSETFROM:+0200
TZOFFSETTO:+0100
TZNAME:CET
DTSTART:20171029T010000
END:STANDARD
END:VTIMEZONE
BEGIN:VEVENT
DTSTART;TZID=Europe/Budapest:20170112T100000
DTEND;TZID=Europe/Budapest:20170112T110000
DTSTAMP:20260423T123554
CREATED:20170101T115113Z
LAST-MODIFIED:20170101T115113Z
UID:646-1484215200-1484218800@gyularef.hu
SUMMARY:Baba - mama kör
DESCRIPTION:
URL:https://gyularef.hu/event/baba-mama-kor-10/
LOCATION:Kisház\, Petőfi tér 4.\, Gyula\, Békés\, 5700\, Magyarország
CATEGORIES:Baba-mama kör
ATTACH;FMTTYPE=image/jpeg:https://gyularef.hu/wp-content/uploads/2016/09/baba_mama.jpg
END:VEVENT
BEGIN:VEVENT
DTSTART;TZID=Europe/Budapest:20170108T170000
DTEND;TZID=Europe/Budapest:20170108T170000
DTSTAMP:20260423T123554
CREATED:20170101T120034Z
LAST-MODIFIED:20170101T120322Z
UID:658-1483894800-1483894800@gyularef.hu
SUMMARY:Istentisztelet (du)
DESCRIPTION:
URL:https://gyularef.hu/event/istentisztelet-du-8/
LOCATION:Gyülekezeti kisterem\, Petőfi tér 4.\, Gyula\, Békés\, 5700\, Magyarország
CATEGORIES:Istentisztelet
ATTACH;FMTTYPE=image/jpeg:https://gyularef.hu/wp-content/uploads/2016/09/bibliaora.jpg
END:VEVENT
BEGIN:VEVENT
DTSTART;TZID=Europe/Budapest:20170108T100000
DTEND;TZID=Europe/Budapest:20170108T110000
DTSTAMP:20260423T123554
CREATED:20170101T115858Z
LAST-MODIFIED:20170101T115858Z
UID:656-1483869600-1483873200@gyularef.hu
SUMMARY:Családi istentisztelet
DESCRIPTION:
URL:https://gyularef.hu/event/csaladi-istentisztelet-3/
LOCATION:Templom\, Petőfi tér 4.\, Gyula\, Békés\, 5700\, Magyarország
CATEGORIES:Istentisztelet
ATTACH;FMTTYPE=image/jpeg:https://gyularef.hu/wp-content/uploads/2016/08/istentisztelet.jpg
END:VEVENT
BEGIN:VEVENT
DTSTART;TZID=Europe/Budapest:20170108T091500
DTEND;TZID=Europe/Budapest:20170108T095000
DTSTAMP:20260423T123554
CREATED:20170101T115651Z
LAST-MODIFIED:20170101T115651Z
UID:654-1483866900-1483869000@gyularef.hu
SUMMARY:Imaközösség
DESCRIPTION:
URL:https://gyularef.hu/event/imakozosseg-10/
LOCATION:Gyülekezeti kisterem\, Petőfi tér 4.\, Gyula\, Békés\, 5700\, Magyarország
CATEGORIES:Imaközösség
ATTACH;FMTTYPE=image/jpeg:https://gyularef.hu/wp-content/uploads/2016/09/imakozosseg.jpg
END:VEVENT
BEGIN:VEVENT
DTSTART;TZID=Europe/Budapest:20170106T180000
DTEND;TZID=Europe/Budapest:20170106T190000
DTSTAMP:20260423T123554
CREATED:20170101T115541Z
LAST-MODIFIED:20170101T115541Z
UID:652-1483725600-1483729200@gyularef.hu
SUMMARY:Fiatalok bibliaköre
DESCRIPTION:
URL:https://gyularef.hu/event/fiatalok-bibliakore-14/
LOCATION:Kisház\, Petőfi tér 4.\, Gyula\, Békés\, 5700\, Magyarország
CATEGORIES:Fiatalok bibliaköre
ATTACH;FMTTYPE=image/jpeg:https://gyularef.hu/wp-content/uploads/2016/08/ofi.jpg
END:VEVENT
BEGIN:VEVENT
DTSTART;TZID=Europe/Budapest:20170106T150000
DTEND;TZID=Europe/Budapest:20170106T160000
DTSTAMP:20260423T123554
CREATED:20170101T115417Z
LAST-MODIFIED:20170101T115417Z
UID:650-1483714800-1483718400@gyularef.hu
SUMMARY:Biztos Szikla klub
DESCRIPTION:
URL:https://gyularef.hu/event/biztos-szikla-klub-11/
LOCATION:Kisház\, Petőfi tér 4.\, Gyula\, Békés\, 5700\, Magyarország
CATEGORIES:Biztos Szikla klub
ATTACH;FMTTYPE=image/jpeg:https://gyularef.hu/wp-content/uploads/2016/08/biztos_szikla.jpg
END:VEVENT
BEGIN:VEVENT
DTSTART;TZID=Europe/Budapest:20170106T140000
DTEND;TZID=Europe/Budapest:20170106T150000
DTSTAMP:20260423T123554
CREATED:20170101T115011Z
LAST-MODIFIED:20170101T115011Z
UID:644-1483711200-1483714800@gyularef.hu
SUMMARY:Konfirmációs óra (Ifjúsági)
DESCRIPTION:
URL:https://gyularef.hu/event/konfirmacios-ora-ifjusagi-10/
LOCATION:Gyülekezeti kisterem\, Petőfi tér 4.\, Gyula\, Békés\, 5700\, Magyarország
CATEGORIES:Bibliaóra
ATTACH;FMTTYPE=image/jpeg:https://gyularef.hu/wp-content/uploads/2016/09/biztos_szikla.jpg
END:VEVENT
BEGIN:VEVENT
DTSTART;TZID=Europe/Budapest:20170105T180000
DTEND;TZID=Europe/Budapest:20170105T190000
DTSTAMP:20260423T123554
CREATED:20170101T115258Z
LAST-MODIFIED:20170101T115258Z
UID:648-1483639200-1483642800@gyularef.hu
SUMMARY:Református hit alapjai kurzus
DESCRIPTION:
URL:https://gyularef.hu/event/reformatus-hit-alapjai-kurzus-5/
LOCATION:Kisház\, Petőfi tér 4.\, Gyula\, Békés\, 5700\, Magyarország
CATEGORIES:Bibliaóra
ATTACH;FMTTYPE=image/jpeg:https://gyularef.hu/wp-content/uploads/2016/09/imakozosseg.jpg
END:VEVENT
BEGIN:VEVENT
DTSTART;TZID=Europe/Budapest:20170105T140000
DTEND;TZID=Europe/Budapest:20170105T150000
DTSTAMP:20260423T123554
CREATED:20170101T114919Z
LAST-MODIFIED:20170101T114919Z
UID:642-1483624800-1483628400@gyularef.hu
SUMMARY:Konfirmációs óra (Ifjúsági)
DESCRIPTION:
URL:https://gyularef.hu/event/konfirmacios-ora-ifjusagi-9/
LOCATION:Gyülekezeti kisterem\, Petőfi tér 4.\, Gyula\, Békés\, 5700\, Magyarország
CATEGORIES:Bibliaóra
ATTACH;FMTTYPE=image/jpeg:https://gyularef.hu/wp-content/uploads/2016/09/biztos_szikla.jpg
END:VEVENT
BEGIN:VEVENT
DTSTART;TZID=Europe/Budapest:20170104T180000
DTEND;TZID=Europe/Budapest:20170104T190000
DTSTAMP:20260423T123554
CREATED:20170101T114734Z
LAST-MODIFIED:20170101T114734Z
UID:640-1483552800-1483556400@gyularef.hu
SUMMARY:Bibliaóra - Újratervezés
DESCRIPTION:
URL:https://gyularef.hu/event/bibliaora-ujratervezes-6/
LOCATION:Kálvin utcai gyülekezeti ház\, Kálvin u. 4.\, Gyula\, Békés\, 5700\, Magyarország
CATEGORIES:Bibliaóra
ATTACH;FMTTYPE=image/jpeg:https://gyularef.hu/wp-content/uploads/2016/09/bibliaora_sz.jpg
END:VEVENT
BEGIN:VEVENT
DTSTART;TZID=Europe/Budapest:20170101T100000
DTEND;TZID=Europe/Budapest:20170101T110000
DTSTAMP:20260423T123554
CREATED:20161228T121944Z
LAST-MODIFIED:20161228T121944Z
UID:631-1483264800-1483268400@gyularef.hu
SUMMARY:Újévi istentisztelet
DESCRIPTION:
URL:https://gyularef.hu/event/ujevi-istentisztelet/
LOCATION:Templom\, Petőfi tér 4.\, Gyula\, Békés\, 5700\, Magyarország
CATEGORIES:Istentisztelet
ATTACH;FMTTYPE=image/jpeg:https://gyularef.hu/wp-content/uploads/2016/08/istentisztelet.jpg
END:VEVENT
BEGIN:VEVENT
DTSTART;TZID=Europe/Budapest:20161231T170000
DTEND;TZID=Europe/Budapest:20161231T180000
DTSTAMP:20260423T123554
CREATED:20161228T094106Z
LAST-MODIFIED:20161228T094106Z
UID:624-1483203600-1483207200@gyularef.hu
SUMMARY:Óévi istentisztelet
DESCRIPTION:
URL:https://gyularef.hu/event/oevi-istentisztelet/
LOCATION:Templom\, Petőfi tér 4.\, Gyula\, Békés\, 5700\, Magyarország
CATEGORIES:Istentisztelet
ATTACH;FMTTYPE=image/jpeg:https://gyularef.hu/wp-content/uploads/2016/08/istentisztelet.jpg
END:VEVENT
BEGIN:VEVENT
DTSTART;TZID=Europe/Budapest:20161226T100000
DTEND;TZID=Europe/Budapest:20161226T120000
DTSTAMP:20260423T123554
CREATED:20161218T120236Z
LAST-MODIFIED:20161218T120236Z
UID:621-1482746400-1482753600@gyularef.hu
SUMMARY:Karácsony II. napi úrvacsorás istentisztelet
DESCRIPTION:
URL:https://gyularef.hu/event/karacsony-ii-napi-urvacsoras-istentisztelet/
LOCATION:Templom\, Petőfi tér 4.\, Gyula\, Békés\, 5700\, Magyarország
CATEGORIES:Úrvacsorás istentisztelet
ATTACH;FMTTYPE=image/jpeg:https://gyularef.hu/wp-content/uploads/2016/09/urvacsora.jpg
END:VEVENT
BEGIN:VEVENT
DTSTART;TZID=Europe/Budapest:20161225T100000
DTEND;TZID=Europe/Budapest:20161225T120000
DTSTAMP:20260423T123554
CREATED:20161218T120136Z
LAST-MODIFIED:20161218T120136Z
UID:619-1482660000-1482667200@gyularef.hu
SUMMARY:Karácsony I. napi úrvacsorás istentisztelet
DESCRIPTION:
URL:https://gyularef.hu/event/karacsony-i-napi-urvacsoras-istentisztelet/
LOCATION:Templom\, Petőfi tér 4.\, Gyula\, Békés\, 5700\, Magyarország
CATEGORIES:Úrvacsorás istentisztelet
ATTACH;FMTTYPE=image/jpeg:https://gyularef.hu/wp-content/uploads/2016/09/urvacsora.jpg
END:VEVENT
BEGIN:VEVENT
DTSTART;TZID=Europe/Budapest:20161224T170000
DTEND;TZID=Europe/Budapest:20161224T180000
DTSTAMP:20260423T123554
CREATED:20161218T115957Z
LAST-MODIFIED:20161218T115957Z
UID:617-1482598800-1482602400@gyularef.hu
SUMMARY:Szentesti istentisztelet
DESCRIPTION:
URL:https://gyularef.hu/event/szentesti-istentisztelet/
LOCATION:Templom\, Petőfi tér 4.\, Gyula\, Békés\, 5700\, Magyarország
CATEGORIES:Istentisztelet
ATTACH;FMTTYPE=image/jpeg:https://gyularef.hu/wp-content/uploads/2016/08/istentisztelet.jpg
END:VEVENT
BEGIN:VEVENT
DTSTART;TZID=Europe/Budapest:20161223T190000
DTEND;TZID=Europe/Budapest:20161223T200000
DTSTAMP:20260423T123554
CREATED:20161218T115838Z
LAST-MODIFIED:20161218T115838Z
UID:615-1482519600-1482523200@gyularef.hu
SUMMARY:Fiatalok bibliaköre
DESCRIPTION:
URL:https://gyularef.hu/event/fiatalok-bibliakore-13/
LOCATION:Kisház\, Petőfi tér 4.\, Gyula\, Békés\, 5700\, Magyarország
CATEGORIES:Fiatalok bibliaköre
ATTACH;FMTTYPE=image/jpeg:https://gyularef.hu/wp-content/uploads/2016/08/ofi.jpg
END:VEVENT
BEGIN:VEVENT
DTSTART;TZID=Europe/Budapest:20161223T180000
DTEND;TZID=Europe/Budapest:20161223T190000
DTSTAMP:20260423T123554
CREATED:20161218T115641Z
LAST-MODIFIED:20161218T115641Z
UID:611-1482516000-1482519600@gyularef.hu
SUMMARY:Bűnbánati istentisztelet (p)
DESCRIPTION:
URL:https://gyularef.hu/event/bunbanati-istentisztelet-p/
LOCATION:Békés
CATEGORIES:Bűnbánati istentisztelet
ATTACH;FMTTYPE=image/jpeg:https://gyularef.hu/wp-content/uploads/2016/09/bibliaora_sz.jpg
END:VEVENT
BEGIN:VEVENT
DTSTART;TZID=Europe/Budapest:20161223T150000
DTEND;TZID=Europe/Budapest:20161223T160000
DTSTAMP:20260423T123554
CREATED:20161218T115740Z
LAST-MODIFIED:20161218T115740Z
UID:613-1482505200-1482508800@gyularef.hu
SUMMARY:Biztos Szikla klub
DESCRIPTION:
URL:https://gyularef.hu/event/biztos-szikla-klub-10/
LOCATION:Kisház\, Petőfi tér 4.\, Gyula\, Békés\, 5700\, Magyarország
ATTACH;FMTTYPE=image/jpeg:https://gyularef.hu/wp-content/uploads/2016/08/biztos_szikla.jpg
END:VEVENT
BEGIN:VEVENT
DTSTART;TZID=Europe/Budapest:20161222T180000
DTEND;TZID=Europe/Budapest:20161222T190000
DTSTAMP:20260423T123554
CREATED:20161218T115551Z
LAST-MODIFIED:20161218T115551Z
UID:609-1482429600-1482433200@gyularef.hu
SUMMARY:Bűnbánati istentisztelet (cs)
DESCRIPTION:
URL:https://gyularef.hu/event/bunbanati-istentisztelet-cs/
LOCATION:Kálvin utcai gyülekezeti ház\, Kálvin u. 4.\, Gyula\, Békés\, 5700\, Magyarország
CATEGORIES:Bűnbánati istentisztelet
ATTACH;FMTTYPE=image/jpeg:https://gyularef.hu/wp-content/uploads/2016/09/bibliaora_sz.jpg
END:VEVENT
BEGIN:VEVENT
DTSTART;TZID=Europe/Budapest:20161221T180000
DTEND;TZID=Europe/Budapest:20161221T190000
DTSTAMP:20260423T123554
CREATED:20161218T115502Z
LAST-MODIFIED:20161218T115502Z
UID:607-1482343200-1482346800@gyularef.hu
SUMMARY:Bűnbánati istentisztelet (sz)
DESCRIPTION:
URL:https://gyularef.hu/event/bunbanati-istentisztelet-sz/
LOCATION:Békés
CATEGORIES:Bűnbánati istentisztelet
ATTACH;FMTTYPE=image/jpeg:https://gyularef.hu/wp-content/uploads/2016/09/bibliaora_sz.jpg
END:VEVENT
BEGIN:VEVENT
DTSTART;TZID=Europe/Budapest:20161220T180000
DTEND;TZID=Europe/Budapest:20161220T190000
DTSTAMP:20260423T123554
CREATED:20161218T115415Z
LAST-MODIFIED:20161218T115415Z
UID:605-1482256800-1482260400@gyularef.hu
SUMMARY:Bűnbánati istentisztelet (k)
DESCRIPTION:
URL:https://gyularef.hu/event/bunbanati-istentisztelet-k/
LOCATION:Kálvin utcai gyülekezeti ház\, Kálvin u. 4.\, Gyula\, Békés\, 5700\, Magyarország
CATEGORIES:Bűnbánati istentisztelet
ATTACH;FMTTYPE=image/jpeg:https://gyularef.hu/wp-content/uploads/2016/09/bibliaora_sz.jpg
END:VEVENT
BEGIN:VEVENT
DTSTART;TZID=Europe/Budapest:20161219T180000
DTEND;TZID=Europe/Budapest:20161219T190000
DTSTAMP:20260423T123554
CREATED:20161218T115333Z
LAST-MODIFIED:20161218T115333Z
UID:603-1482170400-1482174000@gyularef.hu
SUMMARY:Bűnbánati istentisztelet (h)
DESCRIPTION:
URL:https://gyularef.hu/event/bunbanati-istentisztelet-h/
LOCATION:Kálvin utcai gyülekezeti ház\, Kálvin u. 4.\, Gyula\, Békés\, 5700\, Magyarország
CATEGORIES:Bűnbánati istentisztelet
ATTACH;FMTTYPE=image/jpeg:https://gyularef.hu/wp-content/uploads/2016/09/bibliaora_sz.jpg
END:VEVENT
BEGIN:VEVENT
DTSTART;TZID=Europe/Budapest:20161211T180000
DTEND;TZID=Europe/Budapest:20161211T190000
DTSTAMP:20260423T123554
CREATED:20161207T065118Z
LAST-MODIFIED:20161207T065118Z
UID:597-1481479200-1481482800@gyularef.hu
SUMMARY:Adventi hangverseny
DESCRIPTION:
URL:https://gyularef.hu/event/adventi-hangverseny/
LOCATION:Templom\, Petőfi tér 4.\, Gyula\, Békés\, 5700\, Magyarország
CATEGORIES:Koncert
ATTACH;FMTTYPE=image/jpeg:https://gyularef.hu/wp-content/uploads/2016/11/erkelkorus.jpg
END:VEVENT
BEGIN:VEVENT
DTSTART;TZID=Europe/Budapest:20161211T100000
DTEND;TZID=Europe/Budapest:20161211T110000
DTSTAMP:20260423T123554
CREATED:20161207T065034Z
LAST-MODIFIED:20161207T065034Z
UID:595-1481450400-1481454000@gyularef.hu
SUMMARY:Családi istentisztelet
DESCRIPTION:
URL:https://gyularef.hu/event/csaladi-istentisztelet-2/
LOCATION:Templom\, Petőfi tér 4.\, Gyula\, Békés\, 5700\, Magyarország
CATEGORIES:Istentisztelet
ATTACH;FMTTYPE=image/jpeg:https://gyularef.hu/wp-content/uploads/2016/08/istentisztelet.jpg
END:VEVENT
BEGIN:VEVENT
DTSTART;TZID=Europe/Budapest:20161211T091500
DTEND;TZID=Europe/Budapest:20161211T095000
DTSTAMP:20260423T123554
CREATED:20161207T064931Z
LAST-MODIFIED:20161207T064931Z
UID:593-1481447700-1481449800@gyularef.hu
SUMMARY:Imaközösség
DESCRIPTION:
URL:https://gyularef.hu/event/imakozosseg-9/
LOCATION:Gyülekezeti kisterem\, Petőfi tér 4.\, Gyula\, Békés\, 5700\, Magyarország
CATEGORIES:Imaközösség
ATTACH;FMTTYPE=image/jpeg:https://gyularef.hu/wp-content/uploads/2016/09/imakozosseg.jpg
END:VEVENT
BEGIN:VEVENT
DTSTART;TZID=Europe/Budapest:20161209T180000
DTEND;TZID=Europe/Budapest:20161209T190000
DTSTAMP:20260423T123554
CREATED:20161207T064838Z
LAST-MODIFIED:20161207T064838Z
UID:591-1481306400-1481310000@gyularef.hu
SUMMARY:Fiatalok bibliaköre
DESCRIPTION:
URL:https://gyularef.hu/event/fiatalok-bibliakore-12/
LOCATION:Kisház\, Petőfi tér 4.\, Gyula\, Békés\, 5700\, Magyarország
CATEGORIES:Fiatalok bibliaköre
ATTACH;FMTTYPE=image/jpeg:https://gyularef.hu/wp-content/uploads/2016/08/ofi.jpg
END:VEVENT
BEGIN:VEVENT
DTSTART;TZID=Europe/Budapest:20161209T150000
DTEND;TZID=Europe/Budapest:20161209T160000
DTSTAMP:20260423T123554
CREATED:20161207T064747Z
LAST-MODIFIED:20161207T064747Z
UID:589-1481295600-1481299200@gyularef.hu
SUMMARY:Ifjúsági óra - Biztos Szikla klub
DESCRIPTION:
URL:https://gyularef.hu/event/ifjusagi-ora-biztos-szikla-klub/
LOCATION:Kisház\, Petőfi tér 4.\, Gyula\, Békés\, 5700\, Magyarország
CATEGORIES:Biztos Szikla klub
ATTACH;FMTTYPE=image/jpeg:https://gyularef.hu/wp-content/uploads/2016/08/biztos_szikla.jpg
END:VEVENT
BEGIN:VEVENT
DTSTART;TZID=Europe/Budapest:20161209T140000
DTEND;TZID=Europe/Budapest:20161209T150000
DTSTAMP:20260423T123554
CREATED:20161207T064541Z
LAST-MODIFIED:20161207T064541Z
UID:585-1481292000-1481295600@gyularef.hu
SUMMARY:Konfirmációs óra (Ifjúsági)
DESCRIPTION:
URL:https://gyularef.hu/event/konfirmacios-ora-ifjusagi-8/
LOCATION:Gyülekezeti kisterem\, Petőfi tér 4.\, Gyula\, Békés\, 5700\, Magyarország
CATEGORIES:Bibliaóra
ATTACH;FMTTYPE=image/jpeg:https://gyularef.hu/wp-content/uploads/2016/09/biztos_szikla.jpg
END:VEVENT
BEGIN:VEVENT
DTSTART;TZID=Europe/Budapest:20161208T180000
DTEND;TZID=Europe/Budapest:20161208T190000
DTSTAMP:20260423T123554
CREATED:20161207T064644Z
LAST-MODIFIED:20161207T064644Z
UID:587-1481220000-1481223600@gyularef.hu
SUMMARY:Református hit alapjai kurzus
DESCRIPTION:
URL:https://gyularef.hu/event/reformatus-hit-alapjai-kurzus-4/
LOCATION:Kisház\, Petőfi tér 4.\, Gyula\, Békés\, 5700\, Magyarország
CATEGORIES:Bibliaóra
ATTACH;FMTTYPE=image/jpeg:https://gyularef.hu/wp-content/uploads/2016/09/bibliaora.jpg
END:VEVENT
BEGIN:VEVENT
DTSTART;TZID=Europe/Budapest:20161208T140000
DTEND;TZID=Europe/Budapest:20161208T150000
DTSTAMP:20260423T123554
CREATED:20161207T064500Z
LAST-MODIFIED:20161207T064500Z
UID:583-1481205600-1481209200@gyularef.hu
SUMMARY:Konfirmációs óra (Ifjúsági)
DESCRIPTION:
URL:https://gyularef.hu/event/konfirmacios-ora-ifjusagi-7/
LOCATION:Gyülekezeti kisterem\, Petőfi tér 4.\, Gyula\, Békés\, 5700\, Magyarország
CATEGORIES:Bibliaóra
ATTACH;FMTTYPE=image/jpeg:https://gyularef.hu/wp-content/uploads/2016/09/biztos_szikla.jpg
END:VEVENT
END:VCALENDAR