BEGIN:VCALENDAR
VERSION:2.0
PRODID:-//Gyulai Református Egyházközség - ECPv6.11.2.1//NONSGML v1.0//EN
CALSCALE:GREGORIAN
METHOD:PUBLISH
X-WR-CALNAME:Gyulai Református Egyházközség
X-ORIGINAL-URL:https://gyularef.hu
X-WR-CALDESC:Events for Gyulai Református Egyházközség
REFRESH-INTERVAL;VALUE=DURATION:PT1H
X-Robots-Tag:noindex
X-PUBLISHED-TTL:PT1H
BEGIN:VTIMEZONE
TZID:Europe/Budapest
BEGIN:DAYLIGHT
TZOFFSETFROM:+0100
TZOFFSETTO:+0200
TZNAME:CEST
DTSTART:20170326T010000
END:DAYLIGHT
BEGIN:STANDARD
TZOFFSETFROM:+0200
TZOFFSETTO:+0100
TZNAME:CET
DTSTART:20171029T010000
END:STANDARD
END:VTIMEZONE
BEGIN:VEVENT
DTSTART;TZID=Europe/Budapest:20170302T180000
DTEND;TZID=Europe/Budapest:20170302T190000
DTSTAMP:20260423T100615
CREATED:20170226T191123Z
LAST-MODIFIED:20170226T191123Z
UID:1008-1488477600-1488481200@gyularef.hu
SUMMARY:Bűnbánati istentisztelet (cs)
DESCRIPTION:
URL:https://gyularef.hu/event/bunbanati-istentisztelet-cs-2/
LOCATION:Kálvin utcai gyülekezeti ház\, Kálvin u. 4.\, Gyula\, Békés\, 5700\, Magyarország
CATEGORIES:Bűnbánati istentisztelet
ATTACH;FMTTYPE=image/jpeg:https://gyularef.hu/wp-content/uploads/2016/09/bibliaora_sz.jpg
END:VEVENT
BEGIN:VEVENT
DTSTART;TZID=Europe/Budapest:20170302T140000
DTEND;TZID=Europe/Budapest:20170302T150000
DTSTAMP:20260423T100615
CREATED:20170226T191711Z
LAST-MODIFIED:20170226T191711Z
UID:1016-1488463200-1488466800@gyularef.hu
SUMMARY:Konfirmációs óra (ifjúsági)
DESCRIPTION:
URL:https://gyularef.hu/event/konfirmacios-ora-ifjusagi-19/
LOCATION:Gyülekezeti kisterem\, Petőfi tér 4.\, Gyula\, Békés\, 5700\, Magyarország
CATEGORIES:Bibliaóra
ATTACH;FMTTYPE=image/jpeg:https://gyularef.hu/wp-content/uploads/2016/09/biztos_szikla.jpg
END:VEVENT
BEGIN:VEVENT
DTSTART;TZID=Europe/Budapest:20170302T100000
DTEND;TZID=Europe/Budapest:20170302T110000
DTSTAMP:20260423T100615
CREATED:20170226T191518Z
LAST-MODIFIED:20170226T191518Z
UID:1014-1488448800-1488452400@gyularef.hu
SUMMARY:Baba - mama kör
DESCRIPTION:
URL:https://gyularef.hu/event/baba-mama-kor-16/
LOCATION:Kisház\, Petőfi tér 4.\, Gyula\, Békés\, 5700\, Magyarország
CATEGORIES:Baba-mama kör
ATTACH;FMTTYPE=image/jpeg:https://gyularef.hu/wp-content/uploads/2016/09/baba_mama.jpg
END:VEVENT
BEGIN:VEVENT
DTSTART;TZID=Europe/Budapest:20170301T180000
DTEND;TZID=Europe/Budapest:20170301T190000
DTSTAMP:20260423T100615
CREATED:20170226T191410Z
LAST-MODIFIED:20170226T191410Z
UID:1012-1488391200-1488394800@gyularef.hu
SUMMARY:Bibliaóra - A múlt szorításában
DESCRIPTION:
URL:https://gyularef.hu/event/bibliaora-a-mult-szoritasaban/
LOCATION:Békés
CATEGORIES:Bibliaóra
ATTACH;FMTTYPE=image/jpeg:https://gyularef.hu/wp-content/uploads/2016/09/bibliaora_sz.jpg
END:VEVENT
BEGIN:VEVENT
DTSTART;TZID=Europe/Budapest:20170228T180000
DTEND;TZID=Europe/Budapest:20170228T190000
DTSTAMP:20260423T100615
CREATED:20170226T191006Z
LAST-MODIFIED:20170226T191006Z
UID:1006-1488304800-1488308400@gyularef.hu
SUMMARY:Bűnbánati istentisztelet (k)
DESCRIPTION:
URL:https://gyularef.hu/event/bunbanati-istentisztelet-k-2/
LOCATION:Kálvin utcai gyülekezeti ház\, Kálvin u. 4.\, Gyula\, Békés\, 5700\, Magyarország
CATEGORIES:Bűnbánati istentisztelet
ATTACH;FMTTYPE=image/jpeg:https://gyularef.hu/wp-content/uploads/2016/09/bibliaora_sz.jpg
END:VEVENT
BEGIN:VEVENT
DTSTART;TZID=Europe/Budapest:20170227T180000
DTEND;TZID=Europe/Budapest:20170227T180000
DTSTAMP:20260423T100615
CREATED:20170226T190848Z
LAST-MODIFIED:20170226T190848Z
UID:1004-1488218400-1488218400@gyularef.hu
SUMMARY:Presbiteri gyűlés
DESCRIPTION:
URL:https://gyularef.hu/event/presbiteri-gyules/
LOCATION:Gyülekezeti kisterem\, Petőfi tér 4.\, Gyula\, Békés\, 5700\, Magyarország
CATEGORIES:Bibliaóra
ATTACH;FMTTYPE=image/jpeg:https://gyularef.hu/wp-content/uploads/2016/09/imakozosseg.jpg
END:VEVENT
BEGIN:VEVENT
DTSTART;TZID=Europe/Budapest:20170226T170000
DTEND;TZID=Europe/Budapest:20170226T180000
DTSTAMP:20260423T100615
CREATED:20170221T162605Z
LAST-MODIFIED:20170221T162605Z
UID:974-1488128400-1488132000@gyularef.hu
SUMMARY:Istentisztelet (du)
DESCRIPTION:
URL:https://gyularef.hu/event/istentisztelet-du-12/
LOCATION:Gyülekezeti kisterem\, Petőfi tér 4.\, Gyula\, Békés\, 5700\, Magyarország
CATEGORIES:Istentisztelet
ATTACH;FMTTYPE=image/jpeg:https://gyularef.hu/wp-content/uploads/2016/09/bibliaora.jpg
END:VEVENT
BEGIN:VEVENT
DTSTART;TZID=Europe/Budapest:20170226T100000
DTEND;TZID=Europe/Budapest:20170226T110000
DTSTAMP:20260423T100615
CREATED:20170221T162520Z
LAST-MODIFIED:20170221T162520Z
UID:972-1488103200-1488106800@gyularef.hu
SUMMARY:Istentisztelet
DESCRIPTION:
URL:https://gyularef.hu/event/istentisztelet-10/
LOCATION:Templom\, Petőfi tér 4.\, Gyula\, Békés\, 5700\, Magyarország
CATEGORIES:Istentisztelet
ATTACH;FMTTYPE=image/jpeg:https://gyularef.hu/wp-content/uploads/2016/08/istentisztelet.jpg
END:VEVENT
BEGIN:VEVENT
DTSTART;TZID=Europe/Budapest:20170226T093000
DTEND;TZID=Europe/Budapest:20170226T095000
DTSTAMP:20260423T100616
CREATED:20170221T162404Z
LAST-MODIFIED:20170221T162404Z
UID:970-1488101400-1488102600@gyularef.hu
SUMMARY:Imaközösség
DESCRIPTION:
URL:https://gyularef.hu/event/imakozosseg-15/
LOCATION:Gyülekezeti kisterem\, Petőfi tér 4.\, Gyula\, Békés\, 5700\, Magyarország
CATEGORIES:Imaközösség
ATTACH;FMTTYPE=image/jpeg:https://gyularef.hu/wp-content/uploads/2016/09/imakozosseg.jpg
END:VEVENT
BEGIN:VEVENT
DTSTART;TZID=Europe/Budapest:20170224T180000
DTEND;TZID=Europe/Budapest:20170224T190000
DTSTAMP:20260423T100616
CREATED:20170221T162258Z
LAST-MODIFIED:20170221T162258Z
UID:968-1487959200-1487962800@gyularef.hu
SUMMARY:Fiatalok biblaköre
DESCRIPTION:
URL:https://gyularef.hu/event/fiatalok-biblakore/
LOCATION:Kisház\, Petőfi tér 4.\, Gyula\, Békés\, 5700\, Magyarország
CATEGORIES:Fiatalok bibliaköre
ATTACH;FMTTYPE=image/jpeg:https://gyularef.hu/wp-content/uploads/2016/08/ofi.jpg
END:VEVENT
BEGIN:VEVENT
DTSTART;TZID=Europe/Budapest:20170224T150000
DTEND;TZID=Europe/Budapest:20170224T160000
DTSTAMP:20260423T100616
CREATED:20170221T162158Z
LAST-MODIFIED:20170221T162158Z
UID:966-1487948400-1487952000@gyularef.hu
SUMMARY:Biztos Szikla klub
DESCRIPTION:
URL:https://gyularef.hu/event/biztos-szikla-klub-15/
LOCATION:Kisház\, Petőfi tér 4.\, Gyula\, Békés\, 5700\, Magyarország
CATEGORIES:Biztos Szikla klub
ATTACH;FMTTYPE=image/jpeg:https://gyularef.hu/wp-content/uploads/2016/08/biztos_szikla.jpg
END:VEVENT
BEGIN:VEVENT
DTSTART;TZID=Europe/Budapest:20170224T140000
DTEND;TZID=Europe/Budapest:20170224T150000
DTSTAMP:20260423T100616
CREATED:20170221T161900Z
LAST-MODIFIED:20170221T161900Z
UID:962-1487944800-1487948400@gyularef.hu
SUMMARY:Konfirmációs óra (ifjúsági)
DESCRIPTION:
URL:https://gyularef.hu/event/konfirmacios-ora-ifjusagi-18/
LOCATION:Gyülekezeti kisterem\, Petőfi tér 4.\, Gyula\, Békés\, 5700\, Magyarország
CATEGORIES:Bibliaóra
ATTACH;FMTTYPE=image/jpeg:https://gyularef.hu/wp-content/uploads/2016/09/biztos_szikla.jpg
END:VEVENT
BEGIN:VEVENT
DTSTART;TZID=Europe/Budapest:20170223T180000
DTEND;TZID=Europe/Budapest:20170223T190000
DTSTAMP:20260423T100616
CREATED:20170221T162004Z
LAST-MODIFIED:20170221T162004Z
UID:964-1487872800-1487876400@gyularef.hu
SUMMARY:Református hit alapjai kurzus
DESCRIPTION:
URL:https://gyularef.hu/event/reformatus-hit-alapjai-kurzus-6/
LOCATION:Kisház\, Petőfi tér 4.\, Gyula\, Békés\, 5700\, Magyarország
CATEGORIES:Bibliaóra
ATTACH;FMTTYPE=image/jpeg:https://gyularef.hu/wp-content/uploads/2016/09/bibliaora.jpg
END:VEVENT
BEGIN:VEVENT
DTSTART;TZID=Europe/Budapest:20170223T140000
DTEND;TZID=Europe/Budapest:20170223T150000
DTSTAMP:20260423T100616
CREATED:20170221T161815Z
LAST-MODIFIED:20170221T161815Z
UID:960-1487858400-1487862000@gyularef.hu
SUMMARY:Konfirmációs óra (ifjúsági)
DESCRIPTION:
URL:https://gyularef.hu/event/konfirmacios-ora-ifjusagi-17/
LOCATION:Gyülekezeti kisterem\, Petőfi tér 4.\, Gyula\, Békés\, 5700\, Magyarország
CATEGORIES:Bibliaóra
ATTACH;FMTTYPE=image/jpeg:https://gyularef.hu/wp-content/uploads/2016/09/biztos_szikla.jpg
END:VEVENT
BEGIN:VEVENT
DTSTART;TZID=Europe/Budapest:20170223T100000
DTEND;TZID=Europe/Budapest:20170223T110000
DTSTAMP:20260423T100616
CREATED:20170221T161707Z
LAST-MODIFIED:20170221T161707Z
UID:958-1487844000-1487847600@gyularef.hu
SUMMARY:Baba-mama kör
DESCRIPTION:
URL:https://gyularef.hu/event/baba-mama-kor-15/
LOCATION:Kisház\, Petőfi tér 4.\, Gyula\, Békés\, 5700\, Magyarország
CATEGORIES:Baba-mama kör
ATTACH;FMTTYPE=image/jpeg:https://gyularef.hu/wp-content/uploads/2016/09/baba_mama.jpg
END:VEVENT
BEGIN:VEVENT
DTSTART;TZID=Europe/Budapest:20170222T180000
DTEND;TZID=Europe/Budapest:20170222T190000
DTSTAMP:20260423T100616
CREATED:20170221T161612Z
LAST-MODIFIED:20170221T161612Z
UID:956-1487786400-1487790000@gyularef.hu
SUMMARY:Bibliaóra
DESCRIPTION:
URL:https://gyularef.hu/event/bibliaora-4/
LOCATION:Kálvin utcai gyülekezeti ház\, Kálvin u. 4.\, Gyula\, Békés\, 5700\, Magyarország
CATEGORIES:Bibliaóra
ATTACH;FMTTYPE=image/jpeg:https://gyularef.hu/wp-content/uploads/2016/09/bibliaora_sz.jpg
END:VEVENT
BEGIN:VEVENT
DTSTART;TZID=Europe/Budapest:20170219T170000
DTEND;TZID=Europe/Budapest:20170219T180000
DTSTAMP:20260423T100616
CREATED:20170212T182637Z
LAST-MODIFIED:20170212T182637Z
UID:916-1487523600-1487527200@gyularef.hu
SUMMARY:Istentisztelet (du)
DESCRIPTION:
URL:https://gyularef.hu/event/istentisztelet-du-11/
LOCATION:Gyülekezeti kisterem\, Petőfi tér 4.\, Gyula\, Békés\, 5700\, Magyarország
CATEGORIES:Istentisztelet
ATTACH;FMTTYPE=image/jpeg:https://gyularef.hu/wp-content/uploads/2016/09/bibliaora.jpg
END:VEVENT
BEGIN:VEVENT
DTSTART;TZID=Europe/Budapest:20170219T100000
DTEND;TZID=Europe/Budapest:20170219T110000
DTSTAMP:20260423T100616
CREATED:20170212T182405Z
LAST-MODIFIED:20170212T182405Z
UID:912-1487498400-1487502000@gyularef.hu
SUMMARY:Istentisztelet
DESCRIPTION:
URL:https://gyularef.hu/event/istentisztelet-9/
LOCATION:Templom\, Petőfi tér 4.\, Gyula\, Békés\, 5700\, Magyarország
CATEGORIES:Istentisztelet
ATTACH;FMTTYPE=image/jpeg:https://gyularef.hu/wp-content/uploads/2016/08/istentisztelet.jpg
END:VEVENT
BEGIN:VEVENT
DTSTART;TZID=Europe/Budapest:20170219T091500
DTEND;TZID=Europe/Budapest:20170219T095000
DTSTAMP:20260423T100616
CREATED:20170212T182304Z
LAST-MODIFIED:20170212T182304Z
UID:910-1487495700-1487497800@gyularef.hu
SUMMARY:Imaközösség
DESCRIPTION:
URL:https://gyularef.hu/event/imakozosseg-14/
LOCATION:Gyülekezeti kisterem\, Petőfi tér 4.\, Gyula\, Békés\, 5700\, Magyarország
CATEGORIES:Imaközösség
ATTACH;FMTTYPE=image/jpeg:https://gyularef.hu/wp-content/uploads/2016/09/imakozosseg.jpg
END:VEVENT
BEGIN:VEVENT
DTSTART;TZID=Europe/Budapest:20170217T180000
DTEND;TZID=Europe/Budapest:20170217T190000
DTSTAMP:20260423T100616
CREATED:20170212T182143Z
LAST-MODIFIED:20170212T182143Z
UID:908-1487354400-1487358000@gyularef.hu
SUMMARY:Fiatalok bibliaköre
DESCRIPTION:
URL:https://gyularef.hu/event/fiatalok-bibliakore-18/
LOCATION:Kisház\, Petőfi tér 4.\, Gyula\, Békés\, 5700\, Magyarország
CATEGORIES:Fiatalok bibliaköre
ATTACH;FMTTYPE=image/jpeg:https://gyularef.hu/wp-content/uploads/2016/08/ofi.jpg
END:VEVENT
BEGIN:VEVENT
DTSTART;TZID=Europe/Budapest:20170217T150000
DTEND;TZID=Europe/Budapest:20170217T160000
DTSTAMP:20260423T100616
CREATED:20170212T182038Z
LAST-MODIFIED:20170212T182038Z
UID:906-1487343600-1487347200@gyularef.hu
SUMMARY:Biztos Szikla klub
DESCRIPTION:
URL:https://gyularef.hu/event/biztos-szikla-klub-14/
LOCATION:Kisház\, Petőfi tér 4.\, Gyula\, Békés\, 5700\, Magyarország
CATEGORIES:Biztos Szikla klub
ATTACH;FMTTYPE=image/jpeg:https://gyularef.hu/wp-content/uploads/2016/08/biztos_szikla.jpg
END:VEVENT
BEGIN:VEVENT
DTSTART;TZID=Europe/Budapest:20170217T140000
DTEND;TZID=Europe/Budapest:20170217T150000
DTSTAMP:20260423T100616
CREATED:20170212T181848Z
LAST-MODIFIED:20170212T181848Z
UID:904-1487340000-1487343600@gyularef.hu
SUMMARY:Konfirmációs óra (ifjúsági)
DESCRIPTION:
URL:https://gyularef.hu/event/konfirmacios-ora-ifjusagi-16/
LOCATION:Kisház\, Petőfi tér 4.\, Gyula\, Békés\, 5700\, Magyarország
CATEGORIES:Bibliaóra
ATTACH;FMTTYPE=image/jpeg:https://gyularef.hu/wp-content/uploads/2016/09/biztos_szikla.jpg
END:VEVENT
BEGIN:VEVENT
DTSTART;TZID=Europe/Budapest:20170216T180000
DTEND;TZID=Europe/Budapest:20170216T190000
DTSTAMP:20260423T100616
CREATED:20170212T181511Z
LAST-MODIFIED:20170212T181511Z
UID:902-1487268000-1487271600@gyularef.hu
SUMMARY:Református hit alapjai - Korunk családi modelljei és a bibliai család modell
DESCRIPTION:
URL:https://gyularef.hu/event/reformatus-hit-alapjai-korunk-csaladi-modelljei-es-a-bibliai-csalad-modell/
LOCATION:Gyülekezeti kisterem\, Petőfi tér 4.\, Gyula\, Békés\, 5700\, Magyarország
CATEGORIES:Bibliaóra
ATTACH;FMTTYPE=image/jpeg:https://gyularef.hu/wp-content/uploads/2017/02/haz_hete.jpg
END:VEVENT
BEGIN:VEVENT
DTSTART;TZID=Europe/Budapest:20170216T140000
DTEND;TZID=Europe/Budapest:20170216T150000
DTSTAMP:20260423T100616
CREATED:20170212T183103Z
LAST-MODIFIED:20170212T183103Z
UID:918-1487253600-1487257200@gyularef.hu
SUMMARY:Debreczeni Hajnal búcsúztatása
DESCRIPTION:
URL:https://gyularef.hu/event/debreczeni-hajnal-bucsuztatasa/
LOCATION:Templom\, Petőfi tér 4.\, Gyula\, Békés\, 5700\, Magyarország
CATEGORIES:Istentisztelet
ATTACH;FMTTYPE=image/jpeg:https://gyularef.hu/wp-content/uploads/2017/02/hajni_bucsuztato.jpg
END:VEVENT
BEGIN:VEVENT
DTSTART;TZID=Europe/Budapest:20170216T100000
DTEND;TZID=Europe/Budapest:20170216T110000
DTSTAMP:20260423T100616
CREATED:20170212T180942Z
LAST-MODIFIED:20170212T180942Z
UID:897-1487239200-1487242800@gyularef.hu
SUMMARY:Baba - mama kör
DESCRIPTION:
URL:https://gyularef.hu/event/baba-mama-kor-14/
LOCATION:Kisház\, Petőfi tér 4.\, Gyula\, Békés\, 5700\, Magyarország
CATEGORIES:Baba-mama kör
ATTACH;FMTTYPE=image/jpeg:https://gyularef.hu/wp-content/uploads/2016/09/baba_mama.jpg
END:VEVENT
BEGIN:VEVENT
DTSTART;TZID=Europe/Budapest:20170215T180000
DTEND;TZID=Europe/Budapest:20170215T190000
DTSTAMP:20260423T100616
CREATED:20170212T180754Z
LAST-MODIFIED:20170212T181246Z
UID:895-1487181600-1487185200@gyularef.hu
SUMMARY:Bibliaóra - A hűség értelme egy hűtlen korban
DESCRIPTION:
URL:https://gyularef.hu/event/bibliaora-a-huseg-ertelme-egy-hutlen-korban/
LOCATION:Kálvin utcai gyülekezeti ház\, Kálvin u. 4.\, Gyula\, Békés\, 5700\, Magyarország
CATEGORIES:Bibliaóra
ATTACH;FMTTYPE=image/jpeg:https://gyularef.hu/wp-content/uploads/2017/02/haz_hete.jpg
END:VEVENT
BEGIN:VEVENT
DTSTART;TZID=Europe/Budapest:20170213T180000
DTEND;TZID=Europe/Budapest:20170213T190000
DTSTAMP:20260423T100616
CREATED:20170212T180603Z
LAST-MODIFIED:20170212T180603Z
UID:893-1487008800-1487012400@gyularef.hu
SUMMARY:Nők bibliaköre
DESCRIPTION:
URL:https://gyularef.hu/event/nok-bibliakore-2/
LOCATION:Gyülekezeti kisterem\, Petőfi tér 4.\, Gyula\, Békés\, 5700\, Magyarország
CATEGORIES:Bibliaóra
ATTACH;FMTTYPE=image/jpeg:https://gyularef.hu/wp-content/uploads/2016/11/noikor_hirhez.jpg
END:VEVENT
BEGIN:VEVENT
DTSTART;TZID=Europe/Budapest:20170212T170000
DTEND;TZID=Europe/Budapest:20170212T180000
DTSTAMP:20260423T100616
CREATED:20170205T113422Z
LAST-MODIFIED:20170205T113422Z
UID:864-1486918800-1486922400@gyularef.hu
SUMMARY:Istentisztelet (du)
DESCRIPTION:
URL:https://gyularef.hu/event/istentisztelet-du-10/
LOCATION:Gyülekezeti kisterem\, Petőfi tér 4.\, Gyula\, Békés\, 5700\, Magyarország
CATEGORIES:Istentisztelet
ATTACH;FMTTYPE=image/jpeg:https://gyularef.hu/wp-content/uploads/2016/09/bibliaora.jpg
END:VEVENT
BEGIN:VEVENT
DTSTART;TZID=Europe/Budapest:20170212T100000
DTEND;TZID=Europe/Budapest:20170212T110000
DTSTAMP:20260423T100616
CREATED:20170205T113311Z
LAST-MODIFIED:20170205T113311Z
UID:862-1486893600-1486897200@gyularef.hu
SUMMARY:Családi istentisztelet
DESCRIPTION:
URL:https://gyularef.hu/event/csaladi-istentisztelet-4/
LOCATION:Templom\, Petőfi tér 4.\, Gyula\, Békés\, 5700\, Magyarország
CATEGORIES:Istentisztelet
ATTACH;FMTTYPE=image/jpeg:https://gyularef.hu/wp-content/uploads/2016/08/istentisztelet.jpg
END:VEVENT
BEGIN:VEVENT
DTSTART;TZID=Europe/Budapest:20170212T091500
DTEND;TZID=Europe/Budapest:20170212T095000
DTSTAMP:20260423T100616
CREATED:20170205T113158Z
LAST-MODIFIED:20170205T113158Z
UID:860-1486890900-1486893000@gyularef.hu
SUMMARY:Imaközösség
DESCRIPTION:
URL:https://gyularef.hu/event/imakozosseg-13/
LOCATION:Gyülekezeti kisterem\, Petőfi tér 4.\, Gyula\, Békés\, 5700\, Magyarország
CATEGORIES:Imaközösség
ATTACH;FMTTYPE=image/jpeg:https://gyularef.hu/wp-content/uploads/2016/09/imakozosseg.jpg
END:VEVENT
END:VCALENDAR