BEGIN:VCALENDAR
VERSION:2.0
PRODID:-//Gyulai Református Egyházközség - ECPv6.11.2.1//NONSGML v1.0//EN
CALSCALE:GREGORIAN
METHOD:PUBLISH
X-WR-CALNAME:Gyulai Református Egyházközség
X-ORIGINAL-URL:https://gyularef.hu
X-WR-CALDESC:Events for Gyulai Református Egyházközség
REFRESH-INTERVAL;VALUE=DURATION:PT1H
X-Robots-Tag:noindex
X-PUBLISHED-TTL:PT1H
BEGIN:VTIMEZONE
TZID:Europe/Budapest
BEGIN:DAYLIGHT
TZOFFSETFROM:+0100
TZOFFSETTO:+0200
TZNAME:CEST
DTSTART:20170326T010000
END:DAYLIGHT
BEGIN:STANDARD
TZOFFSETFROM:+0200
TZOFFSETTO:+0100
TZNAME:CET
DTSTART:20171029T010000
END:STANDARD
END:VTIMEZONE
BEGIN:VEVENT
DTSTART;TZID=Europe/Budapest:20171009T080000
DTEND;TZID=Europe/Budapest:20171009T083000
DTSTAMP:20260421T050421
CREATED:20171008T135349Z
LAST-MODIFIED:20171008T135349Z
UID:1868-1507536000-1507537800@gyularef.hu
SUMMARY:Hétkezdő áhítat
DESCRIPTION:
URL:https://gyularef.hu/event/hetkezdo-ahitat-3/
LOCATION:Templom\, Petőfi tér 4.\, Gyula\, Békés\, 5700\, Magyarország
CATEGORIES:Istentisztelet
ATTACH;FMTTYPE=image/jpeg:https://gyularef.hu/wp-content/uploads/2016/08/templomunk.jpg
END:VEVENT
BEGIN:VEVENT
DTSTART;TZID=Europe/Budapest:20171009T180000
DTEND;TZID=Europe/Budapest:20171009T190000
DTSTAMP:20260421T050421
CREATED:20171008T135442Z
LAST-MODIFIED:20171008T135503Z
UID:1870-1507572000-1507575600@gyularef.hu
SUMMARY:Szolgálattevők bibliaórája
DESCRIPTION:
URL:https://gyularef.hu/event/szolgaltattevok-bibliaoraja/
LOCATION:Gyülekezeti kisterem\, Petőfi tér 4.\, Gyula\, Békés\, 5700\, Magyarország
CATEGORIES:Bibliaóra
ATTACH;FMTTYPE=image/jpeg:https://gyularef.hu/wp-content/uploads/2017/10/biblia-.jpg
END:VEVENT
BEGIN:VEVENT
DTSTART;TZID=Europe/Budapest:20171011T163000
DTEND;TZID=Europe/Budapest:20171011T173000
DTSTAMP:20260421T050421
CREATED:20171008T135634Z
LAST-MODIFIED:20171008T135634Z
UID:1873-1507739400-1507743000@gyularef.hu
SUMMARY:Nőszövetségi alkalom
DESCRIPTION:
URL:https://gyularef.hu/event/noszovetsegi-alkalom-2/
LOCATION:Békés
CATEGORIES:Nők bibliaköre
ATTACH;FMTTYPE=image/jpeg:https://gyularef.hu/wp-content/uploads/2016/11/noikor_hirhez.jpg
END:VEVENT
BEGIN:VEVENT
DTSTART;TZID=Europe/Budapest:20171011T180000
DTEND;TZID=Europe/Budapest:20171011T190000
DTSTAMP:20260421T050421
CREATED:20171008T135812Z
LAST-MODIFIED:20171008T135812Z
UID:1875-1507744800-1507748400@gyularef.hu
SUMMARY:Bibliaóra
DESCRIPTION:
URL:https://gyularef.hu/event/bibliaora-15/
LOCATION:Magvető Ref. Ált. Isk. ebédlője\, Kálvin utca\, Gyula\, 5700\, Magyarország
CATEGORIES:Bibliaóra
ATTACH;FMTTYPE=image/jpeg:https://gyularef.hu/wp-content/uploads/2016/09/bibliaora_sz.jpg
END:VEVENT
BEGIN:VEVENT
DTSTART;TZID=Europe/Budapest:20171012T100000
DTEND;TZID=Europe/Budapest:20171012T110000
DTSTAMP:20260421T050421
CREATED:20171008T135902Z
LAST-MODIFIED:20171008T135903Z
UID:1878-1507802400-1507806000@gyularef.hu
SUMMARY:Baba - mama kör
DESCRIPTION:
URL:https://gyularef.hu/event/baba-mama-kor-34/
LOCATION:Kisház\, Petőfi tér 4.\, Gyula\, Békés\, 5700\, Magyarország
CATEGORIES:Baba-mama kör
ATTACH;FMTTYPE=image/jpeg:https://gyularef.hu/wp-content/uploads/2016/09/baba_mama.jpg
END:VEVENT
BEGIN:VEVENT
DTSTART;TZID=Europe/Budapest:20171013T140000
DTEND;TZID=Europe/Budapest:20171013T150000
DTSTAMP:20260421T050421
CREATED:20171008T140012Z
LAST-MODIFIED:20171008T140012Z
UID:1880-1507903200-1507906800@gyularef.hu
SUMMARY:Konfrimáció felkészítő alkalom
DESCRIPTION:
URL:https://gyularef.hu/event/konfrimacio-felkeszito-alkalom/
LOCATION:Gyülekezeti kisterem\, Petőfi tér 4.\, Gyula\, Békés\, 5700\, Magyarország
CATEGORIES:Bibliaóra
ATTACH;FMTTYPE=image/gif:https://gyularef.hu/wp-content/uploads/2017/06/imadkozo-pap2.gif
END:VEVENT
BEGIN:VEVENT
DTSTART;TZID=Europe/Budapest:20171013T150000
DTEND;TZID=Europe/Budapest:20171013T160000
DTSTAMP:20260421T050421
CREATED:20171008T140113Z
LAST-MODIFIED:20171008T140113Z
UID:1882-1507906800-1507910400@gyularef.hu
SUMMARY:Ifjúsági óra - Biztos Szikla klub
DESCRIPTION:
URL:https://gyularef.hu/event/ifjusagi-ora-biztos-szikla-klub-26/
LOCATION:Kisház\, Petőfi tér 4.\, Gyula\, Békés\, 5700\, Magyarország
CATEGORIES:Biztos Szikla klub
ATTACH;FMTTYPE=image/jpeg:https://gyularef.hu/wp-content/uploads/2016/08/biztos_szikla.jpg
END:VEVENT
BEGIN:VEVENT
DTSTART;TZID=Europe/Budapest:20171013T180000
DTEND;TZID=Europe/Budapest:20171013T190000
DTSTAMP:20260421T050421
CREATED:20171008T140154Z
LAST-MODIFIED:20171008T140154Z
UID:1884-1507917600-1507921200@gyularef.hu
SUMMARY:Fiatalok bibliaköre
DESCRIPTION:
URL:https://gyularef.hu/event/fiatalok-bibliakore-46/
LOCATION:Kisház\, Petőfi tér 4.\, Gyula\, Békés\, 5700\, Magyarország
CATEGORIES:Fiatalok bibliaköre
ATTACH;FMTTYPE=image/jpeg:https://gyularef.hu/wp-content/uploads/2016/08/ofi.jpg
END:VEVENT
BEGIN:VEVENT
DTSTART;TZID=Europe/Budapest:20171015T093000
DTEND;TZID=Europe/Budapest:20171015T095000
DTSTAMP:20260421T050421
CREATED:20171008T140242Z
LAST-MODIFIED:20171008T140242Z
UID:1886-1508059800-1508061000@gyularef.hu
SUMMARY:Imaközösség
DESCRIPTION:
URL:https://gyularef.hu/event/imakozosseg-45/
LOCATION:Gyülekezeti kisterem\, Petőfi tér 4.\, Gyula\, Békés\, 5700\, Magyarország
CATEGORIES:Imaközösség
ATTACH;FMTTYPE=image/jpeg:https://gyularef.hu/wp-content/uploads/2016/09/imakozosseg.jpg
END:VEVENT
BEGIN:VEVENT
DTSTART;TZID=Europe/Budapest:20171015T100000
DTEND;TZID=Europe/Budapest:20171015T110000
DTSTAMP:20260421T050421
CREATED:20171008T140330Z
LAST-MODIFIED:20171008T140330Z
UID:1888-1508061600-1508065200@gyularef.hu
SUMMARY:Istentisztelet
DESCRIPTION:
URL:https://gyularef.hu/event/istentisztelet-30/
LOCATION:Templom\, Petőfi tér 4.\, Gyula\, Békés\, 5700\, Magyarország
CATEGORIES:Istentisztelet
ATTACH;FMTTYPE=image/jpeg:https://gyularef.hu/wp-content/uploads/2016/08/istentisztelet.jpg
END:VEVENT
BEGIN:VEVENT
DTSTART;TZID=Europe/Budapest:20171015T170000
DTEND;TZID=Europe/Budapest:20171015T180000
DTSTAMP:20260421T050421
CREATED:20171008T140418Z
LAST-MODIFIED:20171008T140418Z
UID:1890-1508086800-1508090400@gyularef.hu
SUMMARY:Istentisztelet (du)
DESCRIPTION:
URL:https://gyularef.hu/event/istentisztelet-du-35/
LOCATION:Gyülekezeti kisterem\, Petőfi tér 4.\, Gyula\, Békés\, 5700\, Magyarország
CATEGORIES:Istentisztelet
ATTACH;FMTTYPE=image/jpeg:https://gyularef.hu/wp-content/uploads/2016/09/bibliaora.jpg
END:VEVENT
BEGIN:VEVENT
DTSTART;TZID=Europe/Budapest:20171016T180000
DTEND;TZID=Europe/Budapest:20171016T190000
DTSTAMP:20260421T050421
CREATED:20171016T054812Z
LAST-MODIFIED:20171016T054812Z
UID:1905-1508176800-1508180400@gyularef.hu
SUMMARY:Nők bibliaköre
DESCRIPTION:
URL:https://gyularef.hu/event/nok-bibliakore-3/
LOCATION:Gyülekezeti kisterem\, Petőfi tér 4.\, Gyula\, Békés\, 5700\, Magyarország
CATEGORIES:Bibliaóra
ATTACH;FMTTYPE=image/jpeg:https://gyularef.hu/wp-content/uploads/2017/10/biblia-.jpg
END:VEVENT
BEGIN:VEVENT
DTSTART;TZID=Europe/Budapest:20171018T180000
DTEND;TZID=Europe/Budapest:20171018T190000
DTSTAMP:20260421T050421
CREATED:20171016T054848Z
LAST-MODIFIED:20171016T054848Z
UID:1907-1508349600-1508353200@gyularef.hu
SUMMARY:Bibliaóra
DESCRIPTION:
URL:https://gyularef.hu/event/bibliaora-16/
LOCATION:Magvető Ref. Ált. Isk. ebédlője\, Kálvin utca\, Gyula\, 5700\, Magyarország
CATEGORIES:Bibliaóra
ATTACH;FMTTYPE=image/jpeg:https://gyularef.hu/wp-content/uploads/2016/09/bibliaora_sz.jpg
END:VEVENT
BEGIN:VEVENT
DTSTART;TZID=Europe/Budapest:20171019T100000
DTEND;TZID=Europe/Budapest:20171019T110000
DTSTAMP:20260421T050421
CREATED:20171016T054926Z
LAST-MODIFIED:20171016T054926Z
UID:1909-1508407200-1508410800@gyularef.hu
SUMMARY:Baba - mama kör
DESCRIPTION:
URL:https://gyularef.hu/event/baba-mama-kor-35/
LOCATION:Békés
CATEGORIES:Baba-mama kör
ATTACH;FMTTYPE=image/jpeg:https://gyularef.hu/wp-content/uploads/2016/09/baba_mama.jpg
END:VEVENT
BEGIN:VEVENT
DTSTART;TZID=Europe/Budapest:20171019T180000
DTEND;TZID=Europe/Budapest:20171019T190000
DTSTAMP:20260421T050421
CREATED:20171016T055020Z
LAST-MODIFIED:20171016T055020Z
UID:1911-1508436000-1508439600@gyularef.hu
SUMMARY:Presbiteri gyűlés
DESCRIPTION:
URL:https://gyularef.hu/event/presbiteri-gyules-5/
LOCATION:Gyülekezeti kisterem\, Petőfi tér 4.\, Gyula\, Békés\, 5700\, Magyarország
CATEGORIES:Bibliaóra
ATTACH;FMTTYPE=image/gif:https://gyularef.hu/wp-content/uploads/2017/06/imadkozo-pap2.gif
END:VEVENT
BEGIN:VEVENT
DTSTART;TZID=Europe/Budapest:20171020T140000
DTEND;TZID=Europe/Budapest:20171020T150000
DTSTAMP:20260421T050421
CREATED:20171016T055135Z
LAST-MODIFIED:20171016T055135Z
UID:1913-1508508000-1508511600@gyularef.hu
SUMMARY:Konfirmáció felkészítő alkalom
DESCRIPTION:
URL:https://gyularef.hu/event/konfirmacio-felkeszito-alkalom/
LOCATION:Gyülekezeti kisterem\, Petőfi tér 4.\, Gyula\, Békés\, 5700\, Magyarország
CATEGORIES:Bibliaóra
ATTACH;FMTTYPE=image/jpeg:https://gyularef.hu/wp-content/uploads/2016/08/templomunk.jpg
END:VEVENT
BEGIN:VEVENT
DTSTART;TZID=Europe/Budapest:20171020T150000
DTEND;TZID=Europe/Budapest:20171020T160000
DTSTAMP:20260421T050421
CREATED:20171016T055232Z
LAST-MODIFIED:20171016T055232Z
UID:1915-1508511600-1508515200@gyularef.hu
SUMMARY:Ifjúsági óra - Biztos Szikla klub
DESCRIPTION:
URL:https://gyularef.hu/event/ifjusagi-ora-biztos-szikla-klub-27/
LOCATION:Kisház\, Petőfi tér 4.\, Gyula\, Békés\, 5700\, Magyarország
CATEGORIES:Biztos Szikla klub
ATTACH;FMTTYPE=image/jpeg:https://gyularef.hu/wp-content/uploads/2016/08/biztos_szikla.jpg
END:VEVENT
BEGIN:VEVENT
DTSTART;TZID=Europe/Budapest:20171020T180000
DTEND;TZID=Europe/Budapest:20171020T190000
DTSTAMP:20260421T050421
CREATED:20171016T055311Z
LAST-MODIFIED:20171016T055311Z
UID:1917-1508522400-1508526000@gyularef.hu
SUMMARY:Fiatalok bibliaköre
DESCRIPTION:
URL:https://gyularef.hu/event/fiatalok-bibliakore-47/
LOCATION:Kisház\, Petőfi tér 4.\, Gyula\, Békés\, 5700\, Magyarország
CATEGORIES:Fiatalok bibliaköre
ATTACH;FMTTYPE=image/jpeg:https://gyularef.hu/wp-content/uploads/2016/08/ofi.jpg
END:VEVENT
BEGIN:VEVENT
DTSTART;TZID=Europe/Budapest:20171022T093000
DTEND;TZID=Europe/Budapest:20171022T095000
DTSTAMP:20260421T050421
CREATED:20171016T055400Z
LAST-MODIFIED:20171016T055400Z
UID:1919-1508664600-1508665800@gyularef.hu
SUMMARY:Imaközösség
DESCRIPTION:
URL:https://gyularef.hu/event/imakozosseg-46/
LOCATION:Gyülekezeti kisterem\, Petőfi tér 4.\, Gyula\, Békés\, 5700\, Magyarország
CATEGORIES:Imaközösség
ATTACH;FMTTYPE=image/jpeg:https://gyularef.hu/wp-content/uploads/2016/09/imakozosseg.jpg
END:VEVENT
BEGIN:VEVENT
DTSTART;TZID=Europe/Budapest:20171022T100000
DTEND;TZID=Europe/Budapest:20171022T110000
DTSTAMP:20260421T050421
CREATED:20171016T055439Z
LAST-MODIFIED:20171016T055439Z
UID:1921-1508666400-1508670000@gyularef.hu
SUMMARY:Istentisztelet
DESCRIPTION:
URL:https://gyularef.hu/event/istentisztelet-31/
LOCATION:Templom\, Petőfi tér 4.\, Gyula\, Békés\, 5700\, Magyarország
CATEGORIES:Istentisztelet
ATTACH;FMTTYPE=image/jpeg:https://gyularef.hu/wp-content/uploads/2016/08/istentisztelet.jpg
END:VEVENT
BEGIN:VEVENT
DTSTART;TZID=Europe/Budapest:20171022T170000
DTEND;TZID=Europe/Budapest:20171022T180000
DTSTAMP:20260421T050421
CREATED:20171016T055524Z
LAST-MODIFIED:20171016T055524Z
UID:1923-1508691600-1508695200@gyularef.hu
SUMMARY:Istentisztelet (du)
DESCRIPTION:
URL:https://gyularef.hu/event/istentisztelet-du-36/
LOCATION:Gyülekezeti kisterem\, Petőfi tér 4.\, Gyula\, Békés\, 5700\, Magyarország
CATEGORIES:Istentisztelet
ATTACH;FMTTYPE=image/jpeg:https://gyularef.hu/wp-content/uploads/2016/09/bibliaora.jpg
END:VEVENT
BEGIN:VEVENT
DTSTART;TZID=Europe/Budapest:20171024T180000
DTEND;TZID=Europe/Budapest:20171024T180000
DTSTAMP:20260421T050421
CREATED:20171024T054910Z
LAST-MODIFIED:20171024T054910Z
UID:2001-1508868000-1508868000@gyularef.hu
SUMMARY:Bűnbánati istentisztelet (K)
DESCRIPTION:
URL:https://gyularef.hu/event/bunbanati-istentisztelet-k-4/
LOCATION:Gyülekezeti kisterem\, Petőfi tér 4.\, Gyula\, Békés\, 5700\, Magyarország
CATEGORIES:Bűnbánati istentisztelet
ATTACH;FMTTYPE=image/jpeg:https://gyularef.hu/wp-content/uploads/2016/09/bibliaora_sz.jpg
END:VEVENT
BEGIN:VEVENT
DTSTART;TZID=Europe/Budapest:20171025T100000
DTEND;TZID=Europe/Budapest:20171025T110000
DTSTAMP:20260421T050421
CREATED:20171024T055157Z
LAST-MODIFIED:20171024T055157Z
UID:2009-1508925600-1508929200@gyularef.hu
SUMMARY:Baba - mama kör
DESCRIPTION:
URL:https://gyularef.hu/event/baba-mama-kor-36/
LOCATION:Kisház\, Petőfi tér 4.\, Gyula\, Békés\, 5700\, Magyarország
CATEGORIES:Baba-mama kör
ATTACH;FMTTYPE=image/jpeg:https://gyularef.hu/wp-content/uploads/2016/09/baba_mama.jpg
END:VEVENT
BEGIN:VEVENT
DTSTART;TZID=Europe/Budapest:20171025T180000
DTEND;TZID=Europe/Budapest:20171025T190000
DTSTAMP:20260421T050421
CREATED:20171024T054952Z
LAST-MODIFIED:20171024T054952Z
UID:2003-1508954400-1508958000@gyularef.hu
SUMMARY:Bűnbánati istentisztelet (Sz)
DESCRIPTION:
URL:https://gyularef.hu/event/bunbanati-istentisztelet-sz-3/
LOCATION:Gyülekezeti kisterem\, Petőfi tér 4.\, Gyula\, Békés\, 5700\, Magyarország
CATEGORIES:Bűnbánati istentisztelet
ATTACH;FMTTYPE=image/jpeg:https://gyularef.hu/wp-content/uploads/2016/09/bibliaora_sz.jpg
END:VEVENT
BEGIN:VEVENT
DTSTART;TZID=Europe/Budapest:20171026T180000
DTEND;TZID=Europe/Budapest:20171026T190000
DTSTAMP:20260421T050421
CREATED:20171024T055032Z
LAST-MODIFIED:20171024T055032Z
UID:2005-1509040800-1509044400@gyularef.hu
SUMMARY:Bűnbánati istentisztelet (Cs)
DESCRIPTION:
URL:https://gyularef.hu/event/bunbanati-istentisztelet-cs-4/
LOCATION:Gyülekezeti kisterem\, Petőfi tér 4.\, Gyula\, Békés\, 5700\, Magyarország
CATEGORIES:Bűnbánati istentisztelet
ATTACH;FMTTYPE=image/jpeg:https://gyularef.hu/wp-content/uploads/2016/09/bibliaora_sz.jpg
END:VEVENT
BEGIN:VEVENT
DTSTART;TZID=Europe/Budapest:20171027T140000
DTEND;TZID=Europe/Budapest:20171027T150000
DTSTAMP:20260421T050421
CREATED:20171024T055316Z
LAST-MODIFIED:20171024T055316Z
UID:2011-1509112800-1509116400@gyularef.hu
SUMMARY:Konfirmáció felkészítő alkalom
DESCRIPTION:
URL:https://gyularef.hu/event/konfirmacio-felkeszito-alkalom-2/
LOCATION:Gyülekezeti kisterem\, Petőfi tér 4.\, Gyula\, Békés\, 5700\, Magyarország
CATEGORIES:Bibliaóra
ATTACH;FMTTYPE=image/jpeg:https://gyularef.hu/wp-content/uploads/2017/10/biblia-.jpg
END:VEVENT
BEGIN:VEVENT
DTSTART;TZID=Europe/Budapest:20171027T150000
DTEND;TZID=Europe/Budapest:20171027T160000
DTSTAMP:20260421T050421
CREATED:20171024T055409Z
LAST-MODIFIED:20171024T055409Z
UID:2013-1509116400-1509120000@gyularef.hu
SUMMARY:Ifjúsági óra - Biztos Szikla klub
DESCRIPTION:
URL:https://gyularef.hu/event/ifjusagi-ora-biztos-szikla-klub-28/
LOCATION:Kisház\, Petőfi tér 4.\, Gyula\, Békés\, 5700\, Magyarország
CATEGORIES:Biztos Szikla klub
ATTACH;FMTTYPE=image/jpeg:https://gyularef.hu/wp-content/uploads/2016/08/biztos_szikla.jpg
END:VEVENT
BEGIN:VEVENT
DTSTART;TZID=Europe/Budapest:20171027T180000
DTEND;TZID=Europe/Budapest:20171027T190000
DTSTAMP:20260421T050421
CREATED:20171024T055114Z
LAST-MODIFIED:20171024T055114Z
UID:2007-1509127200-1509130800@gyularef.hu
SUMMARY:Bűnbánati istentisztelet (P)
DESCRIPTION:
URL:https://gyularef.hu/event/bunbanati-istentisztelet-p-4/
LOCATION:Gyülekezeti kisterem\, Petőfi tér 4.\, Gyula\, Békés\, 5700\, Magyarország
CATEGORIES:Bűnbánati istentisztelet
ATTACH;FMTTYPE=image/jpeg:https://gyularef.hu/wp-content/uploads/2016/09/bibliaora_sz.jpg
END:VEVENT
BEGIN:VEVENT
DTSTART;TZID=Europe/Budapest:20171027T190000
DTEND;TZID=Europe/Budapest:20171027T210000
DTSTAMP:20260421T050421
CREATED:20171024T055508Z
LAST-MODIFIED:20171024T055508Z
UID:2015-1509130800-1509138000@gyularef.hu
SUMMARY:Fiatalok bibliaköre - Imaéjjel
DESCRIPTION:
URL:https://gyularef.hu/event/fiatalok-bibliakore-imaejjel/
LOCATION:Kisház\, Petőfi tér 4.\, Gyula\, Békés\, 5700\, Magyarország
CATEGORIES:Fiatalok bibliaköre
ATTACH;FMTTYPE=image/jpeg:https://gyularef.hu/wp-content/uploads/2016/08/ofi.jpg
END:VEVENT
BEGIN:VEVENT
DTSTART;TZID=Europe/Budapest:20171028T100000
DTEND;TZID=Europe/Budapest:20171028T120000
DTSTAMP:20260421T050421
CREATED:20171024T055710Z
LAST-MODIFIED:20171024T055710Z
UID:2017-1509184800-1509192000@gyularef.hu
SUMMARY:Békés megyei protestánsok jubileumi találkozója
DESCRIPTION:
URL:https://gyularef.hu/event/bekes-megyei-protestansok-jubileumi-talalkozoja/
LOCATION:Evangélikus templom – Orosháza
CATEGORIES:Istentisztelet
ATTACH;FMTTYPE=image/jpeg:https://gyularef.hu/wp-content/uploads/2017/10/orosházi_evangelikus_templom.jpg
END:VEVENT
END:VCALENDAR