BEGIN:VCALENDAR
VERSION:2.0
PRODID:-//Gyulai Református Egyházközség - ECPv6.11.2.1//NONSGML v1.0//EN
CALSCALE:GREGORIAN
METHOD:PUBLISH
X-WR-CALNAME:Gyulai Református Egyházközség
X-ORIGINAL-URL:https://gyularef.hu
X-WR-CALDESC:Events for Gyulai Református Egyházközség
REFRESH-INTERVAL;VALUE=DURATION:PT1H
X-Robots-Tag:noindex
X-PUBLISHED-TTL:PT1H
BEGIN:VTIMEZONE
TZID:Europe/Budapest
BEGIN:DAYLIGHT
TZOFFSETFROM:+0100
TZOFFSETTO:+0200
TZNAME:CEST
DTSTART:20180325T010000
END:DAYLIGHT
BEGIN:STANDARD
TZOFFSETFROM:+0200
TZOFFSETTO:+0100
TZNAME:CET
DTSTART:20181028T010000
END:STANDARD
END:VTIMEZONE
BEGIN:VEVENT
DTSTART;TZID=Europe/Budapest:20180411T180000
DTEND;TZID=Europe/Budapest:20180411T190000
DTSTAMP:20260420T085725
CREATED:20180408T051711Z
LAST-MODIFIED:20180408T051711Z
UID:3015-1523469600-1523473200@gyularef.hu
SUMMARY:Bibliaóra
DESCRIPTION:
URL:https://gyularef.hu/event/bibliaora-31/
LOCATION:Magvető Ref. Ált. Isk. ebédlője\, Kálvin utca\, Gyula\, 5700\, Magyarország
CATEGORIES:Bibliaóra
ATTACH;FMTTYPE=image/jpeg:https://gyularef.hu/wp-content/uploads/2016/09/bibliaora_sz.jpg
END:VEVENT
BEGIN:VEVENT
DTSTART;TZID=Europe/Budapest:20180412T100000
DTEND;TZID=Europe/Budapest:20180412T110000
DTSTAMP:20260420T085725
CREATED:20180408T051754Z
LAST-MODIFIED:20180408T051754Z
UID:3017-1523527200-1523530800@gyularef.hu
SUMMARY:Baba-mama kör
DESCRIPTION:
URL:https://gyularef.hu/event/baba-mama-kor-52/
LOCATION:Kisház\, Petőfi tér 4.\, Gyula\, Békés\, 5700\, Magyarország
CATEGORIES:Baba-mama kör
ATTACH;FMTTYPE=image/jpeg:https://gyularef.hu/wp-content/uploads/2016/09/baba_mama.jpg
END:VEVENT
BEGIN:VEVENT
DTSTART;TZID=Europe/Budapest:20180412T180000
DTEND;TZID=Europe/Budapest:20180412T190000
DTSTAMP:20260420T085725
CREATED:20180408T051849Z
LAST-MODIFIED:20180408T051849Z
UID:3019-1523556000-1523559600@gyularef.hu
SUMMARY:Református hit alapjai kurzus
DESCRIPTION:
URL:https://gyularef.hu/event/reformatus-hit-alapjai-kurzus-18/
LOCATION:Kisház\, Petőfi tér 4.\, Gyula\, Békés\, 5700\, Magyarország
CATEGORIES:Református hit alapjai kurzus
ATTACH;FMTTYPE=image/jpeg:https://gyularef.hu/wp-content/uploads/2018/04/biblia5.jpg
END:VEVENT
BEGIN:VEVENT
DTSTART;TZID=Europe/Budapest:20180413T140000
DTEND;TZID=Europe/Budapest:20180413T150000
DTSTAMP:20260420T085725
CREATED:20180408T052010Z
LAST-MODIFIED:20180408T052010Z
UID:3021-1523628000-1523631600@gyularef.hu
SUMMARY:Konfirmációs óra (ifjúsági)
DESCRIPTION:
URL:https://gyularef.hu/event/konfirmacios-ora-ifjusagi-47/
LOCATION:Gyülekezeti kisterem\, Petőfi tér 4.\, Gyula\, Békés\, 5700\, Magyarország
CATEGORIES:Konfirmációs óra (ifjúsági)
ATTACH;FMTTYPE=image/jpeg:https://gyularef.hu/wp-content/uploads/2016/09/biztos_szikla.jpg
END:VEVENT
BEGIN:VEVENT
DTSTART;TZID=Europe/Budapest:20180413T150000
DTEND;TZID=Europe/Budapest:20180413T160000
DTSTAMP:20260420T085725
CREATED:20180408T052103Z
LAST-MODIFIED:20180408T052103Z
UID:3023-1523631600-1523635200@gyularef.hu
SUMMARY:Ifjúsági óra Biztos Szikla klub
DESCRIPTION:
URL:https://gyularef.hu/event/ifjusagi-ora-biztos-szikla-klub-43/
LOCATION:Kisház\, Petőfi tér 4.\, Gyula\, Békés\, 5700\, Magyarország
CATEGORIES:Biztos Szikla klub
ATTACH;FMTTYPE=image/jpeg:https://gyularef.hu/wp-content/uploads/2016/08/biztos_szikla.jpg
END:VEVENT
BEGIN:VEVENT
DTSTART;TZID=Europe/Budapest:20180413T180000
DTEND;TZID=Europe/Budapest:20180413T190000
DTSTAMP:20260420T085725
CREATED:20180408T052149Z
LAST-MODIFIED:20180408T052149Z
UID:3025-1523642400-1523646000@gyularef.hu
SUMMARY:Fiatalok bibliaköre
DESCRIPTION:
URL:https://gyularef.hu/event/fiatalok-bibliakore-68/
LOCATION:Kisház\, Petőfi tér 4.\, Gyula\, Békés\, 5700\, Magyarország
CATEGORIES:Fiatalok bibliaköre
ATTACH;FMTTYPE=image/jpeg:https://gyularef.hu/wp-content/uploads/2016/08/ofi.jpg
END:VEVENT
BEGIN:VEVENT
DTSTART;TZID=Europe/Budapest:20180415T093000
DTEND;TZID=Europe/Budapest:20180415T095000
DTSTAMP:20260420T085725
CREATED:20180408T052235Z
LAST-MODIFIED:20180408T052235Z
UID:3027-1523784600-1523785800@gyularef.hu
SUMMARY:Imaközösség
DESCRIPTION:
URL:https://gyularef.hu/event/imakozosseg-68/
LOCATION:Gyülekezeti kisterem\, Petőfi tér 4.\, Gyula\, Békés\, 5700\, Magyarország
CATEGORIES:Imaközösség
ATTACH;FMTTYPE=image/jpeg:https://gyularef.hu/wp-content/uploads/2016/09/imakozosseg.jpg
END:VEVENT
BEGIN:VEVENT
DTSTART;TZID=Europe/Budapest:20180415T100000
DTEND;TZID=Europe/Budapest:20180415T110000
DTSTAMP:20260420T085725
CREATED:20180408T052316Z
LAST-MODIFIED:20180408T052316Z
UID:3029-1523786400-1523790000@gyularef.hu
SUMMARY:Istentisztelet
DESCRIPTION:
URL:https://gyularef.hu/event/istentisztelet-45/
LOCATION:Templom\, Petőfi tér 4.\, Gyula\, Békés\, 5700\, Magyarország
CATEGORIES:Istentisztelet
ATTACH;FMTTYPE=image/jpeg:https://gyularef.hu/wp-content/uploads/2016/08/istentisztelet.jpg
END:VEVENT
BEGIN:VEVENT
DTSTART;TZID=Europe/Budapest:20180415T170000
DTEND;TZID=Europe/Budapest:20180415T180000
DTSTAMP:20260420T085725
CREATED:20180408T052402Z
LAST-MODIFIED:20180408T052402Z
UID:3031-1523811600-1523815200@gyularef.hu
SUMMARY:Istentisztelet (du)
DESCRIPTION:
URL:https://gyularef.hu/event/istentisztelet-du-50/
LOCATION:Gyülekezeti kisterem\, Petőfi tér 4.\, Gyula\, Békés\, 5700\, Magyarország
CATEGORIES:Istentisztelet
ATTACH;FMTTYPE=image/jpeg:https://gyularef.hu/wp-content/uploads/2016/09/bibliaora.jpg
END:VEVENT
BEGIN:VEVENT
DTSTART;TZID=Europe/Budapest:20180418T180000
DTEND;TZID=Europe/Budapest:20180418T190000
DTSTAMP:20260420T085725
CREATED:20180417T163757Z
LAST-MODIFIED:20180417T163757Z
UID:3045-1524074400-1524078000@gyularef.hu
SUMMARY:Bibliaóra
DESCRIPTION:
URL:https://gyularef.hu/event/bibliaora-32/
LOCATION:Magvető Ref. Ált. Isk. ebédlője\, Kálvin utca\, Gyula\, 5700\, Magyarország
CATEGORIES:Bibliaóra
ATTACH;FMTTYPE=image/jpeg:https://gyularef.hu/wp-content/uploads/2016/09/bibliaora_sz.jpg
END:VEVENT
BEGIN:VEVENT
DTSTART;TZID=Europe/Budapest:20180419T100000
DTEND;TZID=Europe/Budapest:20180419T110000
DTSTAMP:20260420T085725
CREATED:20180417T163911Z
LAST-MODIFIED:20180417T163911Z
UID:3047-1524132000-1524135600@gyularef.hu
SUMMARY:Baba-mama kör
DESCRIPTION:
URL:https://gyularef.hu/event/baba-mama-kor-53/
LOCATION:Kisház\, Petőfi tér 4.\, Gyula\, Békés\, 5700\, Magyarország
CATEGORIES:Baba-mama kör
ATTACH;FMTTYPE=image/jpeg:https://gyularef.hu/wp-content/uploads/2016/09/baba_mama.jpg
END:VEVENT
BEGIN:VEVENT
DTSTART;TZID=Europe/Budapest:20180419T180000
DTEND;TZID=Europe/Budapest:20180419T190000
DTSTAMP:20260420T085725
CREATED:20180417T164025Z
LAST-MODIFIED:20180417T164025Z
UID:3049-1524160800-1524164400@gyularef.hu
SUMMARY:Református hit alapjai kurzus
DESCRIPTION:
URL:https://gyularef.hu/event/reformatus-hit-alapjai-kurzus-19/
LOCATION:Kisház\, Petőfi tér 4.\, Gyula\, Békés\, 5700\, Magyarország
CATEGORIES:Református hit alapjai kurzus
ATTACH;FMTTYPE=image/jpeg:https://gyularef.hu/wp-content/uploads/2016/09/bibliaora.jpg
END:VEVENT
BEGIN:VEVENT
DTSTART;TZID=Europe/Budapest:20180420T140000
DTEND;TZID=Europe/Budapest:20180420T150000
DTSTAMP:20260420T085725
CREATED:20180417T164200Z
LAST-MODIFIED:20180417T164200Z
UID:3051-1524232800-1524236400@gyularef.hu
SUMMARY:Konfirmációs óra (ifjúsági)
DESCRIPTION:
URL:https://gyularef.hu/event/konfirmacios-ora-ifjusagi-48/
LOCATION:Gyülekezeti kisterem\, Petőfi tér 4.\, Gyula\, Békés\, 5700\, Magyarország
CATEGORIES:Konfirmációs óra (ifjúsági)
ATTACH;FMTTYPE=image/jpeg:https://gyularef.hu/wp-content/uploads/2016/09/biztos_szikla.jpg
END:VEVENT
BEGIN:VEVENT
DTSTART;TZID=Europe/Budapest:20180420T150000
DTEND;TZID=Europe/Budapest:20180420T160000
DTSTAMP:20260420T085725
CREATED:20180417T164321Z
LAST-MODIFIED:20180417T164321Z
UID:3053-1524236400-1524240000@gyularef.hu
SUMMARY:Ifjúsági óra Biztos Szikla klub
DESCRIPTION:
URL:https://gyularef.hu/event/ifjusagi-ora-biztos-szikla-klub-44/
LOCATION:Kisház\, Petőfi tér 4.\, Gyula\, Békés\, 5700\, Magyarország
CATEGORIES:Biztos Szikla klub
ATTACH;FMTTYPE=image/jpeg:https://gyularef.hu/wp-content/uploads/2016/08/biztos_szikla.jpg
END:VEVENT
BEGIN:VEVENT
DTSTART;TZID=Europe/Budapest:20180420T180000
DTEND;TZID=Europe/Budapest:20180420T190000
DTSTAMP:20260420T085725
CREATED:20180417T164409Z
LAST-MODIFIED:20180417T164409Z
UID:3055-1524247200-1524250800@gyularef.hu
SUMMARY:Fiatalok bibliaköre
DESCRIPTION:
URL:https://gyularef.hu/event/fiatalok-bibliakore-69/
LOCATION:Kisház\, Petőfi tér 4.\, Gyula\, Békés\, 5700\, Magyarország
CATEGORIES:Fiatalok bibliaköre
ATTACH;FMTTYPE=image/jpeg:https://gyularef.hu/wp-content/uploads/2016/08/ofi.jpg
END:VEVENT
BEGIN:VEVENT
DTSTART;TZID=Europe/Budapest:20180421T090000
DTEND;TZID=Europe/Budapest:20180421T100000
DTSTAMP:20260420T085725
CREATED:20180417T164539Z
LAST-MODIFIED:20180417T164539Z
UID:3057-1524301200-1524304800@gyularef.hu
SUMMARY:Egyházmegyei Konfirmandus Találkozó
DESCRIPTION:
URL:https://gyularef.hu/event/egyhazmegyei-konfirmandus-talalkozo/
LOCATION:Református templom – Békés\, Békés\, Magyarország
CATEGORIES:Csendesnap
ATTACH;FMTTYPE=image/jpeg:https://gyularef.hu/wp-content/uploads/2018/03/hands-2168901_1920.jpg
END:VEVENT
BEGIN:VEVENT
DTSTART;TZID=Europe/Budapest:20180422T093000
DTEND;TZID=Europe/Budapest:20180422T095000
DTSTAMP:20260420T085725
CREATED:20180417T164642Z
LAST-MODIFIED:20180417T164642Z
UID:3059-1524389400-1524390600@gyularef.hu
SUMMARY:Imaközösség
DESCRIPTION:
URL:https://gyularef.hu/event/imakozosseg-69/
LOCATION:Gyülekezeti kisterem\, Petőfi tér 4.\, Gyula\, Békés\, 5700\, Magyarország
CATEGORIES:Imaközösség
ATTACH;FMTTYPE=image/jpeg:https://gyularef.hu/wp-content/uploads/2016/09/imakozosseg.jpg
END:VEVENT
BEGIN:VEVENT
DTSTART;TZID=Europe/Budapest:20180422T100000
DTEND;TZID=Europe/Budapest:20180422T110000
DTSTAMP:20260420T085725
CREATED:20180417T164735Z
LAST-MODIFIED:20180417T164735Z
UID:3061-1524391200-1524394800@gyularef.hu
SUMMARY:Istentisztelet
DESCRIPTION:
URL:https://gyularef.hu/event/istentisztelet-46/
LOCATION:Templom\, Petőfi tér 4.\, Gyula\, Békés\, 5700\, Magyarország
CATEGORIES:Istentisztelet
ATTACH;FMTTYPE=image/jpeg:https://gyularef.hu/wp-content/uploads/2016/08/istentisztelet.jpg
END:VEVENT
BEGIN:VEVENT
DTSTART;TZID=Europe/Budapest:20180422T170000
DTEND;TZID=Europe/Budapest:20180422T180000
DTSTAMP:20260420T085725
CREATED:20180417T164839Z
LAST-MODIFIED:20180417T164839Z
UID:3063-1524416400-1524420000@gyularef.hu
SUMMARY:Istentisztelet (du)
DESCRIPTION:
URL:https://gyularef.hu/event/istentisztelet-du-51/
LOCATION:Gyülekezeti kisterem\, Petőfi tér 4.\, Gyula\, Békés\, 5700\, Magyarország
CATEGORIES:Istentisztelet
ATTACH;FMTTYPE=image/jpeg:https://gyularef.hu/wp-content/uploads/2016/09/bibliaora.jpg
END:VEVENT
BEGIN:VEVENT
DTSTART;TZID=Europe/Budapest:20180425T180000
DTEND;TZID=Europe/Budapest:20180425T190000
DTSTAMP:20260420T085725
CREATED:20180425T061514Z
LAST-MODIFIED:20180425T061514Z
UID:3088-1524679200-1524682800@gyularef.hu
SUMMARY:Bibliaóra
DESCRIPTION:
URL:https://gyularef.hu/event/bibliaora-33/
LOCATION:Magvető Ref. Ált. Isk. ebédlője\, Kálvin utca\, Gyula\, 5700\, Magyarország
CATEGORIES:Bibliaóra
ATTACH;FMTTYPE=image/jpeg:https://gyularef.hu/wp-content/uploads/2016/09/bibliaora_sz.jpg
END:VEVENT
BEGIN:VEVENT
DTSTART;TZID=Europe/Budapest:20180426T100000
DTEND;TZID=Europe/Budapest:20180426T110000
DTSTAMP:20260420T085725
CREATED:20180425T061602Z
LAST-MODIFIED:20180425T061602Z
UID:3090-1524736800-1524740400@gyularef.hu
SUMMARY:Baba-mama kör
DESCRIPTION:
URL:https://gyularef.hu/event/baba-mama-kor-54/
LOCATION:Kisház\, Petőfi tér 4.\, Gyula\, Békés\, 5700\, Magyarország
CATEGORIES:Baba-mama kör
ATTACH;FMTTYPE=image/jpeg:https://gyularef.hu/wp-content/uploads/2016/09/baba_mama.jpg
END:VEVENT
BEGIN:VEVENT
DTSTART;TZID=Europe/Budapest:20180427T100000
DTEND;TZID=Europe/Budapest:20180427T103000
DTSTAMP:20260420T085725
CREATED:20180425T061714Z
LAST-MODIFIED:20180425T061714Z
UID:3092-1524823200-1524825000@gyularef.hu
SUMMARY:Nyitó áhítat Országos Bibliai Történetmondó Verseny
DESCRIPTION:
URL:https://gyularef.hu/event/nyito-ahitat-orszagos-bibliai-tortenetmondo-verseny/
LOCATION:Templom\, Petőfi tér 4.\, Gyula\, Békés\, 5700\, Magyarország
CATEGORIES:Imaközösség
ATTACH;FMTTYPE=image/jpeg:https://gyularef.hu/wp-content/uploads/2018/04/biblia5.jpg
END:VEVENT
BEGIN:VEVENT
DTSTART;TZID=Europe/Budapest:20180427T140000
DTEND;TZID=Europe/Budapest:20180427T143000
DTSTAMP:20260420T085725
CREATED:20180425T061754Z
LAST-MODIFIED:20180425T061754Z
UID:3094-1524837600-1524839400@gyularef.hu
SUMMARY:Záró áhítat Országos Bibliai Történetmondó Verseny
DESCRIPTION:
URL:https://gyularef.hu/event/zaro-ahitat-orszagos-bibliai-tortenetmondo-verseny/
LOCATION:Templom\, Petőfi tér 4.\, Gyula\, Békés\, 5700\, Magyarország
ATTACH;FMTTYPE=image/jpeg:https://gyularef.hu/wp-content/uploads/2018/04/biblia5.jpg
END:VEVENT
BEGIN:VEVENT
DTSTART;TZID=Europe/Budapest:20180427T180000
DTEND;TZID=Europe/Budapest:20180427T190000
DTSTAMP:20260420T085725
CREATED:20180425T061839Z
LAST-MODIFIED:20180425T061839Z
UID:3096-1524852000-1524855600@gyularef.hu
SUMMARY:Fiatalok bibliaköre
DESCRIPTION:
URL:https://gyularef.hu/event/fiatalok-bibliakore-70/
LOCATION:Kisház\, Petőfi tér 4.\, Gyula\, Békés\, 5700\, Magyarország
CATEGORIES:Fiatalok bibliaköre
ATTACH;FMTTYPE=image/jpeg:https://gyularef.hu/wp-content/uploads/2016/08/ofi.jpg
END:VEVENT
BEGIN:VEVENT
DTSTART;TZID=Europe/Budapest:20180429T093000
DTEND;TZID=Europe/Budapest:20180429T095000
DTSTAMP:20260420T085725
CREATED:20180425T061926Z
LAST-MODIFIED:20180425T061926Z
UID:3098-1524994200-1524995400@gyularef.hu
SUMMARY:Imaközösség
DESCRIPTION:
URL:https://gyularef.hu/event/imakozosseg-70/
LOCATION:Gyülekezeti kisterem\, Petőfi tér 4.\, Gyula\, Békés\, 5700\, Magyarország
CATEGORIES:Imaközösség
ATTACH;FMTTYPE=image/jpeg:https://gyularef.hu/wp-content/uploads/2016/09/imakozosseg.jpg
END:VEVENT
BEGIN:VEVENT
DTSTART;TZID=Europe/Budapest:20180429T100000
DTEND;TZID=Europe/Budapest:20180429T110000
DTSTAMP:20260420T085725
CREATED:20180425T062023Z
LAST-MODIFIED:20180425T062023Z
UID:3100-1524996000-1524999600@gyularef.hu
SUMMARY:Istentisztelet
DESCRIPTION:
URL:https://gyularef.hu/event/istentisztelet-47/
LOCATION:Templom\, Petőfi tér 4.\, Gyula\, Békés\, 5700\, Magyarország
CATEGORIES:Istentisztelet
ATTACH;FMTTYPE=image/jpeg:https://gyularef.hu/wp-content/uploads/2016/08/istentisztelet.jpg
END:VEVENT
BEGIN:VEVENT
DTSTART;TZID=Europe/Budapest:20180429T170000
DTEND;TZID=Europe/Budapest:20180429T180000
DTSTAMP:20260420T085725
CREATED:20180425T062108Z
LAST-MODIFIED:20180425T062108Z
UID:3102-1525021200-1525024800@gyularef.hu
SUMMARY:Istentisztelet (du)
DESCRIPTION:
URL:https://gyularef.hu/event/istentisztelet-du-52/
LOCATION:Gyülekezeti kisterem\, Petőfi tér 4.\, Gyula\, Békés\, 5700\, Magyarország
CATEGORIES:Istentisztelet
ATTACH;FMTTYPE=image/jpeg:https://gyularef.hu/wp-content/uploads/2016/09/bibliaora.jpg
END:VEVENT
BEGIN:VEVENT
DTSTART;TZID=Europe/Budapest:20180502T180000
DTEND;TZID=Europe/Budapest:20180502T190000
DTSTAMP:20260420T085725
CREATED:20180501T170651Z
LAST-MODIFIED:20180501T171159Z
UID:3107-1525284000-1525287600@gyularef.hu
SUMMARY:Istentisztelet
DESCRIPTION:
URL:https://gyularef.hu/event/istentisztelet-48/
LOCATION:Kálvin utcai gyülekezeti ház\, Kálvin u. 4.\, Gyula\, Békés\, 5700\, Magyarország
CATEGORIES:Bibliaóra
ATTACH;FMTTYPE=image/jpeg:https://gyularef.hu/wp-content/uploads/2016/09/bibliaora_sz.jpg
END:VEVENT
BEGIN:VEVENT
DTSTART;TZID=Europe/Budapest:20180503T100000
DTEND;TZID=Europe/Budapest:20180503T110000
DTSTAMP:20260420T085725
CREATED:20180501T171128Z
LAST-MODIFIED:20180501T171128Z
UID:3109-1525341600-1525345200@gyularef.hu
SUMMARY:Baba-mama kör
DESCRIPTION:
URL:https://gyularef.hu/event/baba-mama-kor-55/
LOCATION:Kisház\, Petőfi tér 4.\, Gyula\, Békés\, 5700\, Magyarország
CATEGORIES:Baba-mama kör
ATTACH;FMTTYPE=image/jpeg:https://gyularef.hu/wp-content/uploads/2016/09/baba_mama.jpg
END:VEVENT
BEGIN:VEVENT
DTSTART;TZID=Europe/Budapest:20180503T180000
DTEND;TZID=Europe/Budapest:20180503T190000
DTSTAMP:20260420T085725
CREATED:20180501T171427Z
LAST-MODIFIED:20180501T171427Z
UID:3111-1525370400-1525374000@gyularef.hu
SUMMARY:Református hit alapjai kurzus
DESCRIPTION:
URL:https://gyularef.hu/event/reformatus-hit-alapjai-kurzus-20/
LOCATION:Kisház\, Petőfi tér 4.\, Gyula\, Békés\, 5700\, Magyarország
ATTACH;FMTTYPE=image/jpeg:https://gyularef.hu/wp-content/uploads/2016/09/bibliaora.jpg
END:VEVENT
END:VCALENDAR