BEGIN:VCALENDAR
VERSION:2.0
PRODID:-//Gyulai Református Egyházközség - ECPv6.11.2.1//NONSGML v1.0//EN
CALSCALE:GREGORIAN
METHOD:PUBLISH
X-ORIGINAL-URL:https://gyularef.hu
X-WR-CALDESC:Events for Gyulai Református Egyházközség
REFRESH-INTERVAL;VALUE=DURATION:PT1H
X-Robots-Tag:noindex
X-PUBLISHED-TTL:PT1H
BEGIN:VTIMEZONE
TZID:Europe/Budapest
BEGIN:DAYLIGHT
TZOFFSETFROM:+0100
TZOFFSETTO:+0200
TZNAME:CEST
DTSTART:20170326T010000
END:DAYLIGHT
BEGIN:STANDARD
TZOFFSETFROM:+0200
TZOFFSETTO:+0100
TZNAME:CET
DTSTART:20171029T010000
END:STANDARD
END:VTIMEZONE
BEGIN:VEVENT
DTSTART;TZID=Europe/Budapest:20170201T180000
DTEND;TZID=Europe/Budapest:20170201T190000
DTSTAMP:20260423T052721
CREATED:20170131T062758Z
LAST-MODIFIED:20170131T062758Z
UID:812-1485972000-1485975600@gyularef.hu
SUMMARY:Bibliaóra - Újratervezés
DESCRIPTION:
URL:https://gyularef.hu/event/bibliaora-ujratervezes-7/
LOCATION:Kálvin utcai gyülekezeti ház\, Kálvin u. 4.\, Gyula\, Békés\, 5700\, Magyarország
CATEGORIES:Bibliaóra
ATTACH;FMTTYPE=image/jpeg:https://gyularef.hu/wp-content/uploads/2016/09/bibliaora_sz.jpg
END:VEVENT
BEGIN:VEVENT
DTSTART;TZID=Europe/Budapest:20170202T100000
DTEND;TZID=Europe/Budapest:20170202T110000
DTSTAMP:20260423T052721
CREATED:20170131T062844Z
LAST-MODIFIED:20170131T062844Z
UID:814-1486029600-1486033200@gyularef.hu
SUMMARY:Baba - mama kör
DESCRIPTION:
URL:https://gyularef.hu/event/baba-mama-kor-12/
LOCATION:Kisház\, Petőfi tér 4.\, Gyula\, Békés\, 5700\, Magyarország
CATEGORIES:Baba-mama kör
ATTACH;FMTTYPE=image/jpeg:https://gyularef.hu/wp-content/uploads/2016/09/baba_mama.jpg
END:VEVENT
BEGIN:VEVENT
DTSTART;TZID=Europe/Budapest:20170202T140000
DTEND;TZID=Europe/Budapest:20170202T150000
DTSTAMP:20260423T052721
CREATED:20170131T063005Z
LAST-MODIFIED:20170131T063005Z
UID:816-1486044000-1486047600@gyularef.hu
SUMMARY:Konfirmációs óra (ifjúsági)
DESCRIPTION:
URL:https://gyularef.hu/event/konfirmacios-ora-ifjusagi-13/
LOCATION:Kisház\, Petőfi tér 4.\, Gyula\, Békés\, 5700\, Magyarország
CATEGORIES:Bibliaóra
ATTACH;FMTTYPE=image/jpeg:https://gyularef.hu/wp-content/uploads/2016/09/biztos_szikla.jpg
END:VEVENT
BEGIN:VEVENT
DTSTART;TZID=Europe/Budapest:20170202T180000
DTEND;TZID=Europe/Budapest:20170202T190000
DTSTAMP:20260423T052721
CREATED:20170131T063156Z
LAST-MODIFIED:20170131T063211Z
UID:820-1486058400-1486062000@gyularef.hu
SUMMARY:Református hit alapjai
DESCRIPTION:
URL:https://gyularef.hu/event/reformatus-hit-alapjai-2/
LOCATION:Kisház\, Petőfi tér 4.\, Gyula\, Békés\, 5700\, Magyarország
CATEGORIES:Bibliaóra
ATTACH;FMTTYPE=image/jpeg:https://gyularef.hu/wp-content/uploads/2016/09/bibliaora.jpg
END:VEVENT
BEGIN:VEVENT
DTSTART;TZID=Europe/Budapest:20170203T140000
DTEND;TZID=Europe/Budapest:20170203T150000
DTSTAMP:20260423T052721
CREATED:20170131T063048Z
LAST-MODIFIED:20170131T063048Z
UID:818-1486130400-1486134000@gyularef.hu
SUMMARY:Konfirmációs óra (ifjúsági)
DESCRIPTION:
URL:https://gyularef.hu/event/konfirmacios-ora-ifjusagi-14/
LOCATION:Kisház\, Petőfi tér 4.\, Gyula\, Békés\, 5700\, Magyarország
ATTACH;FMTTYPE=image/jpeg:https://gyularef.hu/wp-content/uploads/2016/09/biztos_szikla.jpg
END:VEVENT
BEGIN:VEVENT
DTSTART;TZID=Europe/Budapest:20170203T150000
DTEND;TZID=Europe/Budapest:20170203T160000
DTSTAMP:20260423T052721
CREATED:20170131T063315Z
LAST-MODIFIED:20170131T063315Z
UID:822-1486134000-1486137600@gyularef.hu
SUMMARY:Biztos Szikla klub
DESCRIPTION:
URL:https://gyularef.hu/event/biztos-szikla-klub-13/
LOCATION:Gyülekezeti kisterem\, Petőfi tér 4.\, Gyula\, Békés\, 5700\, Magyarország
ATTACH;FMTTYPE=image/jpeg:https://gyularef.hu/wp-content/uploads/2016/08/biztos_szikla.jpg
END:VEVENT
BEGIN:VEVENT
DTSTART;TZID=Europe/Budapest:20170203T180000
DTEND;TZID=Europe/Budapest:20170203T190000
DTSTAMP:20260423T052721
CREATED:20170131T063406Z
LAST-MODIFIED:20170131T063406Z
UID:824-1486144800-1486148400@gyularef.hu
SUMMARY:Fiatalok bibliaköre
DESCRIPTION:
URL:https://gyularef.hu/event/fiatalok-bibliakore-16/
LOCATION:Kisház\, Petőfi tér 4.\, Gyula\, Békés\, 5700\, Magyarország
ATTACH;FMTTYPE=image/jpeg:https://gyularef.hu/wp-content/uploads/2016/08/ofi.jpg
END:VEVENT
BEGIN:VEVENT
DTSTART;TZID=Europe/Budapest:20170205T091500
DTEND;TZID=Europe/Budapest:20170205T095000
DTSTAMP:20260423T052721
CREATED:20170131T063610Z
LAST-MODIFIED:20170131T063610Z
UID:826-1486286100-1486288200@gyularef.hu
SUMMARY:Imaközösség
DESCRIPTION:
URL:https://gyularef.hu/event/imakozosseg-12/
LOCATION:Gyülekezeti kisterem\, Petőfi tér 4.\, Gyula\, Békés\, 5700\, Magyarország
CATEGORIES:Imaközösség
ATTACH;FMTTYPE=image/jpeg:https://gyularef.hu/wp-content/uploads/2016/09/imakozosseg.jpg
END:VEVENT
BEGIN:VEVENT
DTSTART;TZID=Europe/Budapest:20170205T100000
DTEND;TZID=Europe/Budapest:20170205T110000
DTSTAMP:20260423T052721
CREATED:20170131T063702Z
LAST-MODIFIED:20170131T063702Z
UID:828-1486288800-1486292400@gyularef.hu
SUMMARY:Istentisztelet
DESCRIPTION:
URL:https://gyularef.hu/event/istentisztelet-8/
LOCATION:Templom\, Petőfi tér 4.\, Gyula\, Békés\, 5700\, Magyarország
CATEGORIES:Istentisztelet
ATTACH;FMTTYPE=image/jpeg:https://gyularef.hu/wp-content/uploads/2016/08/istentisztelet.jpg
END:VEVENT
BEGIN:VEVENT
DTSTART;TZID=Europe/Budapest:20170205T170000
DTEND;TZID=Europe/Budapest:20170205T180000
DTSTAMP:20260423T052721
CREATED:20170131T063742Z
LAST-MODIFIED:20170131T063742Z
UID:830-1486314000-1486317600@gyularef.hu
SUMMARY:Istentisztelet (du)
DESCRIPTION:
URL:https://gyularef.hu/event/istentisztelet-du-9/
LOCATION:Gyülekezeti kisterem\, Petőfi tér 4.\, Gyula\, Békés\, 5700\, Magyarország
CATEGORIES:Bibliaóra
ATTACH;FMTTYPE=image/jpeg:https://gyularef.hu/wp-content/uploads/2017/01/biblia.jpg
END:VEVENT
BEGIN:VEVENT
DTSTART;TZID=Europe/Budapest:20170206T180000
DTEND;TZID=Europe/Budapest:20170206T190000
DTSTAMP:20260423T052721
CREATED:20170205T112403Z
LAST-MODIFIED:20170205T112403Z
UID:848-1486404000-1486407600@gyularef.hu
SUMMARY:Szolgáltattevők bibliaköre
DESCRIPTION:
URL:https://gyularef.hu/event/szolgaltattevok-bibliakore/
LOCATION:Gyülekezeti kisterem\, Petőfi tér 4.\, Gyula\, Békés\, 5700\, Magyarország
CATEGORIES:Bibliaóra
ATTACH;FMTTYPE=image/jpeg:https://gyularef.hu/wp-content/uploads/2017/01/biblia.jpg
END:VEVENT
BEGIN:VEVENT
DTSTART;TZID=Europe/Budapest:20170208T163000
DTEND;TZID=Europe/Budapest:20170208T173000
DTSTAMP:20260423T052721
CREATED:20170205T112534Z
LAST-MODIFIED:20170205T112534Z
UID:850-1486571400-1486575000@gyularef.hu
SUMMARY:Nőszövetségi alkalom
DESCRIPTION:
URL:https://gyularef.hu/event/noszovetsegi-alkalom/
LOCATION:Gyülekezeti kisterem\, Petőfi tér 4.\, Gyula\, Békés\, 5700\, Magyarország
CATEGORIES:Nők bibliaköre
ATTACH;FMTTYPE=image/jpeg:https://gyularef.hu/wp-content/uploads/2016/11/noikor_hirhez.jpg
END:VEVENT
BEGIN:VEVENT
DTSTART;TZID=Europe/Budapest:20170209T100000
DTEND;TZID=Europe/Budapest:20170209T110000
DTSTAMP:20260423T052721
CREATED:20170205T112637Z
LAST-MODIFIED:20170205T112637Z
UID:852-1486634400-1486638000@gyularef.hu
SUMMARY:Baba-mama kör
DESCRIPTION:
URL:https://gyularef.hu/event/baba-mama-kor-13/
LOCATION:Kisház\, Petőfi tér 4.\, Gyula\, Békés\, 5700\, Magyarország
CATEGORIES:Baba-mama kör
ATTACH;FMTTYPE=image/jpeg:https://gyularef.hu/wp-content/uploads/2016/09/baba_mama.jpg
END:VEVENT
BEGIN:VEVENT
DTSTART;TZID=Europe/Budapest:20170209T140000
DTEND;TZID=Europe/Budapest:20170209T150000
DTSTAMP:20260423T052721
CREATED:20170205T112758Z
LAST-MODIFIED:20170205T112758Z
UID:854-1486648800-1486652400@gyularef.hu
SUMMARY:Konfirmációs óra (Ifjúsági)
DESCRIPTION:
URL:https://gyularef.hu/event/konfirmacios-ora-ifjusagi-15/
LOCATION:Kisház\, Petőfi tér 4.\, Gyula\, Békés\, 5700\, Magyarország
CATEGORIES:Bibliaóra
ATTACH;FMTTYPE=image/jpeg:https://gyularef.hu/wp-content/uploads/2016/09/biztos_szikla.jpg
END:VEVENT
BEGIN:VEVENT
DTSTART;TZID=Europe/Budapest:20170209T180000
DTEND;TZID=Europe/Budapest:20170209T190000
DTSTAMP:20260423T052721
CREATED:20170205T112935Z
LAST-MODIFIED:20170205T112935Z
UID:856-1486663200-1486666800@gyularef.hu
SUMMARY:Református hit alapjai
DESCRIPTION:
URL:https://gyularef.hu/event/reformatus-hit-alapjai-3/
LOCATION:Kisház\, Petőfi tér 4.\, Gyula\, Békés\, 5700\, Magyarország
CATEGORIES:Bibliaóra
ATTACH;FMTTYPE=image/jpeg:https://gyularef.hu/wp-content/uploads/2017/01/biblia.jpg
END:VEVENT
BEGIN:VEVENT
DTSTART;TZID=Europe/Budapest:20170210T180000
DTEND;TZID=Europe/Budapest:20170210T190000
DTSTAMP:20260423T052721
CREATED:20170205T113046Z
LAST-MODIFIED:20170205T113046Z
UID:858-1486749600-1486753200@gyularef.hu
SUMMARY:Fiatalok bibliaköre
DESCRIPTION:
URL:https://gyularef.hu/event/fiatalok-bibliakore-17/
LOCATION:Kisház\, Petőfi tér 4.\, Gyula\, Békés\, 5700\, Magyarország
CATEGORIES:Fiatalok bibliaköre
ATTACH;FMTTYPE=image/jpeg:https://gyularef.hu/wp-content/uploads/2016/08/ofi.jpg
END:VEVENT
BEGIN:VEVENT
DTSTART;TZID=Europe/Budapest:20170212T080000
DTEND;TZID=Europe/Budapest:20170212T170000
DTSTAMP:20260423T052721
CREATED:20170212T182527Z
LAST-MODIFIED:20170212T182538Z
UID:914-1486886400-1486918800@gyularef.hu
SUMMARY:Interaktív előadás házaspároknak
DESCRIPTION:
URL:https://gyularef.hu/event/interaktiv-eloadas-hazasparoknak/
LOCATION:Békés
CATEGORIES:Bibliaóra
ATTACH;FMTTYPE=image/jpeg:https://gyularef.hu/wp-content/uploads/2017/02/haz_hete.jpg
END:VEVENT
BEGIN:VEVENT
DTSTART;TZID=Europe/Budapest:20170212T091500
DTEND;TZID=Europe/Budapest:20170212T095000
DTSTAMP:20260423T052721
CREATED:20170205T113158Z
LAST-MODIFIED:20170205T113158Z
UID:860-1486890900-1486893000@gyularef.hu
SUMMARY:Imaközösség
DESCRIPTION:
URL:https://gyularef.hu/event/imakozosseg-13/
LOCATION:Gyülekezeti kisterem\, Petőfi tér 4.\, Gyula\, Békés\, 5700\, Magyarország
CATEGORIES:Imaközösség
ATTACH;FMTTYPE=image/jpeg:https://gyularef.hu/wp-content/uploads/2016/09/imakozosseg.jpg
END:VEVENT
BEGIN:VEVENT
DTSTART;TZID=Europe/Budapest:20170212T100000
DTEND;TZID=Europe/Budapest:20170212T110000
DTSTAMP:20260423T052721
CREATED:20170205T113311Z
LAST-MODIFIED:20170205T113311Z
UID:862-1486893600-1486897200@gyularef.hu
SUMMARY:Családi istentisztelet
DESCRIPTION:
URL:https://gyularef.hu/event/csaladi-istentisztelet-4/
LOCATION:Templom\, Petőfi tér 4.\, Gyula\, Békés\, 5700\, Magyarország
CATEGORIES:Istentisztelet
ATTACH;FMTTYPE=image/jpeg:https://gyularef.hu/wp-content/uploads/2016/08/istentisztelet.jpg
END:VEVENT
BEGIN:VEVENT
DTSTART;TZID=Europe/Budapest:20170212T170000
DTEND;TZID=Europe/Budapest:20170212T180000
DTSTAMP:20260423T052721
CREATED:20170205T113422Z
LAST-MODIFIED:20170205T113422Z
UID:864-1486918800-1486922400@gyularef.hu
SUMMARY:Istentisztelet (du)
DESCRIPTION:
URL:https://gyularef.hu/event/istentisztelet-du-10/
LOCATION:Gyülekezeti kisterem\, Petőfi tér 4.\, Gyula\, Békés\, 5700\, Magyarország
CATEGORIES:Istentisztelet
ATTACH;FMTTYPE=image/jpeg:https://gyularef.hu/wp-content/uploads/2016/09/bibliaora.jpg
END:VEVENT
BEGIN:VEVENT
DTSTART;TZID=Europe/Budapest:20170213T180000
DTEND;TZID=Europe/Budapest:20170213T190000
DTSTAMP:20260423T052721
CREATED:20170212T180603Z
LAST-MODIFIED:20170212T180603Z
UID:893-1487008800-1487012400@gyularef.hu
SUMMARY:Nők bibliaköre
DESCRIPTION:
URL:https://gyularef.hu/event/nok-bibliakore-2/
LOCATION:Gyülekezeti kisterem\, Petőfi tér 4.\, Gyula\, Békés\, 5700\, Magyarország
CATEGORIES:Bibliaóra
ATTACH;FMTTYPE=image/jpeg:https://gyularef.hu/wp-content/uploads/2016/11/noikor_hirhez.jpg
END:VEVENT
BEGIN:VEVENT
DTSTART;TZID=Europe/Budapest:20170215T180000
DTEND;TZID=Europe/Budapest:20170215T190000
DTSTAMP:20260423T052721
CREATED:20170212T180754Z
LAST-MODIFIED:20170212T181246Z
UID:895-1487181600-1487185200@gyularef.hu
SUMMARY:Bibliaóra - A hűség értelme egy hűtlen korban
DESCRIPTION:
URL:https://gyularef.hu/event/bibliaora-a-huseg-ertelme-egy-hutlen-korban/
LOCATION:Kálvin utcai gyülekezeti ház\, Kálvin u. 4.\, Gyula\, Békés\, 5700\, Magyarország
CATEGORIES:Bibliaóra
ATTACH;FMTTYPE=image/jpeg:https://gyularef.hu/wp-content/uploads/2017/02/haz_hete.jpg
END:VEVENT
BEGIN:VEVENT
DTSTART;TZID=Europe/Budapest:20170216T100000
DTEND;TZID=Europe/Budapest:20170216T110000
DTSTAMP:20260423T052721
CREATED:20170212T180942Z
LAST-MODIFIED:20170212T180942Z
UID:897-1487239200-1487242800@gyularef.hu
SUMMARY:Baba - mama kör
DESCRIPTION:
URL:https://gyularef.hu/event/baba-mama-kor-14/
LOCATION:Kisház\, Petőfi tér 4.\, Gyula\, Békés\, 5700\, Magyarország
CATEGORIES:Baba-mama kör
ATTACH;FMTTYPE=image/jpeg:https://gyularef.hu/wp-content/uploads/2016/09/baba_mama.jpg
END:VEVENT
BEGIN:VEVENT
DTSTART;TZID=Europe/Budapest:20170216T140000
DTEND;TZID=Europe/Budapest:20170216T150000
DTSTAMP:20260423T052721
CREATED:20170212T183103Z
LAST-MODIFIED:20170212T183103Z
UID:918-1487253600-1487257200@gyularef.hu
SUMMARY:Debreczeni Hajnal búcsúztatása
DESCRIPTION:
URL:https://gyularef.hu/event/debreczeni-hajnal-bucsuztatasa/
LOCATION:Templom\, Petőfi tér 4.\, Gyula\, Békés\, 5700\, Magyarország
CATEGORIES:Istentisztelet
ATTACH;FMTTYPE=image/jpeg:https://gyularef.hu/wp-content/uploads/2017/02/hajni_bucsuztato.jpg
END:VEVENT
BEGIN:VEVENT
DTSTART;TZID=Europe/Budapest:20170216T180000
DTEND;TZID=Europe/Budapest:20170216T190000
DTSTAMP:20260423T052721
CREATED:20170212T181511Z
LAST-MODIFIED:20170212T181511Z
UID:902-1487268000-1487271600@gyularef.hu
SUMMARY:Református hit alapjai - Korunk családi modelljei és a bibliai család modell
DESCRIPTION:
URL:https://gyularef.hu/event/reformatus-hit-alapjai-korunk-csaladi-modelljei-es-a-bibliai-csalad-modell/
LOCATION:Gyülekezeti kisterem\, Petőfi tér 4.\, Gyula\, Békés\, 5700\, Magyarország
CATEGORIES:Bibliaóra
ATTACH;FMTTYPE=image/jpeg:https://gyularef.hu/wp-content/uploads/2017/02/haz_hete.jpg
END:VEVENT
BEGIN:VEVENT
DTSTART;TZID=Europe/Budapest:20170217T140000
DTEND;TZID=Europe/Budapest:20170217T150000
DTSTAMP:20260423T052721
CREATED:20170212T181848Z
LAST-MODIFIED:20170212T181848Z
UID:904-1487340000-1487343600@gyularef.hu
SUMMARY:Konfirmációs óra (ifjúsági)
DESCRIPTION:
URL:https://gyularef.hu/event/konfirmacios-ora-ifjusagi-16/
LOCATION:Kisház\, Petőfi tér 4.\, Gyula\, Békés\, 5700\, Magyarország
CATEGORIES:Bibliaóra
ATTACH;FMTTYPE=image/jpeg:https://gyularef.hu/wp-content/uploads/2016/09/biztos_szikla.jpg
END:VEVENT
BEGIN:VEVENT
DTSTART;TZID=Europe/Budapest:20170217T150000
DTEND;TZID=Europe/Budapest:20170217T160000
DTSTAMP:20260423T052721
CREATED:20170212T182038Z
LAST-MODIFIED:20170212T182038Z
UID:906-1487343600-1487347200@gyularef.hu
SUMMARY:Biztos Szikla klub
DESCRIPTION:
URL:https://gyularef.hu/event/biztos-szikla-klub-14/
LOCATION:Kisház\, Petőfi tér 4.\, Gyula\, Békés\, 5700\, Magyarország
CATEGORIES:Biztos Szikla klub
ATTACH;FMTTYPE=image/jpeg:https://gyularef.hu/wp-content/uploads/2016/08/biztos_szikla.jpg
END:VEVENT
BEGIN:VEVENT
DTSTART;TZID=Europe/Budapest:20170217T180000
DTEND;TZID=Europe/Budapest:20170217T190000
DTSTAMP:20260423T052721
CREATED:20170212T182143Z
LAST-MODIFIED:20170212T182143Z
UID:908-1487354400-1487358000@gyularef.hu
SUMMARY:Fiatalok bibliaköre
DESCRIPTION:
URL:https://gyularef.hu/event/fiatalok-bibliakore-18/
LOCATION:Kisház\, Petőfi tér 4.\, Gyula\, Békés\, 5700\, Magyarország
CATEGORIES:Fiatalok bibliaköre
ATTACH;FMTTYPE=image/jpeg:https://gyularef.hu/wp-content/uploads/2016/08/ofi.jpg
END:VEVENT
BEGIN:VEVENT
DTSTART;TZID=Europe/Budapest:20170219T091500
DTEND;TZID=Europe/Budapest:20170219T095000
DTSTAMP:20260423T052721
CREATED:20170212T182304Z
LAST-MODIFIED:20170212T182304Z
UID:910-1487495700-1487497800@gyularef.hu
SUMMARY:Imaközösség
DESCRIPTION:
URL:https://gyularef.hu/event/imakozosseg-14/
LOCATION:Gyülekezeti kisterem\, Petőfi tér 4.\, Gyula\, Békés\, 5700\, Magyarország
CATEGORIES:Imaközösség
ATTACH;FMTTYPE=image/jpeg:https://gyularef.hu/wp-content/uploads/2016/09/imakozosseg.jpg
END:VEVENT
BEGIN:VEVENT
DTSTART;TZID=Europe/Budapest:20170219T100000
DTEND;TZID=Europe/Budapest:20170219T110000
DTSTAMP:20260423T052721
CREATED:20170212T182405Z
LAST-MODIFIED:20170212T182405Z
UID:912-1487498400-1487502000@gyularef.hu
SUMMARY:Istentisztelet
DESCRIPTION:
URL:https://gyularef.hu/event/istentisztelet-9/
LOCATION:Templom\, Petőfi tér 4.\, Gyula\, Békés\, 5700\, Magyarország
CATEGORIES:Istentisztelet
ATTACH;FMTTYPE=image/jpeg:https://gyularef.hu/wp-content/uploads/2016/08/istentisztelet.jpg
END:VEVENT
END:VCALENDAR