BEGIN:VCALENDAR
VERSION:2.0
PRODID:-//Gyulai Református Egyházközség - ECPv6.11.2.1//NONSGML v1.0//EN
CALSCALE:GREGORIAN
METHOD:PUBLISH
X-ORIGINAL-URL:https://gyularef.hu
X-WR-CALDESC:Events for Gyulai Református Egyházközség
REFRESH-INTERVAL;VALUE=DURATION:PT1H
X-Robots-Tag:noindex
X-PUBLISHED-TTL:PT1H
BEGIN:VTIMEZONE
TZID:Europe/Budapest
BEGIN:DAYLIGHT
TZOFFSETFROM:+0100
TZOFFSETTO:+0200
TZNAME:CEST
DTSTART:20170326T010000
END:DAYLIGHT
BEGIN:STANDARD
TZOFFSETFROM:+0200
TZOFFSETTO:+0100
TZNAME:CET
DTSTART:20171029T010000
END:STANDARD
END:VTIMEZONE
BEGIN:VEVENT
DTSTART;TZID=Europe/Budapest:20170611T093000
DTEND;TZID=Europe/Budapest:20170611T095000
DTSTAMP:20260422T022705
CREATED:20170606T120235Z
LAST-MODIFIED:20170606T120235Z
UID:1493-1497173400-1497174600@gyularef.hu
SUMMARY:Imaközösség
DESCRIPTION:
URL:https://gyularef.hu/event/imakozosseg-30/
LOCATION:Gyülekezeti kisterem\, Petőfi tér 4.\, Gyula\, Békés\, 5700\, Magyarország
CATEGORIES:Istentisztelet
ATTACH;FMTTYPE=image/jpeg:https://gyularef.hu/wp-content/uploads/2016/09/imakozosseg.jpg
END:VEVENT
BEGIN:VEVENT
DTSTART;TZID=Europe/Budapest:20170611T100000
DTEND;TZID=Europe/Budapest:20170611T110000
DTSTAMP:20260422T022705
CREATED:20170606T120322Z
LAST-MODIFIED:20170606T120322Z
UID:1495-1497175200-1497178800@gyularef.hu
SUMMARY:Családi istentisztelet
DESCRIPTION:
URL:https://gyularef.hu/event/csaladi-istentisztelet-7/
LOCATION:Templom\, Petőfi tér 4.\, Gyula\, Békés\, 5700\, Magyarország
CATEGORIES:Istentisztelet
ATTACH;FMTTYPE=image/jpeg:https://gyularef.hu/wp-content/uploads/2016/08/istentisztelet.jpg
END:VEVENT
BEGIN:VEVENT
DTSTART;TZID=Europe/Budapest:20170611T170000
DTEND;TZID=Europe/Budapest:20170611T180000
DTSTAMP:20260422T022705
CREATED:20170606T120423Z
LAST-MODIFIED:20170606T120423Z
UID:1497-1497200400-1497204000@gyularef.hu
SUMMARY:Istentisztelet (du)
DESCRIPTION:
URL:https://gyularef.hu/event/istentisztelet-du-21/
LOCATION:Gyülekezeti kisterem\, Petőfi tér 4.\, Gyula\, Békés\, 5700\, Magyarország
CATEGORIES:Istentisztelet
ATTACH;FMTTYPE=image/jpeg:https://gyularef.hu/wp-content/uploads/2016/09/bibliaora.jpg
END:VEVENT
BEGIN:VEVENT
DTSTART;TZID=Europe/Budapest:20170612T180000
DTEND;TZID=Europe/Budapest:20170612T190000
DTSTAMP:20260422T022705
CREATED:20170612T055440Z
LAST-MODIFIED:20170612T055440Z
UID:1504-1497290400-1497294000@gyularef.hu
SUMMARY:Szolgálattevők  bibliaköre
DESCRIPTION:
URL:https://gyularef.hu/event/szolgalattevok-bibliakore/
LOCATION:Gyülekezeti kisterem\, Petőfi tér 4.\, Gyula\, Békés\, 5700\, Magyarország
CATEGORIES:Bibliaóra
ATTACH;FMTTYPE=image/jpeg:https://gyularef.hu/wp-content/uploads/2016/09/bibliaora.jpg
END:VEVENT
BEGIN:VEVENT
DTSTART;TZID=Europe/Budapest:20170614T180000
DTEND;TZID=Europe/Budapest:20170614T190000
DTSTAMP:20260422T022705
CREATED:20170612T055527Z
LAST-MODIFIED:20170612T055527Z
UID:1506-1497463200-1497466800@gyularef.hu
SUMMARY:Bibliaóra\, Lét-kérdések
DESCRIPTION:
URL:https://gyularef.hu/event/bibliaora-let-kerdesek-2/
LOCATION:Templom\, Petőfi tér 4.\, Gyula\, Békés\, 5700\, Magyarország
CATEGORIES:Bibliaóra
ATTACH;FMTTYPE=image/jpeg:https://gyularef.hu/wp-content/uploads/2016/09/bibliaora_sz.jpg
END:VEVENT
BEGIN:VEVENT
DTSTART;TZID=Europe/Budapest:20170615T100000
DTEND;TZID=Europe/Budapest:20170615T110000
DTSTAMP:20260422T022705
CREATED:20170612T055623Z
LAST-MODIFIED:20170612T055623Z
UID:1508-1497520800-1497524400@gyularef.hu
SUMMARY:Baba-mama kör
DESCRIPTION:
URL:https://gyularef.hu/event/baba-mama-kor-26/
LOCATION:Kisház\, Petőfi tér 4.\, Gyula\, Békés\, 5700\, Magyarország
CATEGORIES:Baba-mama kör
ATTACH;FMTTYPE=image/jpeg:https://gyularef.hu/wp-content/uploads/2016/09/baba_mama.jpg
END:VEVENT
BEGIN:VEVENT
DTSTART;TZID=Europe/Budapest:20170616T150000
DTEND;TZID=Europe/Budapest:20170616T160000
DTSTAMP:20260422T022705
CREATED:20170612T055728Z
LAST-MODIFIED:20170612T055728Z
UID:1510-1497625200-1497628800@gyularef.hu
SUMMARY:Ifjúsági óra - Biztos Szikla klub
DESCRIPTION:
URL:https://gyularef.hu/event/ifjusagi-ora-biztos-szikla-klub-14/
LOCATION:Kisház\, Petőfi tér 4.\, Gyula\, Békés\, 5700\, Magyarország
CATEGORIES:Biztos Szikla klub
ATTACH;FMTTYPE=image/jpeg:https://gyularef.hu/wp-content/uploads/2016/08/biztos_szikla.jpg
END:VEVENT
BEGIN:VEVENT
DTSTART;TZID=Europe/Budapest:20170616T180000
DTEND;TZID=Europe/Budapest:20170616T190000
DTSTAMP:20260422T022705
CREATED:20170612T055814Z
LAST-MODIFIED:20170612T055814Z
UID:1512-1497636000-1497639600@gyularef.hu
SUMMARY:Fiatalok  bibliaköre
DESCRIPTION:
URL:https://gyularef.hu/event/fiatalok-bibliakore-33/
LOCATION:Kisház\, Petőfi tér 4.\, Gyula\, Békés\, 5700\, Magyarország
CATEGORIES:Fiatalok bibliaköre
ATTACH;FMTTYPE=image/jpeg:https://gyularef.hu/wp-content/uploads/2016/08/ofi.jpg
END:VEVENT
BEGIN:VEVENT
DTSTART;TZID=Europe/Budapest:20170617T170000
DTEND;TZID=Europe/Budapest:20170617T180000
DTSTAMP:20260422T022705
CREATED:20170612T060013Z
LAST-MODIFIED:20170612T060013Z
UID:1516-1497718800-1497722400@gyularef.hu
SUMMARY:Házasságkötés  megáldása
DESCRIPTION:
URL:https://gyularef.hu/event/hazassagkotes-megaldasa-2/
LOCATION:Templom\, Petőfi tér 4.\, Gyula\, Békés\, 5700\, Magyarország
CATEGORIES:Istentisztelet
ATTACH;FMTTYPE=image/jpeg:https://gyularef.hu/wp-content/uploads/2017/05/aranygyuru.jpg
END:VEVENT
BEGIN:VEVENT
DTSTART;TZID=Europe/Budapest:20170618T093000
DTEND;TZID=Europe/Budapest:20170618T095000
DTSTAMP:20260422T022705
CREATED:20170612T060325Z
LAST-MODIFIED:20170612T060325Z
UID:1518-1497778200-1497779400@gyularef.hu
SUMMARY:Imaközösség
DESCRIPTION:
URL:https://gyularef.hu/event/imakozosseg-31/
LOCATION:Gyülekezeti kisterem\, Petőfi tér 4.\, Gyula\, Békés\, 5700\, Magyarország
CATEGORIES:Imaközösség
ATTACH;FMTTYPE=image/jpeg:https://gyularef.hu/wp-content/uploads/2016/09/imakozosseg.jpg
END:VEVENT
BEGIN:VEVENT
DTSTART;TZID=Europe/Budapest:20170618T100000
DTEND;TZID=Europe/Budapest:20170618T110000
DTSTAMP:20260422T022705
CREATED:20170612T060516Z
LAST-MODIFIED:20170612T060516Z
UID:1520-1497780000-1497783600@gyularef.hu
SUMMARY:Istentisztelet
DESCRIPTION:
URL:https://gyularef.hu/event/istentisztelet-20/
LOCATION:Templom\, Petőfi tér 4.\, Gyula\, Békés\, 5700\, Magyarország
CATEGORIES:Istentisztelet
ATTACH;FMTTYPE=image/jpeg:https://gyularef.hu/wp-content/uploads/2016/08/istentisztelet.jpg
END:VEVENT
BEGIN:VEVENT
DTSTART;TZID=Europe/Budapest:20170618T170000
DTEND;TZID=Europe/Budapest:20170618T180000
DTSTAMP:20260422T022706
CREATED:20170612T060629Z
LAST-MODIFIED:20170612T060629Z
UID:1522-1497805200-1497808800@gyularef.hu
SUMMARY:Istentisztelet (du)
DESCRIPTION:
URL:https://gyularef.hu/event/istentisztelet-du-22/
LOCATION:Békés
CATEGORIES:Bibliaóra
ATTACH;FMTTYPE=image/jpeg:https://gyularef.hu/wp-content/uploads/2016/09/bibliaora.jpg
END:VEVENT
BEGIN:VEVENT
DTSTART;TZID=Europe/Budapest:20170619T080000
DTEND;TZID=Europe/Budapest:20170624T170000
DTSTAMP:20260422T022706
CREATED:20170618T114809Z
LAST-MODIFIED:20170618T114838Z
UID:1539-1497859200-1498323600@gyularef.hu
SUMMARY:Hittanos gyermekek napközis tábora 2017
DESCRIPTION:
URL:https://gyularef.hu/event/hittanos-gyermekek-napkozis-tabora-2017/
LOCATION:Templom\, Petőfi tér 4.\, Gyula\, Békés\, 5700\, Magyarország
CATEGORIES:Gyülekezeti sport
ATTACH;FMTTYPE=image/png:https://gyularef.hu/wp-content/uploads/2017/06/jesus_hero.png
END:VEVENT
BEGIN:VEVENT
DTSTART;TZID=Europe/Budapest:20170623T180000
DTEND;TZID=Europe/Budapest:20170623T190000
DTSTAMP:20260422T022706
CREATED:20170618T114948Z
LAST-MODIFIED:20170618T114948Z
UID:1541-1498240800-1498244400@gyularef.hu
SUMMARY:Fiatalok bibliaköre
DESCRIPTION:
URL:https://gyularef.hu/event/fiatalok-bibliakore-34/
LOCATION:Kisház\, Petőfi tér 4.\, Gyula\, Békés\, 5700\, Magyarország
CATEGORIES:Fiatalok bibliaköre
ATTACH;FMTTYPE=image/jpeg:https://gyularef.hu/wp-content/uploads/2016/08/ofi.jpg
END:VEVENT
BEGIN:VEVENT
DTSTART;TZID=Europe/Budapest:20170624T100000
DTEND;TZID=Europe/Budapest:20170624T170000
DTSTAMP:20260422T022706
CREATED:20170618T115045Z
LAST-MODIFIED:20170618T115045Z
UID:1543-1498298400-1498323600@gyularef.hu
SUMMARY:Családi nap
DESCRIPTION:
URL:https://gyularef.hu/event/csaladi-nap/
LOCATION:Templom\, Petőfi tér 4.\, Gyula\, Békés\, 5700\, Magyarország
CATEGORIES:Gyülekezeti sport
ATTACH;FMTTYPE=image/jpeg:https://gyularef.hu/wp-content/uploads/2017/06/dscf2702.jpg
END:VEVENT
BEGIN:VEVENT
DTSTART;TZID=Europe/Budapest:20170625T080000
DTEND;TZID=Europe/Budapest:20170625T170000
DTSTAMP:20260422T022706
CREATED:20170618T115607Z
LAST-MODIFIED:20170618T115607Z
UID:1548-1498377600-1498410000@gyularef.hu
SUMMARY:Táborzáró istentisztelet
DESCRIPTION:
URL:https://gyularef.hu/event/taborzaro-istentisztelet/
LOCATION:Templom\, Petőfi tér 4.\, Gyula\, Békés\, 5700\, Magyarország
CATEGORIES:Istentisztelet
ATTACH;FMTTYPE=image/jpeg:https://gyularef.hu/wp-content/uploads/2017/06/dscf2839.jpg
END:VEVENT
BEGIN:VEVENT
DTSTART;TZID=Europe/Budapest:20170625T093000
DTEND;TZID=Europe/Budapest:20170625T095000
DTSTAMP:20260422T022706
CREATED:20170618T115227Z
LAST-MODIFIED:20170618T115227Z
UID:1546-1498383000-1498384200@gyularef.hu
SUMMARY:Imaközösség
DESCRIPTION:
URL:https://gyularef.hu/event/imakozosseg-32/
LOCATION:Gyülekezeti kisterem\, Petőfi tér 4.\, Gyula\, Békés\, 5700\, Magyarország
CATEGORIES:Imaközösség
ATTACH;FMTTYPE=image/jpeg:https://gyularef.hu/wp-content/uploads/2016/09/imakozosseg.jpg
END:VEVENT
BEGIN:VEVENT
DTSTART;TZID=Europe/Budapest:20170625T170000
DTEND;TZID=Europe/Budapest:20170625T180000
DTSTAMP:20260422T022706
CREATED:20170618T115717Z
LAST-MODIFIED:20170618T115717Z
UID:1551-1498410000-1498413600@gyularef.hu
SUMMARY:Istentisztelet (du)
DESCRIPTION:
URL:https://gyularef.hu/event/istentisztelet-du-23/
LOCATION:Gyülekezeti kisterem\, Petőfi tér 4.\, Gyula\, Békés\, 5700\, Magyarország
CATEGORIES:Istentisztelet
ATTACH;FMTTYPE=image/jpeg:https://gyularef.hu/wp-content/uploads/2016/09/bibliaora.jpg
END:VEVENT
BEGIN:VEVENT
DTSTART;TZID=Europe/Budapest:20170705T180000
DTEND;TZID=Europe/Budapest:20170705T180000
DTSTAMP:20260422T022706
CREATED:20170703T055209Z
LAST-MODIFIED:20170703T055209Z
UID:1554-1499277600-1499277600@gyularef.hu
SUMMARY:Bibliaóra - Lét-kérdések
DESCRIPTION:
URL:https://gyularef.hu/event/bibliaora-let-kerdesek-3/
LOCATION:Templom\, Petőfi tér 4.\, Gyula\, Békés\, 5700\, Magyarország
CATEGORIES:Bibliaóra
ATTACH;FMTTYPE=image/jpeg:https://gyularef.hu/wp-content/uploads/2016/09/bibliaora_sz.jpg
END:VEVENT
BEGIN:VEVENT
DTSTART;TZID=Europe/Budapest:20170706T100000
DTEND;TZID=Europe/Budapest:20170706T170000
DTSTAMP:20260422T022706
CREATED:20170703T055306Z
LAST-MODIFIED:20170703T055306Z
UID:1556-1499335200-1499360400@gyularef.hu
SUMMARY:Baba-mama kör
DESCRIPTION:
URL:https://gyularef.hu/event/baba-mama-kor-27/
LOCATION:Kisház\, Petőfi tér 4.\, Gyula\, Békés\, 5700\, Magyarország
CATEGORIES:Baba-mama kör
ATTACH;FMTTYPE=image/jpeg:https://gyularef.hu/wp-content/uploads/2016/09/baba_mama.jpg
END:VEVENT
BEGIN:VEVENT
DTSTART;TZID=Europe/Budapest:20170707T150000
DTEND;TZID=Europe/Budapest:20170707T160000
DTSTAMP:20260422T022706
CREATED:20170703T055407Z
LAST-MODIFIED:20170703T055407Z
UID:1558-1499439600-1499443200@gyularef.hu
SUMMARY:Ifjúsági óra - Biztos Szikla klub
DESCRIPTION:
URL:https://gyularef.hu/event/ifjusagi-ora-biztos-szikla-klub-15/
LOCATION:Kisház\, Petőfi tér 4.\, Gyula\, Békés\, 5700\, Magyarország
CATEGORIES:Biztos Szikla klub
ATTACH;FMTTYPE=image/jpeg:https://gyularef.hu/wp-content/uploads/2016/08/biztos_szikla.jpg
END:VEVENT
BEGIN:VEVENT
DTSTART;TZID=Europe/Budapest:20170707T180000
DTEND;TZID=Europe/Budapest:20170707T190000
DTSTAMP:20260422T022706
CREATED:20170703T055456Z
LAST-MODIFIED:20170703T055456Z
UID:1560-1499450400-1499454000@gyularef.hu
SUMMARY:Fiatalok bibliaköre
DESCRIPTION:
URL:https://gyularef.hu/event/fiatalok-bibliakore-35/
LOCATION:Kisház\, Petőfi tér 4.\, Gyula\, Békés\, 5700\, Magyarország
CATEGORIES:Fiatalok bibliaköre
ATTACH;FMTTYPE=image/jpeg:https://gyularef.hu/wp-content/uploads/2016/08/ofi.jpg
END:VEVENT
BEGIN:VEVENT
DTSTART;TZID=Europe/Budapest:20170709T093000
DTEND;TZID=Europe/Budapest:20170709T095000
DTSTAMP:20260422T022706
CREATED:20170703T055610Z
LAST-MODIFIED:20170703T055610Z
UID:1562-1499592600-1499593800@gyularef.hu
SUMMARY:Imaközösség
DESCRIPTION:
URL:https://gyularef.hu/event/imakozosseg-33/
LOCATION:Gyülekezeti kisterem\, Petőfi tér 4.\, Gyula\, Békés\, 5700\, Magyarország
CATEGORIES:Imaközösség
ATTACH;FMTTYPE=image/jpeg:https://gyularef.hu/wp-content/uploads/2016/09/imakozosseg.jpg
END:VEVENT
BEGIN:VEVENT
DTSTART;TZID=Europe/Budapest:20170709T100000
DTEND;TZID=Europe/Budapest:20170709T110000
DTSTAMP:20260422T022706
CREATED:20170703T055657Z
LAST-MODIFIED:20170703T055657Z
UID:1564-1499594400-1499598000@gyularef.hu
SUMMARY:Istentisztelet
DESCRIPTION:
URL:https://gyularef.hu/event/istentisztelet-21/
LOCATION:Templom\, Petőfi tér 4.\, Gyula\, Békés\, 5700\, Magyarország
CATEGORIES:Istentisztelet
ATTACH;FMTTYPE=image/jpeg:https://gyularef.hu/wp-content/uploads/2016/08/istentisztelet.jpg
END:VEVENT
BEGIN:VEVENT
DTSTART;TZID=Europe/Budapest:20170709T170000
DTEND;TZID=Europe/Budapest:20170709T180000
DTSTAMP:20260422T022706
CREATED:20170703T055744Z
LAST-MODIFIED:20170703T055744Z
UID:1566-1499619600-1499623200@gyularef.hu
SUMMARY:Istentisztelet (du)
DESCRIPTION:
URL:https://gyularef.hu/event/istentisztelet-du-24/
LOCATION:Gyülekezeti kisterem\, Petőfi tér 4.\, Gyula\, Békés\, 5700\, Magyarország
CATEGORIES:Istentisztelet
ATTACH;FMTTYPE=image/jpeg:https://gyularef.hu/wp-content/uploads/2016/09/bibliaora.jpg
END:VEVENT
BEGIN:VEVENT
DTSTART;TZID=Europe/Budapest:20170712T100000
DTEND;TZID=Europe/Budapest:20170712T110000
DTSTAMP:20260422T022706
CREATED:20170712T101108Z
LAST-MODIFIED:20170712T101108Z
UID:1596-1499853600-1499857200@gyularef.hu
SUMMARY:Istentisztelet
DESCRIPTION:
URL:https://gyularef.hu/event/istentisztelet-22/
LOCATION:Templom\, Petőfi tér 4.\, Gyula\, Békés\, 5700\, Magyarország
CATEGORIES:Istentisztelet
ATTACH;FMTTYPE=image/jpeg:https://gyularef.hu/wp-content/uploads/2016/08/istentisztelet.jpg
END:VEVENT
BEGIN:VEVENT
DTSTART;TZID=Europe/Budapest:20170712T180000
DTEND;TZID=Europe/Budapest:20170712T190000
DTSTAMP:20260422T022706
CREATED:20170712T095104Z
LAST-MODIFIED:20170712T095104Z
UID:1586-1499882400-1499886000@gyularef.hu
SUMMARY:Bibliaóra - Úton Malawiba
DESCRIPTION:
URL:https://gyularef.hu/event/bibliaora-uton-malawiba/
LOCATION:Templom\, Petőfi tér 4.\, Gyula\, Békés\, 5700\, Magyarország
CATEGORIES:Bibliaóra
ATTACH;FMTTYPE=image/jpeg:https://gyularef.hu/wp-content/uploads/2016/09/bibliaora_sz.jpg
END:VEVENT
BEGIN:VEVENT
DTSTART;TZID=Europe/Budapest:20170713T100000
DTEND;TZID=Europe/Budapest:20170713T110000
DTSTAMP:20260422T022706
CREATED:20170712T095144Z
LAST-MODIFIED:20170712T095144Z
UID:1588-1499940000-1499943600@gyularef.hu
SUMMARY:Baba-mama kör
DESCRIPTION:
URL:https://gyularef.hu/event/baba-mama-kor-28/
LOCATION:Kisház\, Petőfi tér 4.\, Gyula\, Békés\, 5700\, Magyarország
CATEGORIES:Baba-mama kör
ATTACH;FMTTYPE=image/jpeg:https://gyularef.hu/wp-content/uploads/2016/09/baba_mama.jpg
END:VEVENT
BEGIN:VEVENT
DTSTART;TZID=Europe/Budapest:20170714T150000
DTEND;TZID=Europe/Budapest:20170714T160000
DTSTAMP:20260422T022706
CREATED:20170712T100855Z
LAST-MODIFIED:20170712T100855Z
UID:1590-1500044400-1500048000@gyularef.hu
SUMMARY:Ifjúsági óra  Biztos Szikla klub
DESCRIPTION:
URL:https://gyularef.hu/event/ifjusagi-ora-biztos-szikla-klub-16/
LOCATION:Kisház\, Petőfi tér 4.\, Gyula\, Békés\, 5700\, Magyarország
CATEGORIES:Biztos Szikla klub
ATTACH;FMTTYPE=image/jpeg:https://gyularef.hu/wp-content/uploads/2016/08/biztos_szikla.jpg
END:VEVENT
BEGIN:VEVENT
DTSTART;TZID=Europe/Budapest:20170714T180000
DTEND;TZID=Europe/Budapest:20170714T190000
DTSTAMP:20260422T022706
CREATED:20170712T100936Z
LAST-MODIFIED:20170712T100936Z
UID:1592-1500055200-1500058800@gyularef.hu
SUMMARY:Fiatalok  bibliaköre
DESCRIPTION:
URL:https://gyularef.hu/event/fiatalok-bibliakore-36/
LOCATION:Kisház\, Petőfi tér 4.\, Gyula\, Békés\, 5700\, Magyarország
CATEGORIES:Fiatalok bibliaköre
ATTACH;FMTTYPE=image/jpeg:https://gyularef.hu/wp-content/uploads/2016/08/ofi.jpg
END:VEVENT
END:VCALENDAR