BEGIN:VCALENDAR
VERSION:2.0
PRODID:-//Gyulai Református Egyházközség - ECPv6.11.2.1//NONSGML v1.0//EN
CALSCALE:GREGORIAN
METHOD:PUBLISH
X-ORIGINAL-URL:https://gyularef.hu
X-WR-CALDESC:Events for Gyulai Református Egyházközség
REFRESH-INTERVAL;VALUE=DURATION:PT1H
X-Robots-Tag:noindex
X-PUBLISHED-TTL:PT1H
BEGIN:VTIMEZONE
TZID:Europe/Budapest
BEGIN:DAYLIGHT
TZOFFSETFROM:+0100
TZOFFSETTO:+0200
TZNAME:CEST
DTSTART:20170326T010000
END:DAYLIGHT
BEGIN:STANDARD
TZOFFSETFROM:+0200
TZOFFSETTO:+0100
TZNAME:CET
DTSTART:20171029T010000
END:STANDARD
END:VTIMEZONE
BEGIN:VEVENT
DTSTART;TZID=Europe/Budapest:20171117T080000
DTEND;TZID=Europe/Budapest:20171117T090000
DTSTAMP:20260421T050534
CREATED:20171112T150000Z
LAST-MODIFIED:20171112T150000Z
UID:2108-1510905600-1510909200@gyularef.hu
SUMMARY:Istentisztelet Vándorbiblia fogadása
DESCRIPTION:
URL:https://gyularef.hu/event/istentisztelet-vandorbiblia-fogadasa/
LOCATION:Templom\, Petőfi tér 4.\, Gyula\, Békés\, 5700\, Magyarország
CATEGORIES:Istentisztelet
ATTACH;FMTTYPE=image/jpeg:https://gyularef.hu/wp-content/uploads/2016/08/templomunk.jpg
END:VEVENT
BEGIN:VEVENT
DTSTART;TZID=Europe/Budapest:20171117T140000
DTEND;TZID=Europe/Budapest:20171117T150000
DTSTAMP:20260421T050534
CREATED:20171112T150146Z
LAST-MODIFIED:20171112T150146Z
UID:2110-1510927200-1510930800@gyularef.hu
SUMMARY:Konfirmáció felkészítő alkalom
DESCRIPTION:
URL:https://gyularef.hu/event/konfirmacio-felkeszito-alkalom-4/
LOCATION:Gyülekezeti kisterem\, Petőfi tér 4.\, Gyula\, Békés\, 5700\, Magyarország
CATEGORIES:Bibliaóra
ATTACH;FMTTYPE=image/jpeg:https://gyularef.hu/wp-content/uploads/2016/09/biztos_szikla.jpg
END:VEVENT
BEGIN:VEVENT
DTSTART;TZID=Europe/Budapest:20171117T150000
DTEND;TZID=Europe/Budapest:20171117T160000
DTSTAMP:20260421T050534
CREATED:20171112T150429Z
LAST-MODIFIED:20171112T150429Z
UID:2112-1510930800-1510934400@gyularef.hu
SUMMARY:Ifjúsági óra Biztos Szikla klub
DESCRIPTION:
URL:https://gyularef.hu/event/ifjusagi-ora-biztos-szikla-klub-30/
LOCATION:Kisház\, Petőfi tér 4.\, Gyula\, Békés\, 5700\, Magyarország
CATEGORIES:Biztos Szikla klub
ATTACH;FMTTYPE=image/jpeg:https://gyularef.hu/wp-content/uploads/2016/08/biztos_szikla.jpg
END:VEVENT
BEGIN:VEVENT
DTSTART;TZID=Europe/Budapest:20171117T180000
DTEND;TZID=Europe/Budapest:20171117T190000
DTSTAMP:20260421T050534
CREATED:20171112T150523Z
LAST-MODIFIED:20171112T150523Z
UID:2114-1510941600-1510945200@gyularef.hu
SUMMARY:Fiatalok bibliaköre
DESCRIPTION:
URL:https://gyularef.hu/event/fiatalok-bibliakore-50/
LOCATION:Kisház\, Petőfi tér 4.\, Gyula\, Békés\, 5700\, Magyarország
CATEGORIES:Fiatalok bibliaköre
ATTACH;FMTTYPE=image/jpeg:https://gyularef.hu/wp-content/uploads/2016/08/ofi.jpg
END:VEVENT
BEGIN:VEVENT
DTSTART;TZID=Europe/Budapest:20171117T180100
DTEND;TZID=Europe/Budapest:20171117T190000
DTSTAMP:20260421T050534
CREATED:20171112T150657Z
LAST-MODIFIED:20171112T150657Z
UID:2116-1510941660-1510945200@gyularef.hu
SUMMARY:Presbiteri találkozó
DESCRIPTION:
URL:https://gyularef.hu/event/presbiteri-talalkozo/
LOCATION:Magvető Ref. Ált. Isk. ebédlője\, Kálvin utca\, Gyula\, 5700\, Magyarország
CATEGORIES:Bibliaóra
ATTACH;FMTTYPE=image/jpeg:https://gyularef.hu/wp-content/uploads/2017/10/biblia-.jpg
END:VEVENT
BEGIN:VEVENT
DTSTART;TZID=Europe/Budapest:20171119T093000
DTEND;TZID=Europe/Budapest:20171119T095000
DTSTAMP:20260421T050534
CREATED:20171112T150814Z
LAST-MODIFIED:20171112T150814Z
UID:2118-1511083800-1511085000@gyularef.hu
SUMMARY:Imaközösség
DESCRIPTION:
URL:https://gyularef.hu/event/imakozosseg-50/
LOCATION:Békés
CATEGORIES:Imaközösség
ATTACH;FMTTYPE=image/jpeg:https://gyularef.hu/wp-content/uploads/2016/09/imakozosseg.jpg
END:VEVENT
BEGIN:VEVENT
DTSTART;TZID=Europe/Budapest:20171119T100000
DTEND;TZID=Europe/Budapest:20171119T110000
DTSTAMP:20260421T050534
CREATED:20171112T151034Z
LAST-MODIFIED:20171112T151034Z
UID:2121-1511085600-1511089200@gyularef.hu
SUMMARY:Istentisztelet
DESCRIPTION:
URL:https://gyularef.hu/event/istentisztelet-33/
LOCATION:Templom\, Petőfi tér 4.\, Gyula\, Békés\, 5700\, Magyarország
CATEGORIES:Istentisztelet
ATTACH;FMTTYPE=image/jpeg:https://gyularef.hu/wp-content/uploads/2016/08/istentisztelet.jpg
END:VEVENT
BEGIN:VEVENT
DTSTART;TZID=Europe/Budapest:20171119T170000
DTEND;TZID=Europe/Budapest:20171119T180000
DTSTAMP:20260421T050534
CREATED:20171112T151247Z
LAST-MODIFIED:20171112T151247Z
UID:2123-1511110800-1511114400@gyularef.hu
SUMMARY:Istentisztelet (du)
DESCRIPTION:
URL:https://gyularef.hu/event/istentisztelet-du-38/
LOCATION:Gyülekezeti kisterem\, Petőfi tér 4.\, Gyula\, Békés\, 5700\, Magyarország
CATEGORIES:Istentisztelet
ATTACH;FMTTYPE=image/jpeg:https://gyularef.hu/wp-content/uploads/2016/09/bibliaora.jpg
END:VEVENT
BEGIN:VEVENT
DTSTART;TZID=Europe/Budapest:20171122T180000
DTEND;TZID=Europe/Budapest:20171122T190000
DTSTAMP:20260421T050534
CREATED:20171122T062256Z
LAST-MODIFIED:20171122T062256Z
UID:2152-1511373600-1511377200@gyularef.hu
SUMMARY:Bibliaóra
DESCRIPTION:
URL:https://gyularef.hu/event/bibliaora-19/
LOCATION:Magvető Ref. Ált. Isk. ebédlője\, Kálvin utca\, Gyula\, 5700\, Magyarország
CATEGORIES:Bibliaóra
ATTACH;FMTTYPE=image/jpeg:https://gyularef.hu/wp-content/uploads/2016/09/bibliaora_sz.jpg
END:VEVENT
BEGIN:VEVENT
DTSTART;TZID=Europe/Budapest:20171123T100000
DTEND;TZID=Europe/Budapest:20171123T110000
DTSTAMP:20260421T050534
CREATED:20171122T062409Z
LAST-MODIFIED:20171122T062409Z
UID:2154-1511431200-1511434800@gyularef.hu
SUMMARY:Baba - mama kör
DESCRIPTION:
URL:https://gyularef.hu/event/baba-mama-kor-39/
LOCATION:Kisház\, Petőfi tér 4.\, Gyula\, Békés\, 5700\, Magyarország
CATEGORIES:Baba-mama kör
ATTACH;FMTTYPE=image/jpeg:https://gyularef.hu/wp-content/uploads/2016/09/baba_mama.jpg
END:VEVENT
BEGIN:VEVENT
DTSTART;TZID=Europe/Budapest:20171124T140000
DTEND;TZID=Europe/Budapest:20171124T150000
DTSTAMP:20260421T050534
CREATED:20171122T062527Z
LAST-MODIFIED:20171122T062527Z
UID:2156-1511532000-1511535600@gyularef.hu
SUMMARY:Konfirmációs felkészítő alkalom
DESCRIPTION:
URL:https://gyularef.hu/event/konfirmacios-felkeszito-alkalom/
LOCATION:Gyülekezeti kisterem\, Petőfi tér 4.\, Gyula\, Békés\, 5700\, Magyarország
CATEGORIES:Bibliaóra
ATTACH;FMTTYPE=image/jpeg:https://gyularef.hu/wp-content/uploads/2017/11/biblia-.jpg
END:VEVENT
BEGIN:VEVENT
DTSTART;TZID=Europe/Budapest:20171124T150000
DTEND;TZID=Europe/Budapest:20171124T160000
DTSTAMP:20260421T050534
CREATED:20171122T062700Z
LAST-MODIFIED:20171122T062700Z
UID:2158-1511535600-1511539200@gyularef.hu
SUMMARY:Ifjúsági óra - Biztos Szikla klub
DESCRIPTION:
URL:https://gyularef.hu/event/ifjusagi-ora-biztos-szikla-klub-31/
LOCATION:Kisház\, Petőfi tér 4.\, Gyula\, Békés\, 5700\, Magyarország
CATEGORIES:Biztos Szikla klub
ATTACH;FMTTYPE=image/jpeg:https://gyularef.hu/wp-content/uploads/2016/08/biztos_szikla.jpg
END:VEVENT
BEGIN:VEVENT
DTSTART;TZID=Europe/Budapest:20171124T180000
DTEND;TZID=Europe/Budapest:20171124T190000
DTSTAMP:20260421T050534
CREATED:20171122T062757Z
LAST-MODIFIED:20171122T062757Z
UID:2160-1511546400-1511550000@gyularef.hu
SUMMARY:Fiatalok bibliaköre
DESCRIPTION:
URL:https://gyularef.hu/event/fiatalok-bibliakore-51/
LOCATION:Kisház\, Petőfi tér 4.\, Gyula\, Békés\, 5700\, Magyarország
CATEGORIES:Fiatalok bibliaköre
ATTACH;FMTTYPE=image/jpeg:https://gyularef.hu/wp-content/uploads/2016/08/ofi.jpg
END:VEVENT
BEGIN:VEVENT
DTSTART;TZID=Europe/Budapest:20171126T093000
DTEND;TZID=Europe/Budapest:20171126T095000
DTSTAMP:20260421T050534
CREATED:20171122T062853Z
LAST-MODIFIED:20171122T062853Z
UID:2162-1511688600-1511689800@gyularef.hu
SUMMARY:Imaközösség
DESCRIPTION:
URL:https://gyularef.hu/event/imakozosseg-51/
LOCATION:Gyülekezeti kisterem\, Petőfi tér 4.\, Gyula\, Békés\, 5700\, Magyarország
CATEGORIES:Imaközösség
ATTACH;FMTTYPE=image/jpeg:https://gyularef.hu/wp-content/uploads/2016/09/imakozosseg.jpg
END:VEVENT
BEGIN:VEVENT
DTSTART;TZID=Europe/Budapest:20171126T100000
DTEND;TZID=Europe/Budapest:20171126T110000
DTSTAMP:20260421T050534
CREATED:20171122T062956Z
LAST-MODIFIED:20171122T062956Z
UID:2164-1511690400-1511694000@gyularef.hu
SUMMARY:Istentisztelet
DESCRIPTION:
URL:https://gyularef.hu/event/istentisztelet-34/
LOCATION:Templom\, Petőfi tér 4.\, Gyula\, Békés\, 5700\, Magyarország
CATEGORIES:Istentisztelet
ATTACH;FMTTYPE=image/jpeg:https://gyularef.hu/wp-content/uploads/2016/08/istentisztelet.jpg
END:VEVENT
BEGIN:VEVENT
DTSTART;TZID=Europe/Budapest:20171126T170000
DTEND;TZID=Europe/Budapest:20171126T180000
DTSTAMP:20260421T050534
CREATED:20171122T063103Z
LAST-MODIFIED:20171122T063103Z
UID:2166-1511715600-1511719200@gyularef.hu
SUMMARY:Istentisztelet (du)
DESCRIPTION:
URL:https://gyularef.hu/event/istentisztelet-du-39/
LOCATION:Gyülekezeti kisterem\, Petőfi tér 4.\, Gyula\, Békés\, 5700\, Magyarország
CATEGORIES:Istentisztelet
ATTACH;FMTTYPE=image/jpeg:https://gyularef.hu/wp-content/uploads/2016/09/bibliaora.jpg
END:VEVENT
BEGIN:VEVENT
DTSTART;TZID=Europe/Budapest:20171127T180000
DTEND;TZID=Europe/Budapest:20171127T190000
DTSTAMP:20260421T050534
CREATED:20171127T075104Z
LAST-MODIFIED:20171127T075104Z
UID:2175-1511805600-1511809200@gyularef.hu
SUMMARY:Adventi igehirdetés sorozat (h)
DESCRIPTION:
URL:https://gyularef.hu/event/adventi-igehirdetes-sorozat-h/
LOCATION:Gyülekezeti kisterem\, Petőfi tér 4.\, Gyula\, Békés\, 5700\, Magyarország
CATEGORIES:Istentisztelet
ATTACH;FMTTYPE=image/jpeg:https://gyularef.hu/wp-content/uploads/2017/11/adventi-sorozat-logoja.jpg
END:VEVENT
BEGIN:VEVENT
DTSTART;TZID=Europe/Budapest:20171128T180000
DTEND;TZID=Europe/Budapest:20171128T190000
DTSTAMP:20260421T050534
CREATED:20171127T075139Z
LAST-MODIFIED:20171127T075139Z
UID:2177-1511892000-1511895600@gyularef.hu
SUMMARY:Adventi igehirdetés sorozat (k)
DESCRIPTION:
URL:https://gyularef.hu/event/adventi-igehirdetes-sorozat-k/
LOCATION:Gyülekezeti kisterem\, Petőfi tér 4.\, Gyula\, Békés\, 5700\, Magyarország
CATEGORIES:Istentisztelet
ATTACH;FMTTYPE=image/jpeg:https://gyularef.hu/wp-content/uploads/2017/11/adventi-sorozat-logoja.jpg
END:VEVENT
BEGIN:VEVENT
DTSTART;TZID=Europe/Budapest:20171129T180000
DTEND;TZID=Europe/Budapest:20171129T190000
DTSTAMP:20260421T050534
CREATED:20171127T075215Z
LAST-MODIFIED:20171127T075215Z
UID:2179-1511978400-1511982000@gyularef.hu
SUMMARY:Adventi igehirdetés sorozat (sz)
DESCRIPTION:
URL:https://gyularef.hu/event/adventi-igehirdetes-sorozat-sz/
LOCATION:Gyülekezeti kisterem\, Petőfi tér 4.\, Gyula\, Békés\, 5700\, Magyarország
CATEGORIES:Istentisztelet
ATTACH;FMTTYPE=image/jpeg:https://gyularef.hu/wp-content/uploads/2017/11/adventi-sorozat-logoja.jpg
END:VEVENT
BEGIN:VEVENT
DTSTART;TZID=Europe/Budapest:20171130T100000
DTEND;TZID=Europe/Budapest:20171130T110000
DTSTAMP:20260421T050534
CREATED:20171127T075432Z
LAST-MODIFIED:20171127T075432Z
UID:2185-1512036000-1512039600@gyularef.hu
SUMMARY:Baba-mama kör
DESCRIPTION:
URL:https://gyularef.hu/event/baba-mama-kor-40/
LOCATION:Kisház\, Petőfi tér 4.\, Gyula\, Békés\, 5700\, Magyarország
CATEGORIES:Baba-mama kör
ATTACH;FMTTYPE=image/jpeg:https://gyularef.hu/wp-content/uploads/2016/09/baba_mama.jpg
END:VEVENT
BEGIN:VEVENT
DTSTART;TZID=Europe/Budapest:20171130T180000
DTEND;TZID=Europe/Budapest:20171130T190000
DTSTAMP:20260421T050534
CREATED:20171127T075251Z
LAST-MODIFIED:20171127T075511Z
UID:2181-1512064800-1512068400@gyularef.hu
SUMMARY:Adventi igehirdetés sorozat (cs)
DESCRIPTION:
URL:https://gyularef.hu/event/adventi-igehirdetes-sorozat-cs/
LOCATION:Gyülekezeti kisterem\, Petőfi tér 4.\, Gyula\, Békés\, 5700\, Magyarország
CATEGORIES:Istentisztelet
ATTACH;FMTTYPE=image/jpeg:https://gyularef.hu/wp-content/uploads/2017/11/adventi-sorozat-logoja.jpg
END:VEVENT
BEGIN:VEVENT
DTSTART;TZID=Europe/Budapest:20171201T140000
DTEND;TZID=Europe/Budapest:20171201T150000
DTSTAMP:20260421T050534
CREATED:20171127T080414Z
LAST-MODIFIED:20171127T080414Z
UID:2187-1512136800-1512140400@gyularef.hu
SUMMARY:Konfirmáció felkészítő alkalom
DESCRIPTION:
URL:https://gyularef.hu/event/konfirmacio-felkeszito-alkalom-5/
LOCATION:Gyülekezeti kisterem\, Petőfi tér 4.\, Gyula\, Békés\, 5700\, Magyarország
CATEGORIES:Bibliaóra
ATTACH;FMTTYPE=image/jpeg:https://gyularef.hu/wp-content/uploads/2017/11/biblia-.jpg
END:VEVENT
BEGIN:VEVENT
DTSTART;TZID=Europe/Budapest:20171201T150000
DTEND;TZID=Europe/Budapest:20171201T160000
DTSTAMP:20260421T050534
CREATED:20171127T080720Z
LAST-MODIFIED:20171127T080720Z
UID:2189-1512140400-1512144000@gyularef.hu
SUMMARY:Ifjúsági óra Biztos Szikla klub
DESCRIPTION:
URL:https://gyularef.hu/event/ifjusagi-ora-biztos-szikla-klub-32/
LOCATION:Kisház\, Petőfi tér 4.\, Gyula\, Békés\, 5700\, Magyarország
CATEGORIES:Biztos Szikla klub
ATTACH;FMTTYPE=image/jpeg:https://gyularef.hu/wp-content/uploads/2016/08/biztos_szikla.jpg
END:VEVENT
BEGIN:VEVENT
DTSTART;TZID=Europe/Budapest:20171201T180000
DTEND;TZID=Europe/Budapest:20171201T190000
DTSTAMP:20260421T050534
CREATED:20171127T075336Z
LAST-MODIFIED:20171127T075336Z
UID:2183-1512151200-1512154800@gyularef.hu
SUMMARY:Adventi igehirdetés sorozat (p)
DESCRIPTION:
URL:https://gyularef.hu/event/adventi-igehirdetes-sorozat-p/
LOCATION:Gyülekezeti kisterem\, Petőfi tér 4.\, Gyula\, Békés\, 5700\, Magyarország
CATEGORIES:Istentisztelet
ATTACH;FMTTYPE=image/jpeg:https://gyularef.hu/wp-content/uploads/2017/11/adventi-sorozat-logoja.jpg
END:VEVENT
BEGIN:VEVENT
DTSTART;TZID=Europe/Budapest:20171201T190000
DTEND;TZID=Europe/Budapest:20171201T200000
DTSTAMP:20260421T050534
CREATED:20171127T080905Z
LAST-MODIFIED:20171127T080905Z
UID:2191-1512154800-1512158400@gyularef.hu
SUMMARY:Fiatalok Bibliaköre
DESCRIPTION:
URL:https://gyularef.hu/event/fiatalok-bibliakore-52/
LOCATION:Békés
CATEGORIES:Fiatalok bibliaköre
ATTACH;FMTTYPE=image/jpeg:https://gyularef.hu/wp-content/uploads/2016/08/ofi.jpg
END:VEVENT
BEGIN:VEVENT
DTSTART;TZID=Europe/Budapest:20171202T180000
DTEND;TZID=Europe/Budapest:20171202T190000
DTSTAMP:20260421T050534
CREATED:20171127T080955Z
LAST-MODIFIED:20171127T080955Z
UID:2193-1512237600-1512241200@gyularef.hu
SUMMARY:Adventi koncert
DESCRIPTION:
URL:https://gyularef.hu/event/adventi-koncert/
LOCATION:Templom\, Petőfi tér 4.\, Gyula\, Békés\, 5700\, Magyarország
CATEGORIES:Koncert
ATTACH;FMTTYPE=image/jpeg:https://gyularef.hu/wp-content/uploads/2017/11/Adventi-koncert17_t.jpg
END:VEVENT
BEGIN:VEVENT
DTSTART;TZID=Europe/Budapest:20171203T093000
DTEND;TZID=Europe/Budapest:20171203T095000
DTSTAMP:20260421T050534
CREATED:20171127T081138Z
LAST-MODIFIED:20171127T081138Z
UID:2195-1512293400-1512294600@gyularef.hu
SUMMARY:Imaközösség
DESCRIPTION:
URL:https://gyularef.hu/event/imakozosseg-52/
LOCATION:Gyülekezeti kisterem\, Petőfi tér 4.\, Gyula\, Békés\, 5700\, Magyarország
CATEGORIES:Imaközösség
ATTACH;FMTTYPE=image/jpeg:https://gyularef.hu/wp-content/uploads/2016/09/imakozosseg.jpg
END:VEVENT
BEGIN:VEVENT
DTSTART;TZID=Europe/Budapest:20171203T100000
DTEND;TZID=Europe/Budapest:20171203T110000
DTSTAMP:20260421T050534
CREATED:20171127T081250Z
LAST-MODIFIED:20171127T081250Z
UID:2197-1512295200-1512298800@gyularef.hu
SUMMARY:Úrvacsorás istentisztelet Advent 1. vasárnapja
DESCRIPTION:
URL:https://gyularef.hu/event/urvacsoras-istentisztelet-advent-1-vasarnapja/
LOCATION:Békés
CATEGORIES:Úrvacsorás istentisztelet
ATTACH;FMTTYPE=image/jpeg:https://gyularef.hu/wp-content/uploads/2016/09/urvacsora.jpg
END:VEVENT
BEGIN:VEVENT
DTSTART;TZID=Europe/Budapest:20171203T170000
DTEND;TZID=Europe/Budapest:20171203T180000
DTSTAMP:20260421T050534
CREATED:20171127T081441Z
LAST-MODIFIED:20171127T081453Z
UID:2199-1512320400-1512324000@gyularef.hu
SUMMARY:Istentisztelet Kárpát-medencei imanap
DESCRIPTION:
URL:https://gyularef.hu/event/istentisztelet-karpat-medencei-imanap/
LOCATION:Gyülekezeti kisterem\, Petőfi tér 4.\, Gyula\, Békés\, 5700\, Magyarország
CATEGORIES:Istentisztelet
ATTACH;FMTTYPE=image/jpeg:https://gyularef.hu/wp-content/uploads/2017/11/5_2.jpg
END:VEVENT
BEGIN:VEVENT
DTSTART;TZID=Europe/Budapest:20171213T163000
DTEND;TZID=Europe/Budapest:20171213T173000
DTSTAMP:20260421T050534
CREATED:20171211T192151Z
LAST-MODIFIED:20171211T192151Z
UID:2210-1513182600-1513186200@gyularef.hu
SUMMARY:Nőszövetségi alkalom
DESCRIPTION:
URL:https://gyularef.hu/event/noszovetsegi-alkalom-3/
LOCATION:Gyülekezeti kisterem\, Petőfi tér 4.\, Gyula\, Békés\, 5700\, Magyarország
CATEGORIES:Nők bibliaköre
ATTACH;FMTTYPE=image/jpeg:https://gyularef.hu/wp-content/uploads/2017/11/4-1.jpg
END:VEVENT
END:VCALENDAR