BEGIN:VCALENDAR
VERSION:2.0
PRODID:-//Gyulai Református Egyházközség - ECPv6.11.2.1//NONSGML v1.0//EN
CALSCALE:GREGORIAN
METHOD:PUBLISH
X-ORIGINAL-URL:https://gyularef.hu
X-WR-CALDESC:Events for Gyulai Református Egyházközség
REFRESH-INTERVAL;VALUE=DURATION:PT1H
X-Robots-Tag:noindex
X-PUBLISHED-TTL:PT1H
BEGIN:VTIMEZONE
TZID:Europe/Budapest
BEGIN:DAYLIGHT
TZOFFSETFROM:+0100
TZOFFSETTO:+0200
TZNAME:CEST
DTSTART:20180325T010000
END:DAYLIGHT
BEGIN:STANDARD
TZOFFSETFROM:+0200
TZOFFSETTO:+0100
TZNAME:CET
DTSTART:20181028T010000
END:STANDARD
END:VTIMEZONE
BEGIN:VEVENT
DTSTART;TZID=Europe/Budapest:20180207T180000
DTEND;TZID=Europe/Budapest:20180207T190000
DTSTAMP:20260420T212528
CREATED:20180205T220556Z
LAST-MODIFIED:20180205T220556Z
UID:2465-1518026400-1518030000@gyularef.hu
SUMMARY:Bibliaóra
DESCRIPTION:
URL:https://gyularef.hu/event/bibliaora-24/
LOCATION:Magvető Ref. Ált. Isk. ebédlője\, Kálvin utca\, Gyula\, 5700\, Magyarország
CATEGORIES:Bibliaóra
ATTACH;FMTTYPE=image/jpeg:https://gyularef.hu/wp-content/uploads/2016/09/bibliaora_sz.jpg
END:VEVENT
BEGIN:VEVENT
DTSTART;TZID=Europe/Budapest:20180208T100000
DTEND;TZID=Europe/Budapest:20180208T110000
DTSTAMP:20260420T212528
CREATED:20180205T220648Z
LAST-MODIFIED:20180205T220648Z
UID:2467-1518084000-1518087600@gyularef.hu
SUMMARY:Baba-mama kör
DESCRIPTION:
URL:https://gyularef.hu/event/baba-mama-kor-47/
LOCATION:Kisház\, Petőfi tér 4.\, Gyula\, Békés\, 5700\, Magyarország
CATEGORIES:Baba-mama kör
ATTACH;FMTTYPE=image/jpeg:https://gyularef.hu/wp-content/uploads/2016/09/baba_mama.jpg
END:VEVENT
BEGIN:VEVENT
DTSTART;TZID=Europe/Budapest:20180208T180000
DTEND;TZID=Europe/Budapest:20180208T190000
DTSTAMP:20260420T212528
CREATED:20180205T220732Z
LAST-MODIFIED:20180205T220732Z
UID:2469-1518112800-1518116400@gyularef.hu
SUMMARY:Református hit alapjai kurzus
DESCRIPTION:
URL:https://gyularef.hu/event/reformatus-hit-alapjai-kurzus-12/
LOCATION:Kisház\, Petőfi tér 4.\, Gyula\, Békés\, 5700\, Magyarország
CATEGORIES:Bibliaóra
ATTACH;FMTTYPE=image/jpeg:https://gyularef.hu/wp-content/uploads/2017/11/biblia-.jpg
END:VEVENT
BEGIN:VEVENT
DTSTART;TZID=Europe/Budapest:20180209T140000
DTEND;TZID=Europe/Budapest:20180209T150000
DTSTAMP:20260420T212528
CREATED:20180205T220831Z
LAST-MODIFIED:20180205T220831Z
UID:2471-1518184800-1518188400@gyularef.hu
SUMMARY:Konfirmációs óra (ifjúsági)
DESCRIPTION:
URL:https://gyularef.hu/event/konfirmacios-ora-ifjusagi-41/
LOCATION:Gyülekezeti kisterem\, Petőfi tér 4.\, Gyula\, Békés\, 5700\, Magyarország
CATEGORIES:Bibliaóra
ATTACH;FMTTYPE=image/jpeg:https://gyularef.hu/wp-content/uploads/2016/09/biztos_szikla.jpg
END:VEVENT
BEGIN:VEVENT
DTSTART;TZID=Europe/Budapest:20180209T150000
DTEND;TZID=Europe/Budapest:20180209T160000
DTSTAMP:20260420T212528
CREATED:20180205T220920Z
LAST-MODIFIED:20180205T220920Z
UID:2473-1518188400-1518192000@gyularef.hu
SUMMARY:Ifjúsági óra Biztos Szikla klub
DESCRIPTION:
URL:https://gyularef.hu/event/ifjusagi-ora-biztos-szikla-klub-36/
LOCATION:Kisház\, Petőfi tér 4.\, Gyula\, Békés\, 5700\, Magyarország
CATEGORIES:Biztos Szikla klub
ATTACH;FMTTYPE=image/jpeg:https://gyularef.hu/wp-content/uploads/2016/08/biztos_szikla.jpg
END:VEVENT
BEGIN:VEVENT
DTSTART;TZID=Europe/Budapest:20180209T180000
DTEND;TZID=Europe/Budapest:20180209T190000
DTSTAMP:20260420T212528
CREATED:20180205T221022Z
LAST-MODIFIED:20180205T221022Z
UID:2475-1518199200-1518202800@gyularef.hu
SUMMARY:Fiatalok bibliaköre
DESCRIPTION:
URL:https://gyularef.hu/event/fiatalok-bibliakore-60/
LOCATION:Kisház\, Petőfi tér 4.\, Gyula\, Békés\, 5700\, Magyarország
CATEGORIES:Fiatalok bibliaköre
ATTACH;FMTTYPE=image/jpeg:https://gyularef.hu/wp-content/uploads/2016/08/ofi.jpg
END:VEVENT
BEGIN:VEVENT
DTSTART;TZID=Europe/Budapest:20180211T093000
DTEND;TZID=Europe/Budapest:20180211T095000
DTSTAMP:20260420T212528
CREATED:20180205T221120Z
LAST-MODIFIED:20180205T221120Z
UID:2477-1518341400-1518342600@gyularef.hu
SUMMARY:Imaközösség
DESCRIPTION:
URL:https://gyularef.hu/event/imakozosseg-59/
LOCATION:Gyülekezeti kisterem\, Petőfi tér 4.\, Gyula\, Békés\, 5700\, Magyarország
CATEGORIES:Imaközösség
ATTACH;FMTTYPE=image/jpeg:https://gyularef.hu/wp-content/uploads/2016/09/imakozosseg.jpg
END:VEVENT
BEGIN:VEVENT
DTSTART;TZID=Europe/Budapest:20180211T100000
DTEND;TZID=Europe/Budapest:20180211T110000
DTSTAMP:20260420T212528
CREATED:20180205T221209Z
LAST-MODIFIED:20180205T221209Z
UID:2479-1518343200-1518346800@gyularef.hu
SUMMARY:Családi istentisztelet
DESCRIPTION:
URL:https://gyularef.hu/event/csaladi-istentisztelet-10/
LOCATION:Templom\, Petőfi tér 4.\, Gyula\, Békés\, 5700\, Magyarország
CATEGORIES:Istentisztelet
ATTACH;FMTTYPE=image/jpeg:https://gyularef.hu/wp-content/uploads/2016/08/istentisztelet.jpg
END:VEVENT
BEGIN:VEVENT
DTSTART;TZID=Europe/Budapest:20180211T170000
DTEND;TZID=Europe/Budapest:20180211T180000
DTSTAMP:20260420T212528
CREATED:20180205T221322Z
LAST-MODIFIED:20180205T221322Z
UID:2482-1518368400-1518372000@gyularef.hu
SUMMARY:Istentisztelet (du)
DESCRIPTION:
URL:https://gyularef.hu/event/istentisztelet-du-44/
LOCATION:Gyülekezeti kisterem\, Petőfi tér 4.\, Gyula\, Békés\, 5700\, Magyarország
CATEGORIES:Istentisztelet
ATTACH;FMTTYPE=image/jpeg:https://gyularef.hu/wp-content/uploads/2016/09/bibliaora.jpg
END:VEVENT
BEGIN:VEVENT
DTSTART;TZID=Europe/Budapest:20180212T180000
DTEND;TZID=Europe/Budapest:20180212T190000
DTSTAMP:20260420T212528
CREATED:20180212T114929Z
LAST-MODIFIED:20180212T114929Z
UID:2560-1518458400-1518462000@gyularef.hu
SUMMARY:Bűnbánati istentisztelet (h)
DESCRIPTION:
URL:https://gyularef.hu/event/bunbanati-istentisztelet-h-2/
LOCATION:Gyülekezeti kisterem\, Petőfi tér 4.\, Gyula\, Békés\, 5700\, Magyarország
CATEGORIES:Bűnbánati istentisztelet
ATTACH;FMTTYPE=image/jpeg:https://gyularef.hu/wp-content/uploads/2016/09/bibliaora_sz.jpg
END:VEVENT
BEGIN:VEVENT
DTSTART;TZID=Europe/Budapest:20180213T180000
DTEND;TZID=Europe/Budapest:20180213T190000
DTSTAMP:20260420T212528
CREATED:20180212T115020Z
LAST-MODIFIED:20180212T115020Z
UID:2562-1518544800-1518548400@gyularef.hu
SUMMARY:Bűnbánati istentisztelet (k)
DESCRIPTION:
URL:https://gyularef.hu/event/bunbanati-istentisztelet-k-6/
LOCATION:Gyülekezeti kisterem\, Petőfi tér 4.\, Gyula\, Békés\, 5700\, Magyarország
CATEGORIES:Bűnbánati istentisztelet
ATTACH;FMTTYPE=image/jpeg:https://gyularef.hu/wp-content/uploads/2016/09/bibliaora_sz.jpg
END:VEVENT
BEGIN:VEVENT
DTSTART;TZID=Europe/Budapest:20180214T180000
DTEND;TZID=Europe/Budapest:20180214T190000
DTSTAMP:20260420T212528
CREATED:20180212T115919Z
LAST-MODIFIED:20180212T115919Z
UID:2568-1518631200-1518634800@gyularef.hu
SUMMARY:Házasság örömei és feszültségei
DESCRIPTION:
URL:https://gyularef.hu/event/hazassag-oromei-es-feszultsegei/
LOCATION:Magvető Ref. Ált. Isk. ebédlője\, Kálvin utca\, Gyula\, 5700\, Magyarország
CATEGORIES:Bűnbánati istentisztelet
ATTACH;FMTTYPE=image/jpeg:https://gyularef.hu/wp-content/uploads/2018/02/hazassag-hete_2018_2.jpg
END:VEVENT
BEGIN:VEVENT
DTSTART;TZID=Europe/Budapest:20180215T100000
DTEND;TZID=Europe/Budapest:20180215T110000
DTSTAMP:20260420T212528
CREATED:20180212T120015Z
LAST-MODIFIED:20180212T120015Z
UID:2570-1518688800-1518692400@gyularef.hu
SUMMARY:Baba - mama kör
DESCRIPTION:
URL:https://gyularef.hu/event/baba-mama-kor-48/
LOCATION:Kisház\, Petőfi tér 4.\, Gyula\, Békés\, 5700\, Magyarország
CATEGORIES:Baba-mama kör
ATTACH;FMTTYPE=image/jpeg:https://gyularef.hu/wp-content/uploads/2016/09/baba_mama.jpg
END:VEVENT
BEGIN:VEVENT
DTSTART;TZID=Europe/Budapest:20180215T180000
DTEND;TZID=Europe/Budapest:20180215T190000
DTSTAMP:20260420T212528
CREATED:20180212T115106Z
LAST-MODIFIED:20180212T115106Z
UID:2564-1518717600-1518721200@gyularef.hu
SUMMARY:Bűnbánati istentisztelet (cs)
DESCRIPTION:
URL:https://gyularef.hu/event/bunbanati-istentisztelet-cs-6/
LOCATION:Gyülekezeti kisterem\, Petőfi tér 4.\, Gyula\, Békés\, 5700\, Magyarország
CATEGORIES:Bűnbánati istentisztelet
ATTACH;FMTTYPE=image/jpeg:https://gyularef.hu/wp-content/uploads/2016/09/bibliaora_sz.jpg
END:VEVENT
BEGIN:VEVENT
DTSTART;TZID=Europe/Budapest:20180216T140000
DTEND;TZID=Europe/Budapest:20180216T150000
DTSTAMP:20260420T212528
CREATED:20180212T120307Z
LAST-MODIFIED:20180212T120307Z
UID:2572-1518789600-1518793200@gyularef.hu
SUMMARY:Konfirmációs óra (ifjúsági)
DESCRIPTION:
URL:https://gyularef.hu/event/konfirmacios-ora-ifjusagi-42/
LOCATION:Gyülekezeti kisterem\, Petőfi tér 4.\, Gyula\, Békés\, 5700\, Magyarország
CATEGORIES:Bibliaóra
ATTACH;FMTTYPE=image/jpeg:https://gyularef.hu/wp-content/uploads/2016/09/biztos_szikla.jpg
END:VEVENT
BEGIN:VEVENT
DTSTART;TZID=Europe/Budapest:20180216T150000
DTEND;TZID=Europe/Budapest:20180216T160000
DTSTAMP:20260420T212528
CREATED:20180212T120520Z
LAST-MODIFIED:20180212T120520Z
UID:2574-1518793200-1518796800@gyularef.hu
SUMMARY:Biztos Szikla Klub
DESCRIPTION:
URL:https://gyularef.hu/event/biztos-szikla-klub-18/
LOCATION:Kisház\, Petőfi tér 4.\, Gyula\, Békés\, 5700\, Magyarország
CATEGORIES:Biztos Szikla klub
ATTACH;FMTTYPE=image/jpeg:https://gyularef.hu/wp-content/uploads/2016/08/biztos_szikla.jpg
END:VEVENT
BEGIN:VEVENT
DTSTART;TZID=Europe/Budapest:20180216T180000
DTEND;TZID=Europe/Budapest:20180216T190000
DTSTAMP:20260420T212528
CREATED:20180212T115144Z
LAST-MODIFIED:20180212T115144Z
UID:2566-1518804000-1518807600@gyularef.hu
SUMMARY:Bűnbánati istentisztelet (p)
DESCRIPTION:
URL:https://gyularef.hu/event/bunbanati-istentisztelet-p-6/
LOCATION:Gyülekezeti kisterem\, Petőfi tér 4.\, Gyula\, Békés\, 5700\, Magyarország
CATEGORIES:Bűnbánati istentisztelet
ATTACH;FMTTYPE=image/jpeg:https://gyularef.hu/wp-content/uploads/2016/09/bibliaora_sz.jpg
END:VEVENT
BEGIN:VEVENT
DTSTART;TZID=Europe/Budapest:20180216T190000
DTEND;TZID=Europe/Budapest:20180216T200000
DTSTAMP:20260420T212528
CREATED:20180212T120610Z
LAST-MODIFIED:20180212T120610Z
UID:2576-1518807600-1518811200@gyularef.hu
SUMMARY:Fiatalok bibliaköre
DESCRIPTION:
URL:https://gyularef.hu/event/fiatalok-bibliakore-61/
LOCATION:Kisház\, Petőfi tér 4.\, Gyula\, Békés\, 5700\, Magyarország
CATEGORIES:Fiatalok bibliaköre
ATTACH;FMTTYPE=image/jpeg:https://gyularef.hu/wp-content/uploads/2016/08/ofi.jpg
END:VEVENT
BEGIN:VEVENT
DTSTART;TZID=Europe/Budapest:20180218T093000
DTEND;TZID=Europe/Budapest:20180218T095000
DTSTAMP:20260420T212528
CREATED:20180212T120718Z
LAST-MODIFIED:20180212T120718Z
UID:2578-1518946200-1518947400@gyularef.hu
SUMMARY:Imaközösség
DESCRIPTION:
URL:https://gyularef.hu/event/imakozosseg-60/
LOCATION:Gyülekezeti kisterem\, Petőfi tér 4.\, Gyula\, Békés\, 5700\, Magyarország
CATEGORIES:Imaközösség
ATTACH;FMTTYPE=image/jpeg:https://gyularef.hu/wp-content/uploads/2016/09/imakozosseg.jpg
END:VEVENT
BEGIN:VEVENT
DTSTART;TZID=Europe/Budapest:20180218T100000
DTEND;TZID=Europe/Budapest:20180218T113000
DTSTAMP:20260420T212528
CREATED:20180212T120829Z
LAST-MODIFIED:20180212T120829Z
UID:2580-1518948000-1518953400@gyularef.hu
SUMMARY:Úrvacsorás istentisztelet
DESCRIPTION:
URL:https://gyularef.hu/event/urvacsoras-istentisztelet-7/
LOCATION:Templom\, Petőfi tér 4.\, Gyula\, Békés\, 5700\, Magyarország
CATEGORIES:Úrvacsorás istentisztelet
ATTACH;FMTTYPE=image/jpeg:https://gyularef.hu/wp-content/uploads/2016/09/urvacsora.jpg
END:VEVENT
BEGIN:VEVENT
DTSTART;TZID=Europe/Budapest:20180218T150000
DTEND;TZID=Europe/Budapest:20180218T160000
DTSTAMP:20260420T212528
CREATED:20180212T121006Z
LAST-MODIFIED:20180212T121006Z
UID:2582-1518966000-1518969600@gyularef.hu
SUMMARY:A házasság túlélési törvényei - interaktív előadás
DESCRIPTION:
URL:https://gyularef.hu/event/a-hazassag-tulelesi-torvenyei-interaktiv-eloadas/
LOCATION:Magvető Ref. Ált. Isk. ebédlője\, Kálvin utca\, Gyula\, 5700\, Magyarország
CATEGORIES:Bibliaóra
ATTACH;FMTTYPE=image/jpeg:https://gyularef.hu/wp-content/uploads/2018/02/hazassag-hete_2018_2.jpg
END:VEVENT
BEGIN:VEVENT
DTSTART;TZID=Europe/Budapest:20180218T170000
DTEND;TZID=Europe/Budapest:20180218T180000
DTSTAMP:20260420T212528
CREATED:20180212T121100Z
LAST-MODIFIED:20180212T121100Z
UID:2584-1518973200-1518976800@gyularef.hu
SUMMARY:Istentisztelet (du)
DESCRIPTION:
URL:https://gyularef.hu/event/istentisztelet-du-45/
LOCATION:Gyülekezeti kisterem\, Petőfi tér 4.\, Gyula\, Békés\, 5700\, Magyarország
CATEGORIES:Istentisztelet
ATTACH;FMTTYPE=image/jpeg:https://gyularef.hu/wp-content/uploads/2016/09/bibliaora.jpg
END:VEVENT
BEGIN:VEVENT
DTSTART;TZID=Europe/Budapest:20180219T180000
DTEND;TZID=Europe/Budapest:20180219T190000
DTSTAMP:20260420T212528
CREATED:20180219T073134Z
LAST-MODIFIED:20180219T073134Z
UID:2634-1519063200-1519066800@gyularef.hu
SUMMARY:Missziói bizottság űlése
DESCRIPTION:
URL:https://gyularef.hu/event/misszioi-bizottsag-ulese/
LOCATION:Gyülekezeti kisterem\, Petőfi tér 4.\, Gyula\, Békés\, 5700\, Magyarország
CATEGORIES:Bibliaóra
ATTACH;FMTTYPE=image/jpeg:https://gyularef.hu/wp-content/uploads/2018/02/böjt.jpg
END:VEVENT
BEGIN:VEVENT
DTSTART;TZID=Europe/Budapest:20180221T163000
DTEND;TZID=Europe/Budapest:20180221T173000
DTSTAMP:20260420T212528
CREATED:20180219T073355Z
LAST-MODIFIED:20180219T073355Z
UID:2636-1519230600-1519234200@gyularef.hu
SUMMARY:Nőszövetségi alkalom
DESCRIPTION:
URL:https://gyularef.hu/event/noszovetsegi-alkalom-5/
LOCATION:Gyülekezeti kisterem\, Petőfi tér 4.\, Gyula\, Békés\, 5700\, Magyarország
CATEGORIES:Nők bibliaköre
ATTACH;FMTTYPE=image/jpeg:https://gyularef.hu/wp-content/uploads/2016/11/noikor_hirhez.jpg
END:VEVENT
BEGIN:VEVENT
DTSTART;TZID=Europe/Budapest:20180221T180000
DTEND;TZID=Europe/Budapest:20180221T190000
DTSTAMP:20260420T212528
CREATED:20180219T073442Z
LAST-MODIFIED:20180219T073442Z
UID:2638-1519236000-1519239600@gyularef.hu
SUMMARY:Bibliaóra
DESCRIPTION:
URL:https://gyularef.hu/event/bibliaora-25/
LOCATION:Magvető Ref. Ált. Isk. ebédlője\, Kálvin utca\, Gyula\, 5700\, Magyarország
CATEGORIES:Bibliaóra
ATTACH;FMTTYPE=image/jpeg:https://gyularef.hu/wp-content/uploads/2016/09/bibliaora_sz.jpg
END:VEVENT
BEGIN:VEVENT
DTSTART;TZID=Europe/Budapest:20180222T100000
DTEND;TZID=Europe/Budapest:20180222T110000
DTSTAMP:20260420T212528
CREATED:20180219T073534Z
LAST-MODIFIED:20180219T073534Z
UID:2640-1519293600-1519297200@gyularef.hu
SUMMARY:Baba - mama kör
DESCRIPTION:
URL:https://gyularef.hu/event/baba-mama-kor-49/
LOCATION:Kisház\, Petőfi tér 4.\, Gyula\, Békés\, 5700\, Magyarország
CATEGORIES:Baba-mama kör
ATTACH;FMTTYPE=image/jpeg:https://gyularef.hu/wp-content/uploads/2016/09/baba_mama.jpg
END:VEVENT
BEGIN:VEVENT
DTSTART;TZID=Europe/Budapest:20180222T180000
DTEND;TZID=Europe/Budapest:20180222T190000
DTSTAMP:20260420T212528
CREATED:20180219T073639Z
LAST-MODIFIED:20180219T073639Z
UID:2642-1519322400-1519326000@gyularef.hu
SUMMARY:Református hit alapjai kurzus
DESCRIPTION:
URL:https://gyularef.hu/event/reformatus-hit-alapjai-kurzus-13/
LOCATION:Kisház\, Petőfi tér 4.\, Gyula\, Békés\, 5700\, Magyarország
CATEGORIES:Bibliaóra
ATTACH;FMTTYPE=image/jpeg:https://gyularef.hu/wp-content/uploads/2017/11/biblia-.jpg
END:VEVENT
BEGIN:VEVENT
DTSTART;TZID=Europe/Budapest:20180223T140000
DTEND;TZID=Europe/Budapest:20180223T150000
DTSTAMP:20260420T212528
CREATED:20180219T073746Z
LAST-MODIFIED:20180219T073746Z
UID:2644-1519394400-1519398000@gyularef.hu
SUMMARY:Konfirmációs óra
DESCRIPTION:
URL:https://gyularef.hu/event/konfirmacios-ora-2/
LOCATION:Gyülekezeti kisterem\, Petőfi tér 4.\, Gyula\, Békés\, 5700\, Magyarország
CATEGORIES:Bibliaóra
ATTACH;FMTTYPE=image/jpeg:https://gyularef.hu/wp-content/uploads/2016/09/biztos_szikla.jpg
END:VEVENT
BEGIN:VEVENT
DTSTART;TZID=Europe/Budapest:20180223T150000
DTEND;TZID=Europe/Budapest:20180223T160000
DTSTAMP:20260420T212528
CREATED:20180219T073854Z
LAST-MODIFIED:20180219T073854Z
UID:2646-1519398000-1519401600@gyularef.hu
SUMMARY:Ifjúsági óra - Biztos Szikla klub
DESCRIPTION:
URL:https://gyularef.hu/event/ifjusagi-ora-biztos-szikla-klub-37/
LOCATION:Kisház\, Petőfi tér 4.\, Gyula\, Békés\, 5700\, Magyarország
CATEGORIES:Biztos Szikla klub
ATTACH;FMTTYPE=image/jpeg:https://gyularef.hu/wp-content/uploads/2016/08/biztos_szikla.jpg
END:VEVENT
BEGIN:VEVENT
DTSTART;TZID=Europe/Budapest:20180223T180000
DTEND;TZID=Europe/Budapest:20180223T190000
DTSTAMP:20260420T212528
CREATED:20180219T073945Z
LAST-MODIFIED:20180219T073945Z
UID:2648-1519408800-1519412400@gyularef.hu
SUMMARY:Fiatalok bibliaköre
DESCRIPTION:
URL:https://gyularef.hu/event/fiatalok-bibliakore-62/
LOCATION:Kisház\, Petőfi tér 4.\, Gyula\, Békés\, 5700\, Magyarország
CATEGORIES:Fiatalok bibliaköre
ATTACH;FMTTYPE=image/jpeg:https://gyularef.hu/wp-content/uploads/2016/08/ofi.jpg
END:VEVENT
END:VCALENDAR