BEGIN:VCALENDAR
VERSION:2.0
PRODID:-//Gyulai Református Egyházközség - ECPv6.11.2.1//NONSGML v1.0//EN
CALSCALE:GREGORIAN
METHOD:PUBLISH
X-WR-CALNAME:Gyulai Református Egyházközség
X-ORIGINAL-URL:https://gyularef.hu
X-WR-CALDESC:Events for Gyulai Református Egyházközség
REFRESH-INTERVAL;VALUE=DURATION:PT1H
X-Robots-Tag:noindex
X-PUBLISHED-TTL:PT1H
BEGIN:VTIMEZONE
TZID:Europe/Budapest
BEGIN:DAYLIGHT
TZOFFSETFROM:+0100
TZOFFSETTO:+0200
TZNAME:CEST
DTSTART:20180325T010000
END:DAYLIGHT
BEGIN:STANDARD
TZOFFSETFROM:+0200
TZOFFSETTO:+0100
TZNAME:CET
DTSTART:20181028T010000
END:STANDARD
END:VTIMEZONE
BEGIN:VEVENT
DTSTART;TZID=Europe/Budapest:20180307T180000
DTEND;TZID=Europe/Budapest:20180307T190000
DTSTAMP:20260421T070452
CREATED:20180305T064153Z
LAST-MODIFIED:20180305T064153Z
UID:2770-1520445600-1520449200@gyularef.hu
SUMMARY:Bibliaóra
DESCRIPTION:
URL:https://gyularef.hu/event/bibliaora-27/
LOCATION:Magvető Ref. Ált. Isk. ebédlője\, Kálvin utca\, Gyula\, 5700\, Magyarország
CATEGORIES:Bibliaóra
ATTACH;FMTTYPE=image/jpeg:https://gyularef.hu/wp-content/uploads/2016/09/bibliaora_sz.jpg
END:VEVENT
BEGIN:VEVENT
DTSTART;TZID=Europe/Budapest:20180305T180000
DTEND;TZID=Europe/Budapest:20180305T190000
DTSTAMP:20260421T070452
CREATED:20180305T064106Z
LAST-MODIFIED:20180305T064106Z
UID:2768-1520272800-1520276400@gyularef.hu
SUMMARY:Szolgálattevők bibliaköre
DESCRIPTION:
URL:https://gyularef.hu/event/szolgalattevok-bibliakore-2/
LOCATION:Gyülekezeti kisterem\, Petőfi tér 4.\, Gyula\, Békés\, 5700\, Magyarország
CATEGORIES:Bibliaóra
ATTACH;FMTTYPE=image/jpeg:https://gyularef.hu/wp-content/uploads/2018/02/református-hit-alapjai-kurzus.jpg
END:VEVENT
BEGIN:VEVENT
DTSTART;TZID=Europe/Budapest:20180304T170000
DTEND;TZID=Europe/Budapest:20180304T180000
DTSTAMP:20260421T070452
CREATED:20180226T153903Z
LAST-MODIFIED:20180226T153903Z
UID:2725-1520182800-1520186400@gyularef.hu
SUMMARY:Istentisztelet
DESCRIPTION:
URL:https://gyularef.hu/event/istentisztelet-41/
LOCATION:Gyülekezeti kisterem\, Petőfi tér 4.\, Gyula\, Békés\, 5700\, Magyarország
ATTACH;FMTTYPE=image/jpeg:https://gyularef.hu/wp-content/uploads/2016/09/bibliaora_sz.jpg
END:VEVENT
BEGIN:VEVENT
DTSTART;TZID=Europe/Budapest:20180304T100000
DTEND;TZID=Europe/Budapest:20180304T110000
DTSTAMP:20260421T070452
CREATED:20180226T153645Z
LAST-MODIFIED:20180226T154255Z
UID:2723-1520157600-1520161200@gyularef.hu
SUMMARY:Gyermek istentisztelet (templomban kezdődik) Gyermek megőrzés
DESCRIPTION:
URL:https://gyularef.hu/event/gyermek-istentisztelet-templomban-kezdodik-gyermek-megorzes/
LOCATION:Gyülekezeti kisterem\, Petőfi tér 4.\, Gyula\, Békés\, 5700\, Magyarország
CATEGORIES:Istentisztelet
ATTACH;FMTTYPE=image/png:https://gyularef.hu/wp-content/uploads/2017/04/játszóház-1.png
END:VEVENT
BEGIN:VEVENT
DTSTART;TZID=Europe/Budapest:20180304T100000
DTEND;TZID=Europe/Budapest:20180304T110000
DTSTAMP:20260421T070452
CREATED:20180226T153401Z
LAST-MODIFIED:20180226T153401Z
UID:2721-1520157600-1520161200@gyularef.hu
SUMMARY:Istentisztelet
DESCRIPTION:
URL:https://gyularef.hu/event/istentisztelet-40/
LOCATION:Templom\, Petőfi tér 4.\, Gyula\, Békés\, 5700\, Magyarország
CATEGORIES:Istentisztelet
ATTACH;FMTTYPE=image/jpeg:https://gyularef.hu/wp-content/uploads/2016/08/templomunk.jpg
END:VEVENT
BEGIN:VEVENT
DTSTART;TZID=Europe/Budapest:20180304T093000
DTEND;TZID=Europe/Budapest:20180304T100000
DTSTAMP:20260421T070452
CREATED:20180226T153158Z
LAST-MODIFIED:20180226T153158Z
UID:2719-1520155800-1520157600@gyularef.hu
SUMMARY:Imaközösség
DESCRIPTION:
URL:https://gyularef.hu/event/imakozosseg-62/
LOCATION:Gyülekezeti kisterem\, Petőfi tér 4.\, Gyula\, Békés\, 5700\, Magyarország
CATEGORIES:Imaközösség
ATTACH;FMTTYPE=image/jpeg:https://gyularef.hu/wp-content/uploads/2016/09/imakozosseg.jpg
END:VEVENT
BEGIN:VEVENT
DTSTART;TZID=Europe/Budapest:20180302T180000
DTEND;TZID=Europe/Budapest:20180302T200000
DTSTAMP:20260421T070452
CREATED:20180226T152534Z
LAST-MODIFIED:20180226T152534Z
UID:2715-1520013600-1520020800@gyularef.hu
SUMMARY:Fiatalok bibliaköre
DESCRIPTION:
URL:https://gyularef.hu/event/fiatalok-bibliakore-63/
LOCATION:Kisház\, Petőfi tér 4.\, Gyula\, Békés\, 5700\, Magyarország
CATEGORIES:Fiatalok bibliaköre
ATTACH;FMTTYPE=image/jpeg:https://gyularef.hu/wp-content/uploads/2016/08/ofi.jpg
END:VEVENT
BEGIN:VEVENT
DTSTART;TZID=Europe/Budapest:20180302T163000
DTEND;TZID=Europe/Budapest:20180303T150000
DTSTAMP:20260421T070452
CREATED:20180226T152926Z
LAST-MODIFIED:20180226T152926Z
UID:2717-1520008200-1520089200@gyularef.hu
SUMMARY:Konfirmandus hétvége
DESCRIPTION:
URL:https://gyularef.hu/event/konfirmandus-hetvege/
LOCATION:Gyülekezeti kisterem\, Petőfi tér 4.\, Gyula\, Békés\, 5700\, Magyarország
ATTACH;FMTTYPE=image/jpeg:https://gyularef.hu/wp-content/uploads/2017/05/konfirmáció_web.jpg
END:VEVENT
BEGIN:VEVENT
DTSTART;TZID=Europe/Budapest:20180302T150000
DTEND;TZID=Europe/Budapest:20180302T160000
DTSTAMP:20260421T070452
CREATED:20180226T152234Z
LAST-MODIFIED:20180226T152234Z
UID:2713-1520002800-1520006400@gyularef.hu
SUMMARY:Ifjúsági óra Biztos Szikla klub
DESCRIPTION:
URL:https://gyularef.hu/event/ifjusagi-ora-biztos-szikla-klub-38/
LOCATION:Kisház\, Petőfi tér 4.\, Gyula\, Békés\, 5700\, Magyarország
CATEGORIES:Biztos Szikla klub
ATTACH;FMTTYPE=image/jpeg:https://gyularef.hu/wp-content/uploads/2016/08/biztos_szikla.jpg
END:VEVENT
BEGIN:VEVENT
DTSTART;TZID=Europe/Budapest:20180302T140000
DTEND;TZID=Europe/Budapest:20180302T150000
DTSTAMP:20260421T070452
CREATED:20180226T151526Z
LAST-MODIFIED:20180226T151526Z
UID:2710-1519999200-1520002800@gyularef.hu
SUMMARY:Konfirmációs óra (ifjúsági)
DESCRIPTION:
URL:https://gyularef.hu/event/konfirmacios-ora-ifjusagi-43/
LOCATION:Gyülekezeti kisterem\, Petőfi tér 4.\, Gyula\, Békés\, 5700\, Magyarország
ATTACH;FMTTYPE=image/jpeg:https://gyularef.hu/wp-content/uploads/2017/10/konfirmáció_2.jpg
END:VEVENT
BEGIN:VEVENT
DTSTART;TZID=Europe/Budapest:20180301T180000
DTEND;TZID=Europe/Budapest:20180301T190000
DTSTAMP:20260421T070452
CREATED:20180226T151148Z
LAST-MODIFIED:20180226T151945Z
UID:2708-1519927200-1519930800@gyularef.hu
SUMMARY:Református hit alapjai kurzus
DESCRIPTION:
URL:https://gyularef.hu/event/reformatus-hit-alapjai-kurzus-14/
LOCATION:Kisház\, Petőfi tér 4.\, Gyula\, Békés\, 5700\, Magyarország
CATEGORIES:Református hit alapjai kurzus
ATTACH;FMTTYPE=image/jpeg:https://gyularef.hu/wp-content/uploads/2018/02/református-hit-alapjai-kurzus.jpg
END:VEVENT
BEGIN:VEVENT
DTSTART;TZID=Europe/Budapest:20180301T100000
DTEND;TZID=Europe/Budapest:20180301T110000
DTSTAMP:20260421T070452
CREATED:20180226T150516Z
LAST-MODIFIED:20180226T151017Z
UID:2703-1519898400-1519902000@gyularef.hu
SUMMARY:Baba-mama kör
DESCRIPTION:
URL:https://gyularef.hu/event/baba-mama-kor-50/
LOCATION:Kisház\, Petőfi tér 4.\, Gyula\, Békés\, 5700\, Magyarország
CATEGORIES:Baba-mama kör
ATTACH;FMTTYPE=image/jpeg:https://gyularef.hu/wp-content/uploads/2016/09/baba_mama.jpg
END:VEVENT
BEGIN:VEVENT
DTSTART;TZID=Europe/Budapest:20180228T180000
DTEND;TZID=Europe/Budapest:20180228T190000
DTSTAMP:20260421T070452
CREATED:20180226T150145Z
LAST-MODIFIED:20180226T150925Z
UID:2701-1519840800-1519844400@gyularef.hu
SUMMARY:Bibliaóra
DESCRIPTION:
URL:https://gyularef.hu/event/bibliaora-26/
LOCATION:Magvető Ref. Ált. Isk. ebédlője\, Kálvin utca\, Gyula\, 5700\, Magyarország
CATEGORIES:Bibliaóra
ATTACH;FMTTYPE=image/jpeg:https://gyularef.hu/wp-content/uploads/2016/09/bibliaora_sz.jpg
END:VEVENT
BEGIN:VEVENT
DTSTART;TZID=Europe/Budapest:20180225T170000
DTEND;TZID=Europe/Budapest:20180225T180000
DTSTAMP:20260421T070452
CREATED:20180219T074348Z
LAST-MODIFIED:20180219T074348Z
UID:2656-1519578000-1519581600@gyularef.hu
SUMMARY:Istentisztelet (du)
DESCRIPTION:
URL:https://gyularef.hu/event/istentisztelet-du-46/
LOCATION:Gyülekezeti kisterem\, Petőfi tér 4.\, Gyula\, Békés\, 5700\, Magyarország
CATEGORIES:Istentisztelet
ATTACH;FMTTYPE=image/jpeg:https://gyularef.hu/wp-content/uploads/2016/09/bibliaora.jpg
END:VEVENT
BEGIN:VEVENT
DTSTART;TZID=Europe/Budapest:20180225T100000
DTEND;TZID=Europe/Budapest:20180225T110000
DTSTAMP:20260421T070452
CREATED:20180219T074300Z
LAST-MODIFIED:20180219T074300Z
UID:2654-1519552800-1519556400@gyularef.hu
SUMMARY:Istentisztelet
DESCRIPTION:
URL:https://gyularef.hu/event/istentisztelet-39/
LOCATION:Templom\, Petőfi tér 4.\, Gyula\, Békés\, 5700\, Magyarország
CATEGORIES:Istentisztelet
ATTACH;FMTTYPE=image/jpeg:https://gyularef.hu/wp-content/uploads/2016/08/istentisztelet.jpg
END:VEVENT
BEGIN:VEVENT
DTSTART;TZID=Europe/Budapest:20180225T093000
DTEND;TZID=Europe/Budapest:20180225T095000
DTSTAMP:20260421T070452
CREATED:20180219T074209Z
LAST-MODIFIED:20180219T074209Z
UID:2652-1519551000-1519552200@gyularef.hu
SUMMARY:Imaközösség
DESCRIPTION:
URL:https://gyularef.hu/event/imakozosseg-61/
LOCATION:Gyülekezeti kisterem\, Petőfi tér 4.\, Gyula\, Békés\, 5700\, Magyarország
CATEGORIES:Imaközösség
ATTACH;FMTTYPE=image/jpeg:https://gyularef.hu/wp-content/uploads/2016/09/imakozosseg.jpg
END:VEVENT
BEGIN:VEVENT
DTSTART;TZID=Europe/Budapest:20180224T090000
DTEND;TZID=Europe/Budapest:20180224T130000
DTSTAMP:20260421T070452
CREATED:20180219T074110Z
LAST-MODIFIED:20180219T074110Z
UID:2650-1519462800-1519477200@gyularef.hu
SUMMARY:Egyházmegyei presbiteri konferencia és gyülekezeti csendesnap
DESCRIPTION:
URL:https://gyularef.hu/event/egyhazmegyei-presbiteri-konferencia-es-gyulekezeti-csendesnap/
LOCATION:Református templom – Békéscsaba\, Békéscsaba\, 5600\, Magyarország
CATEGORIES:Csendesnap
ATTACH;FMTTYPE=image/jpeg:https://gyularef.hu/wp-content/uploads/2017/11/5_2.jpg
END:VEVENT
BEGIN:VEVENT
DTSTART;TZID=Europe/Budapest:20180223T180000
DTEND;TZID=Europe/Budapest:20180223T190000
DTSTAMP:20260421T070452
CREATED:20180219T073945Z
LAST-MODIFIED:20180219T073945Z
UID:2648-1519408800-1519412400@gyularef.hu
SUMMARY:Fiatalok bibliaköre
DESCRIPTION:
URL:https://gyularef.hu/event/fiatalok-bibliakore-62/
LOCATION:Kisház\, Petőfi tér 4.\, Gyula\, Békés\, 5700\, Magyarország
CATEGORIES:Fiatalok bibliaköre
ATTACH;FMTTYPE=image/jpeg:https://gyularef.hu/wp-content/uploads/2016/08/ofi.jpg
END:VEVENT
BEGIN:VEVENT
DTSTART;TZID=Europe/Budapest:20180223T150000
DTEND;TZID=Europe/Budapest:20180223T160000
DTSTAMP:20260421T070452
CREATED:20180219T073854Z
LAST-MODIFIED:20180219T073854Z
UID:2646-1519398000-1519401600@gyularef.hu
SUMMARY:Ifjúsági óra - Biztos Szikla klub
DESCRIPTION:
URL:https://gyularef.hu/event/ifjusagi-ora-biztos-szikla-klub-37/
LOCATION:Kisház\, Petőfi tér 4.\, Gyula\, Békés\, 5700\, Magyarország
CATEGORIES:Biztos Szikla klub
ATTACH;FMTTYPE=image/jpeg:https://gyularef.hu/wp-content/uploads/2016/08/biztos_szikla.jpg
END:VEVENT
BEGIN:VEVENT
DTSTART;TZID=Europe/Budapest:20180223T140000
DTEND;TZID=Europe/Budapest:20180223T150000
DTSTAMP:20260421T070452
CREATED:20180219T073746Z
LAST-MODIFIED:20180219T073746Z
UID:2644-1519394400-1519398000@gyularef.hu
SUMMARY:Konfirmációs óra
DESCRIPTION:
URL:https://gyularef.hu/event/konfirmacios-ora-2/
LOCATION:Gyülekezeti kisterem\, Petőfi tér 4.\, Gyula\, Békés\, 5700\, Magyarország
CATEGORIES:Bibliaóra
ATTACH;FMTTYPE=image/jpeg:https://gyularef.hu/wp-content/uploads/2016/09/biztos_szikla.jpg
END:VEVENT
BEGIN:VEVENT
DTSTART;TZID=Europe/Budapest:20180222T180000
DTEND;TZID=Europe/Budapest:20180222T190000
DTSTAMP:20260421T070452
CREATED:20180219T073639Z
LAST-MODIFIED:20180219T073639Z
UID:2642-1519322400-1519326000@gyularef.hu
SUMMARY:Református hit alapjai kurzus
DESCRIPTION:
URL:https://gyularef.hu/event/reformatus-hit-alapjai-kurzus-13/
LOCATION:Kisház\, Petőfi tér 4.\, Gyula\, Békés\, 5700\, Magyarország
CATEGORIES:Bibliaóra
ATTACH;FMTTYPE=image/jpeg:https://gyularef.hu/wp-content/uploads/2017/11/biblia-.jpg
END:VEVENT
BEGIN:VEVENT
DTSTART;TZID=Europe/Budapest:20180222T100000
DTEND;TZID=Europe/Budapest:20180222T110000
DTSTAMP:20260421T070452
CREATED:20180219T073534Z
LAST-MODIFIED:20180219T073534Z
UID:2640-1519293600-1519297200@gyularef.hu
SUMMARY:Baba - mama kör
DESCRIPTION:
URL:https://gyularef.hu/event/baba-mama-kor-49/
LOCATION:Kisház\, Petőfi tér 4.\, Gyula\, Békés\, 5700\, Magyarország
CATEGORIES:Baba-mama kör
ATTACH;FMTTYPE=image/jpeg:https://gyularef.hu/wp-content/uploads/2016/09/baba_mama.jpg
END:VEVENT
BEGIN:VEVENT
DTSTART;TZID=Europe/Budapest:20180221T180000
DTEND;TZID=Europe/Budapest:20180221T190000
DTSTAMP:20260421T070452
CREATED:20180219T073442Z
LAST-MODIFIED:20180219T073442Z
UID:2638-1519236000-1519239600@gyularef.hu
SUMMARY:Bibliaóra
DESCRIPTION:
URL:https://gyularef.hu/event/bibliaora-25/
LOCATION:Magvető Ref. Ált. Isk. ebédlője\, Kálvin utca\, Gyula\, 5700\, Magyarország
CATEGORIES:Bibliaóra
ATTACH;FMTTYPE=image/jpeg:https://gyularef.hu/wp-content/uploads/2016/09/bibliaora_sz.jpg
END:VEVENT
BEGIN:VEVENT
DTSTART;TZID=Europe/Budapest:20180221T163000
DTEND;TZID=Europe/Budapest:20180221T173000
DTSTAMP:20260421T070452
CREATED:20180219T073355Z
LAST-MODIFIED:20180219T073355Z
UID:2636-1519230600-1519234200@gyularef.hu
SUMMARY:Nőszövetségi alkalom
DESCRIPTION:
URL:https://gyularef.hu/event/noszovetsegi-alkalom-5/
LOCATION:Gyülekezeti kisterem\, Petőfi tér 4.\, Gyula\, Békés\, 5700\, Magyarország
CATEGORIES:Nők bibliaköre
ATTACH;FMTTYPE=image/jpeg:https://gyularef.hu/wp-content/uploads/2016/11/noikor_hirhez.jpg
END:VEVENT
BEGIN:VEVENT
DTSTART;TZID=Europe/Budapest:20180219T180000
DTEND;TZID=Europe/Budapest:20180219T190000
DTSTAMP:20260421T070452
CREATED:20180219T073134Z
LAST-MODIFIED:20180219T073134Z
UID:2634-1519063200-1519066800@gyularef.hu
SUMMARY:Missziói bizottság űlése
DESCRIPTION:
URL:https://gyularef.hu/event/misszioi-bizottsag-ulese/
LOCATION:Gyülekezeti kisterem\, Petőfi tér 4.\, Gyula\, Békés\, 5700\, Magyarország
CATEGORIES:Bibliaóra
ATTACH;FMTTYPE=image/jpeg:https://gyularef.hu/wp-content/uploads/2018/02/böjt.jpg
END:VEVENT
BEGIN:VEVENT
DTSTART;TZID=Europe/Budapest:20180218T170000
DTEND;TZID=Europe/Budapest:20180218T180000
DTSTAMP:20260421T070452
CREATED:20180212T121100Z
LAST-MODIFIED:20180212T121100Z
UID:2584-1518973200-1518976800@gyularef.hu
SUMMARY:Istentisztelet (du)
DESCRIPTION:
URL:https://gyularef.hu/event/istentisztelet-du-45/
LOCATION:Gyülekezeti kisterem\, Petőfi tér 4.\, Gyula\, Békés\, 5700\, Magyarország
CATEGORIES:Istentisztelet
ATTACH;FMTTYPE=image/jpeg:https://gyularef.hu/wp-content/uploads/2016/09/bibliaora.jpg
END:VEVENT
BEGIN:VEVENT
DTSTART;TZID=Europe/Budapest:20180218T150000
DTEND;TZID=Europe/Budapest:20180218T160000
DTSTAMP:20260421T070452
CREATED:20180212T121006Z
LAST-MODIFIED:20180212T121006Z
UID:2582-1518966000-1518969600@gyularef.hu
SUMMARY:A házasság túlélési törvényei - interaktív előadás
DESCRIPTION:
URL:https://gyularef.hu/event/a-hazassag-tulelesi-torvenyei-interaktiv-eloadas/
LOCATION:Magvető Ref. Ált. Isk. ebédlője\, Kálvin utca\, Gyula\, 5700\, Magyarország
CATEGORIES:Bibliaóra
ATTACH;FMTTYPE=image/jpeg:https://gyularef.hu/wp-content/uploads/2018/02/hazassag-hete_2018_2.jpg
END:VEVENT
BEGIN:VEVENT
DTSTART;TZID=Europe/Budapest:20180218T100000
DTEND;TZID=Europe/Budapest:20180218T113000
DTSTAMP:20260421T070452
CREATED:20180212T120829Z
LAST-MODIFIED:20180212T120829Z
UID:2580-1518948000-1518953400@gyularef.hu
SUMMARY:Úrvacsorás istentisztelet
DESCRIPTION:
URL:https://gyularef.hu/event/urvacsoras-istentisztelet-7/
LOCATION:Templom\, Petőfi tér 4.\, Gyula\, Békés\, 5700\, Magyarország
CATEGORIES:Úrvacsorás istentisztelet
ATTACH;FMTTYPE=image/jpeg:https://gyularef.hu/wp-content/uploads/2016/09/urvacsora.jpg
END:VEVENT
BEGIN:VEVENT
DTSTART;TZID=Europe/Budapest:20180218T093000
DTEND;TZID=Europe/Budapest:20180218T095000
DTSTAMP:20260421T070452
CREATED:20180212T120718Z
LAST-MODIFIED:20180212T120718Z
UID:2578-1518946200-1518947400@gyularef.hu
SUMMARY:Imaközösség
DESCRIPTION:
URL:https://gyularef.hu/event/imakozosseg-60/
LOCATION:Gyülekezeti kisterem\, Petőfi tér 4.\, Gyula\, Békés\, 5700\, Magyarország
CATEGORIES:Imaközösség
ATTACH;FMTTYPE=image/jpeg:https://gyularef.hu/wp-content/uploads/2016/09/imakozosseg.jpg
END:VEVENT
BEGIN:VEVENT
DTSTART;TZID=Europe/Budapest:20180216T190000
DTEND;TZID=Europe/Budapest:20180216T200000
DTSTAMP:20260421T070452
CREATED:20180212T120610Z
LAST-MODIFIED:20180212T120610Z
UID:2576-1518807600-1518811200@gyularef.hu
SUMMARY:Fiatalok bibliaköre
DESCRIPTION:
URL:https://gyularef.hu/event/fiatalok-bibliakore-61/
LOCATION:Kisház\, Petőfi tér 4.\, Gyula\, Békés\, 5700\, Magyarország
CATEGORIES:Fiatalok bibliaköre
ATTACH;FMTTYPE=image/jpeg:https://gyularef.hu/wp-content/uploads/2016/08/ofi.jpg
END:VEVENT
END:VCALENDAR