BEGIN:VCALENDAR
VERSION:2.0
PRODID:-//Gyulai Református Egyházközség - ECPv6.11.2.1//NONSGML v1.0//EN
CALSCALE:GREGORIAN
METHOD:PUBLISH
X-WR-CALNAME:Gyulai Református Egyházközség
X-ORIGINAL-URL:https://gyularef.hu
X-WR-CALDESC:Events for Gyulai Református Egyházközség
REFRESH-INTERVAL;VALUE=DURATION:PT1H
X-Robots-Tag:noindex
X-PUBLISHED-TTL:PT1H
BEGIN:VTIMEZONE
TZID:Europe/Budapest
BEGIN:DAYLIGHT
TZOFFSETFROM:+0100
TZOFFSETTO:+0200
TZNAME:CEST
DTSTART:20170326T010000
END:DAYLIGHT
BEGIN:STANDARD
TZOFFSETFROM:+0200
TZOFFSETTO:+0100
TZNAME:CET
DTSTART:20171029T010000
END:STANDARD
END:VTIMEZONE
BEGIN:VEVENT
DTSTART;TZID=Europe/Budapest:20170421T180000
DTEND;TZID=Europe/Budapest:20170421T190000
DTSTAMP:20260423T002543
CREATED:20170418T070928Z
LAST-MODIFIED:20170418T070928Z
UID:1279-1492797600-1492801200@gyularef.hu
SUMMARY:Fiatalok bibliaköre
DESCRIPTION:
URL:https://gyularef.hu/event/fiatalok-bibliakore-25/
LOCATION:Kisház\, Petőfi tér 4.\, Gyula\, Békés\, 5700\, Magyarország
CATEGORIES:Fiatalok bibliaköre
ATTACH;FMTTYPE=image/jpeg:https://gyularef.hu/wp-content/uploads/2016/08/ofi.jpg
END:VEVENT
BEGIN:VEVENT
DTSTART;TZID=Europe/Budapest:20170421T133000
DTEND;TZID=Europe/Budapest:20170421T140000
DTSTAMP:20260423T002543
CREATED:20170418T070843Z
LAST-MODIFIED:20170418T070843Z
UID:1277-1492781400-1492783200@gyularef.hu
SUMMARY:Záró áhítat - Országos Bibliai Történetmonó Verseny
DESCRIPTION:
URL:https://gyularef.hu/event/zaro-ahitat-orszagos-bibliai-tortenetmono-verseny/
LOCATION:Templom\, Petőfi tér 4.\, Gyula\, Békés\, 5700\, Magyarország
CATEGORIES:Bibliaóra
ATTACH;FMTTYPE=image/jpeg:https://gyularef.hu/wp-content/uploads/2016/08/templomunk.jpg
END:VEVENT
BEGIN:VEVENT
DTSTART;TZID=Europe/Budapest:20170421T100000
DTEND;TZID=Europe/Budapest:20170421T130000
DTSTAMP:20260423T002543
CREATED:20170418T070756Z
LAST-MODIFIED:20170418T070756Z
UID:1275-1492768800-1492779600@gyularef.hu
SUMMARY:Nyitó áhítat - Országos Bibliai Történetmonó Verseny
DESCRIPTION:
URL:https://gyularef.hu/event/nyito-ahitat-orszagos-bibliai-tortenetmono-verseny/
LOCATION:Templom\, Petőfi tér 4.\, Gyula\, Békés\, 5700\, Magyarország
CATEGORIES:Bibliaóra
ATTACH;FMTTYPE=image/jpeg:https://gyularef.hu/wp-content/uploads/2016/08/templomunk.jpg
END:VEVENT
BEGIN:VEVENT
DTSTART;TZID=Europe/Budapest:20170420T180000
DTEND;TZID=Europe/Budapest:20170420T190000
DTSTAMP:20260423T002543
CREATED:20170418T070618Z
LAST-MODIFIED:20170418T070618Z
UID:1273-1492711200-1492714800@gyularef.hu
SUMMARY:Presbiteri gyűlés
DESCRIPTION:
URL:https://gyularef.hu/event/presbiteri-gyules-2/
LOCATION:Gyülekezeti kisterem\, Petőfi tér 4.\, Gyula\, Békés\, 5700\, Magyarország
CATEGORIES:Bibliaóra
ATTACH;FMTTYPE=image/jpeg:https://gyularef.hu/wp-content/uploads/2016/09/bibliaora.jpg
END:VEVENT
BEGIN:VEVENT
DTSTART;TZID=Europe/Budapest:20170419T180000
DTEND;TZID=Europe/Budapest:20170419T190000
DTSTAMP:20260423T002543
CREATED:20170418T070458Z
LAST-MODIFIED:20170418T070458Z
UID:1271-1492624800-1492628400@gyularef.hu
SUMMARY:Bibliaóra - A fenevad bélyege
DESCRIPTION:
URL:https://gyularef.hu/event/bibliaora-a-fenevad-belyege/
LOCATION:Kálvin utcai gyülekezeti ház\, Kálvin u. 4.\, Gyula\, Békés\, 5700\, Magyarország
CATEGORIES:Bibliaóra
ATTACH;FMTTYPE=image/jpeg:https://gyularef.hu/wp-content/uploads/2016/09/bibliaora_sz.jpg
END:VEVENT
BEGIN:VEVENT
DTSTART;TZID=Europe/Budapest:20170417T100000
DTEND;TZID=Europe/Budapest:20170417T120000
DTSTAMP:20260423T002543
CREATED:20170409T190220Z
LAST-MODIFIED:20170409T190220Z
UID:1244-1492423200-1492430400@gyularef.hu
SUMMARY:Húsvét II. napi  úrvacsorás istentisztelet
DESCRIPTION:
URL:https://gyularef.hu/event/husvet-ii-napi-urvacsoras-istentisztelet/
LOCATION:Templom\, Petőfi tér 4.\, Gyula\, Békés\, 5700\, Magyarország
CATEGORIES:Úrvacsorás istentisztelet
ATTACH;FMTTYPE=image/jpeg:https://gyularef.hu/wp-content/uploads/2016/09/urvacsora.jpg
END:VEVENT
BEGIN:VEVENT
DTSTART;TZID=Europe/Budapest:20170416T100000
DTEND;TZID=Europe/Budapest:20170416T120000
DTSTAMP:20260423T002543
CREATED:20170409T190138Z
LAST-MODIFIED:20170409T190138Z
UID:1242-1492336800-1492344000@gyularef.hu
SUMMARY:Húsvét I. napi  úrvacsorás istentisztelet
DESCRIPTION:
URL:https://gyularef.hu/event/husvet-i-napi-urvacsoras-istentisztelet/
LOCATION:Templom\, Petőfi tér 4.\, Gyula\, Békés\, 5700\, Magyarország
CATEGORIES:Úrvacsorás istentisztelet
ATTACH;FMTTYPE=image/jpeg:https://gyularef.hu/wp-content/uploads/2016/09/urvacsora.jpg
END:VEVENT
BEGIN:VEVENT
DTSTART;TZID=Europe/Budapest:20170416T093000
DTEND;TZID=Europe/Budapest:20170416T095000
DTSTAMP:20260423T002543
CREATED:20170409T190026Z
LAST-MODIFIED:20170409T190026Z
UID:1240-1492335000-1492336200@gyularef.hu
SUMMARY:Imaközösség
DESCRIPTION:
URL:https://gyularef.hu/event/imakozosseg-22/
LOCATION:Gyülekezeti kisterem\, Petőfi tér 4.\, Gyula\, Békés\, 5700\, Magyarország
CATEGORIES:Imaközösség
ATTACH;FMTTYPE=image/jpeg:https://gyularef.hu/wp-content/uploads/2016/09/imakozosseg.jpg
END:VEVENT
BEGIN:VEVENT
DTSTART;TZID=Europe/Budapest:20170414T190000
DTEND;TZID=Europe/Budapest:20170414T200000
DTSTAMP:20260423T002543
CREATED:20170409T185936Z
LAST-MODIFIED:20170409T185936Z
UID:1238-1492196400-1492200000@gyularef.hu
SUMMARY:Fiatalok  bibliaköre
DESCRIPTION:
URL:https://gyularef.hu/event/fiatalok-bibliakore-24/
LOCATION:Kisház\, Petőfi tér 4.\, Gyula\, Békés\, 5700\, Magyarország
CATEGORIES:Fiatalok bibliaköre
ATTACH;FMTTYPE=image/jpeg:https://gyularef.hu/wp-content/uploads/2016/08/ofi.jpg
END:VEVENT
BEGIN:VEVENT
DTSTART;TZID=Europe/Budapest:20170414T180000
DTEND;TZID=Europe/Budapest:20170414T190000
DTSTAMP:20260423T002543
CREATED:20170409T185850Z
LAST-MODIFIED:20170409T185850Z
UID:1236-1492192800-1492196400@gyularef.hu
SUMMARY:Bűnbánati istentisztelet
DESCRIPTION:
URL:https://gyularef.hu/event/bunbanati-istentisztelet-11/
LOCATION:Kálvin utcai gyülekezeti ház\, Kálvin u. 4.\, Gyula\, Békés\, 5700\, Magyarország
CATEGORIES:Bűnbánati istentisztelet
ATTACH;FMTTYPE=image/jpeg:https://gyularef.hu/wp-content/uploads/2016/09/bibliaora_sz.jpg
END:VEVENT
BEGIN:VEVENT
DTSTART;TZID=Europe/Budapest:20170414T150000
DTEND;TZID=Europe/Budapest:20170414T160000
DTSTAMP:20260423T002543
CREATED:20170409T185808Z
LAST-MODIFIED:20170409T185808Z
UID:1234-1492182000-1492185600@gyularef.hu
SUMMARY:Ifjúsági óra - Biztos Szikla klub
DESCRIPTION:
URL:https://gyularef.hu/event/ifjusagi-ora-biztos-szikla-klub-6/
LOCATION:Kisház\, Petőfi tér 4.\, Gyula\, Békés\, 5700\, Magyarország
CATEGORIES:Biztos Szikla klub
ATTACH;FMTTYPE=image/jpeg:https://gyularef.hu/wp-content/uploads/2016/08/biztos_szikla.jpg
END:VEVENT
BEGIN:VEVENT
DTSTART;TZID=Europe/Budapest:20170414T100000
DTEND;TZID=Europe/Budapest:20170414T110000
DTSTAMP:20260423T002543
CREATED:20170409T185647Z
LAST-MODIFIED:20170409T185647Z
UID:1232-1492164000-1492167600@gyularef.hu
SUMMARY:Nagypénteki istentisztelet
DESCRIPTION:
URL:https://gyularef.hu/event/nagypenteki-istentisztelet/
LOCATION:Templom\, Petőfi tér 4.\, Gyula\, Békés\, 5700\, Magyarország
CATEGORIES:Istentisztelet
ATTACH;FMTTYPE=image/jpeg:https://gyularef.hu/wp-content/uploads/2016/08/istentisztelet.jpg
END:VEVENT
BEGIN:VEVENT
DTSTART;TZID=Europe/Budapest:20170413T180000
DTEND;TZID=Europe/Budapest:20170413T190000
DTSTAMP:20260423T002543
CREATED:20170409T185550Z
LAST-MODIFIED:20170409T185550Z
UID:1230-1492106400-1492110000@gyularef.hu
SUMMARY:Bűnbánati istentisztelet
DESCRIPTION:
URL:https://gyularef.hu/event/bunbanati-istentisztelet-10/
LOCATION:Kálvin utcai gyülekezeti ház\, Kálvin u. 4.\, Gyula\, Békés\, 5700\, Magyarország
CATEGORIES:Bűnbánati istentisztelet
ATTACH;FMTTYPE=image/jpeg:https://gyularef.hu/wp-content/uploads/2016/09/bibliaora_sz.jpg
END:VEVENT
BEGIN:VEVENT
DTSTART;TZID=Europe/Budapest:20170412T180000
DTEND;TZID=Europe/Budapest:20170412T190000
DTSTAMP:20260423T002543
CREATED:20170409T185513Z
LAST-MODIFIED:20170409T185513Z
UID:1228-1492020000-1492023600@gyularef.hu
SUMMARY:Bűnbánati istentisztelet
DESCRIPTION:
URL:https://gyularef.hu/event/bunbanati-istentisztelet-9/
LOCATION:Kálvin utcai gyülekezeti ház\, Kálvin u. 4.\, Gyula\, Békés\, 5700\, Magyarország
CATEGORIES:Bűnbánati istentisztelet
ATTACH;FMTTYPE=image/jpeg:https://gyularef.hu/wp-content/uploads/2016/09/bibliaora_sz.jpg
END:VEVENT
BEGIN:VEVENT
DTSTART;TZID=Europe/Budapest:20170411T180000
DTEND;TZID=Europe/Budapest:20170411T190000
DTSTAMP:20260423T002543
CREATED:20170409T185432Z
LAST-MODIFIED:20170409T185432Z
UID:1226-1491933600-1491937200@gyularef.hu
SUMMARY:Bűnbánati istentisztelet
DESCRIPTION:
URL:https://gyularef.hu/event/bunbanati-istentisztelet-8/
LOCATION:Kálvin utcai gyülekezeti ház\, Kálvin u. 4.\, Gyula\, Békés\, 5700\, Magyarország
CATEGORIES:Bűnbánati istentisztelet
ATTACH;FMTTYPE=image/jpeg:https://gyularef.hu/wp-content/uploads/2016/09/bibliaora_sz.jpg
END:VEVENT
BEGIN:VEVENT
DTSTART;TZID=Europe/Budapest:20170410T180000
DTEND;TZID=Europe/Budapest:20170410T190000
DTSTAMP:20260423T002543
CREATED:20170409T185352Z
LAST-MODIFIED:20170409T185352Z
UID:1224-1491847200-1491850800@gyularef.hu
SUMMARY:Bűnbánati istentisztelet
DESCRIPTION:
URL:https://gyularef.hu/event/bunbanati-istentisztelet-7/
LOCATION:Kálvin utcai gyülekezeti ház\, Kálvin u. 4.\, Gyula\, Békés\, 5700\, Magyarország
CATEGORIES:Bűnbánati istentisztelet
ATTACH;FMTTYPE=image/jpeg:https://gyularef.hu/wp-content/uploads/2016/09/bibliaora_sz.jpg
END:VEVENT
BEGIN:VEVENT
DTSTART;TZID=Europe/Budapest:20170409T170000
DTEND;TZID=Europe/Budapest:20170409T180000
DTSTAMP:20260423T002543
CREATED:20170404T131850Z
LAST-MODIFIED:20170404T131920Z
UID:1213-1491757200-1491760800@gyularef.hu
SUMMARY:Istentisztelet
DESCRIPTION:
URL:https://gyularef.hu/event/istentisztelet-14/
LOCATION:Gyülekezeti kisterem\, Petőfi tér 4.\, Gyula\, Békés\, 5700\, Magyarország
ATTACH;FMTTYPE=image/jpeg:https://gyularef.hu/wp-content/uploads/2016/09/bibliaora.jpg
END:VEVENT
BEGIN:VEVENT
DTSTART;TZID=Europe/Budapest:20170409T100000
DTEND;TZID=Europe/Budapest:20170409T113000
DTSTAMP:20260423T002543
CREATED:20170404T131739Z
LAST-MODIFIED:20170404T131739Z
UID:1211-1491732000-1491737400@gyularef.hu
SUMMARY:Családi istentisztelet
DESCRIPTION:
URL:https://gyularef.hu/event/csaladi-istentisztelet-6/
LOCATION:Templom\, Petőfi tér 4.\, Gyula\, Békés\, 5700\, Magyarország
CATEGORIES:Istentisztelet
ATTACH;FMTTYPE=image/jpeg:https://gyularef.hu/wp-content/uploads/2016/08/istentisztelet.jpg
END:VEVENT
BEGIN:VEVENT
DTSTART;TZID=Europe/Budapest:20170409T093000
DTEND;TZID=Europe/Budapest:20170409T095000
DTSTAMP:20260423T002543
CREATED:20170404T131624Z
LAST-MODIFIED:20170404T132003Z
UID:1209-1491730200-1491731400@gyularef.hu
SUMMARY:Imaközösség
DESCRIPTION:
URL:https://gyularef.hu/event/imakozosseg-21/
LOCATION:Gyülekezeti kisterem\, Petőfi tér 4.\, Gyula\, Békés\, 5700\, Magyarország
CATEGORIES:Imaközösség
ATTACH;FMTTYPE=image/jpeg:https://gyularef.hu/wp-content/uploads/2016/09/imakozosseg.jpg
END:VEVENT
BEGIN:VEVENT
DTSTART;TZID=Europe/Budapest:20170407T180000
DTEND;TZID=Europe/Budapest:20170407T190000
DTSTAMP:20260423T002543
CREATED:20170404T131443Z
LAST-MODIFIED:20170404T131443Z
UID:1207-1491588000-1491591600@gyularef.hu
SUMMARY:Fiatalok  bibliaköre
DESCRIPTION:
URL:https://gyularef.hu/event/fiatalok-bibliakore-23/
LOCATION:Kisház\, Petőfi tér 4.\, Gyula\, Békés\, 5700\, Magyarország
CATEGORIES:Fiatalok bibliaköre
ATTACH;FMTTYPE=image/jpeg:https://gyularef.hu/wp-content/uploads/2016/08/ofi.jpg
END:VEVENT
BEGIN:VEVENT
DTSTART;TZID=Europe/Budapest:20170407T150000
DTEND;TZID=Europe/Budapest:20170407T160000
DTSTAMP:20260423T002543
CREATED:20170404T131341Z
LAST-MODIFIED:20170404T131341Z
UID:1205-1491577200-1491580800@gyularef.hu
SUMMARY:Ifjúsági óra  Biztos Szikla klub
DESCRIPTION:
URL:https://gyularef.hu/event/ifjusagi-ora-biztos-szikla-klub-5/
LOCATION:Gyülekezeti kisterem\, Petőfi tér 4.\, Gyula\, Békés\, 5700\, Magyarország
CATEGORIES:Biztos Szikla klub
ATTACH;FMTTYPE=image/jpeg:https://gyularef.hu/wp-content/uploads/2016/08/biztos_szikla.jpg
END:VEVENT
BEGIN:VEVENT
DTSTART;TZID=Europe/Budapest:20170407T140000
DTEND;TZID=Europe/Budapest:20170407T150000
DTSTAMP:20260423T002543
CREATED:20170404T130959Z
LAST-MODIFIED:20170404T130959Z
UID:1203-1491573600-1491577200@gyularef.hu
SUMMARY:Konfirmációs óra  (ifjúsági)
DESCRIPTION:
URL:https://gyularef.hu/event/konfirmacios-ora-ifjusagi-28/
LOCATION:Gyülekezeti kisterem\, Petőfi tér 4.\, Gyula\, Békés\, 5700\, Magyarország
CATEGORIES:Bibliaóra
ATTACH;FMTTYPE=image/jpeg:https://gyularef.hu/wp-content/uploads/2016/09/biztos_szikla.jpg
END:VEVENT
BEGIN:VEVENT
DTSTART;TZID=Europe/Budapest:20170406T140000
DTEND;TZID=Europe/Budapest:20170406T150000
DTSTAMP:20260423T002543
CREATED:20170404T130903Z
LAST-MODIFIED:20170404T130903Z
UID:1201-1491487200-1491490800@gyularef.hu
SUMMARY:Konfirmációs óra  (ifjúsági)
DESCRIPTION:
URL:https://gyularef.hu/event/konfirmacios-ora-ifjusagi-27/
END:VEVENT
BEGIN:VEVENT
DTSTART;TZID=Europe/Budapest:20170406T100000
DTEND;TZID=Europe/Budapest:20170406T110000
DTSTAMP:20260423T002543
CREATED:20170404T130658Z
LAST-MODIFIED:20170404T130658Z
UID:1199-1491472800-1491476400@gyularef.hu
SUMMARY:Baba-mama kör
DESCRIPTION:
URL:https://gyularef.hu/event/baba-mama-kor-19/
LOCATION:Kisház\, Petőfi tér 4.\, Gyula\, Békés\, 5700\, Magyarország
CATEGORIES:Baba-mama kör
ATTACH;FMTTYPE=image/jpeg:https://gyularef.hu/wp-content/uploads/2016/09/baba_mama.jpg
END:VEVENT
BEGIN:VEVENT
DTSTART;TZID=Europe/Budapest:20170405T180000
DTEND;TZID=Europe/Budapest:20170405T190000
DTSTAMP:20260423T002543
CREATED:20170404T130448Z
LAST-MODIFIED:20170404T130448Z
UID:1197-1491415200-1491418800@gyularef.hu
SUMMARY:Bibliaóra - A sátán és a  titokzatos 666-os szám
DESCRIPTION:
URL:https://gyularef.hu/event/bibliaora-a-satan-es-a-titokzatos-666-os-szam/
LOCATION:Kálvin utcai gyülekezeti ház\, Kálvin u. 4.\, Gyula\, Békés\, 5700\, Magyarország
CATEGORIES:Bibliaóra
END:VEVENT
BEGIN:VEVENT
DTSTART;TZID=Europe/Budapest:20170402T170000
DTEND;TZID=Europe/Budapest:20170402T180000
DTSTAMP:20260423T002543
CREATED:20170330T052918Z
LAST-MODIFIED:20170330T052918Z
UID:1174-1491152400-1491156000@gyularef.hu
SUMMARY:Istentisztelet (du)
DESCRIPTION:
URL:https://gyularef.hu/event/istentisztelet-du-15/
LOCATION:Gyülekezeti kisterem\, Petőfi tér 4.\, Gyula\, Békés\, 5700\, Magyarország
CATEGORIES:Istentisztelet
ATTACH;FMTTYPE=image/jpeg:https://gyularef.hu/wp-content/uploads/2016/09/bibliaora.jpg
END:VEVENT
BEGIN:VEVENT
DTSTART;TZID=Europe/Budapest:20170402T100000
DTEND;TZID=Europe/Budapest:20170402T110000
DTSTAMP:20260423T002543
CREATED:20170330T052828Z
LAST-MODIFIED:20170330T052828Z
UID:1172-1491127200-1491130800@gyularef.hu
SUMMARY:Istentisztelet
DESCRIPTION:
URL:https://gyularef.hu/event/istentisztelet-13/
LOCATION:Templom\, Petőfi tér 4.\, Gyula\, Békés\, 5700\, Magyarország
CATEGORIES:Istentisztelet
ATTACH;FMTTYPE=image/jpeg:https://gyularef.hu/wp-content/uploads/2016/08/istentisztelet.jpg
END:VEVENT
BEGIN:VEVENT
DTSTART;TZID=Europe/Budapest:20170402T093000
DTEND;TZID=Europe/Budapest:20170402T095000
DTSTAMP:20260423T002543
CREATED:20170330T052735Z
LAST-MODIFIED:20170330T052735Z
UID:1170-1491125400-1491126600@gyularef.hu
SUMMARY:Imaközösség
DESCRIPTION:
URL:https://gyularef.hu/event/imakozosseg-20/
LOCATION:Gyülekezeti kisterem\, Petőfi tér 4.\, Gyula\, Békés\, 5700\, Magyarország
CATEGORIES:Imaközösség
ATTACH;FMTTYPE=image/jpeg:https://gyularef.hu/wp-content/uploads/2016/09/imakozosseg.jpg
END:VEVENT
BEGIN:VEVENT
DTSTART;TZID=Europe/Budapest:20170331T180000
DTEND;TZID=Europe/Budapest:20170331T190000
DTSTAMP:20260423T002543
CREATED:20170330T052525Z
LAST-MODIFIED:20170330T052525Z
UID:1168-1490983200-1490986800@gyularef.hu
SUMMARY:Fiatalok  bibliaköre
DESCRIPTION:
URL:https://gyularef.hu/event/fiatalok-bibliakore-22/
LOCATION:Kisház\, Petőfi tér 4.\, Gyula\, Békés\, 5700\, Magyarország
CATEGORIES:Fiatalok bibliaköre
ATTACH;FMTTYPE=image/jpeg:https://gyularef.hu/wp-content/uploads/2016/08/ofi.jpg
END:VEVENT
BEGIN:VEVENT
DTSTART;TZID=Europe/Budapest:20170331T150000
DTEND;TZID=Europe/Budapest:20170331T160000
DTSTAMP:20260423T002543
CREATED:20170330T052438Z
LAST-MODIFIED:20170330T052438Z
UID:1166-1490972400-1490976000@gyularef.hu
SUMMARY:Ifjúsági óra  Biztos Szikla klub
DESCRIPTION:
URL:https://gyularef.hu/event/ifjusagi-ora-biztos-szikla-klub-4/
LOCATION:Kisház\, Petőfi tér 4.\, Gyula\, Békés\, 5700\, Magyarország
CATEGORIES:Biztos Szikla klub
ATTACH;FMTTYPE=image/jpeg:https://gyularef.hu/wp-content/uploads/2016/08/biztos_szikla.jpg
END:VEVENT
END:VCALENDAR