BEGIN:VCALENDAR
VERSION:2.0
PRODID:-//Gyulai Református Egyházközség - ECPv6.11.2.1//NONSGML v1.0//EN
CALSCALE:GREGORIAN
METHOD:PUBLISH
X-WR-CALNAME:Gyulai Református Egyházközség
X-ORIGINAL-URL:https://gyularef.hu
X-WR-CALDESC:Events for Gyulai Református Egyházközség
REFRESH-INTERVAL;VALUE=DURATION:PT1H
X-Robots-Tag:noindex
X-PUBLISHED-TTL:PT1H
BEGIN:VTIMEZONE
TZID:Europe/Budapest
BEGIN:DAYLIGHT
TZOFFSETFROM:+0100
TZOFFSETTO:+0200
TZNAME:CEST
DTSTART:20170326T010000
END:DAYLIGHT
BEGIN:STANDARD
TZOFFSETFROM:+0200
TZOFFSETTO:+0100
TZNAME:CET
DTSTART:20171029T010000
END:STANDARD
BEGIN:DAYLIGHT
TZOFFSETFROM:+0100
TZOFFSETTO:+0200
TZNAME:CEST
DTSTART:20180325T010000
END:DAYLIGHT
BEGIN:STANDARD
TZOFFSETFROM:+0200
TZOFFSETTO:+0100
TZNAME:CET
DTSTART:20181028T010000
END:STANDARD
END:VTIMEZONE
BEGIN:VEVENT
DTSTART;TZID=Europe/Budapest:20180119T180000
DTEND;TZID=Europe/Budapest:20180119T190000
DTSTAMP:20260421T034534
CREATED:20180117T133659Z
LAST-MODIFIED:20180117T133659Z
UID:2378-1516384800-1516388400@gyularef.hu
SUMMARY:Fiatalok bibliaköre
DESCRIPTION:
URL:https://gyularef.hu/event/fiatalok-bibliakore-57/
LOCATION:Kisház\, Petőfi tér 4.\, Gyula\, Békés\, 5700\, Magyarország
CATEGORIES:Fiatalok bibliaköre
ATTACH;FMTTYPE=image/jpeg:https://gyularef.hu/wp-content/uploads/2016/08/ofi.jpg
END:VEVENT
BEGIN:VEVENT
DTSTART;TZID=Europe/Budapest:20180119T150000
DTEND;TZID=Europe/Budapest:20180119T160000
DTSTAMP:20260421T034534
CREATED:20180117T133605Z
LAST-MODIFIED:20180117T133605Z
UID:2376-1516374000-1516377600@gyularef.hu
SUMMARY:Ifjúsági bibliaóra
DESCRIPTION:
URL:https://gyularef.hu/event/ifjusagi-bibliaora-2/
LOCATION:Kisház\, Petőfi tér 4.\, Gyula\, Békés\, 5700\, Magyarország
CATEGORIES:Biztos Szikla klub
ATTACH;FMTTYPE=image/jpeg:https://gyularef.hu/wp-content/uploads/2016/08/biztos_szikla.jpg
END:VEVENT
BEGIN:VEVENT
DTSTART;TZID=Europe/Budapest:20180119T140000
DTEND;TZID=Europe/Budapest:20180119T150000
DTSTAMP:20260421T034534
CREATED:20180117T133513Z
LAST-MODIFIED:20180117T133513Z
UID:2374-1516370400-1516374000@gyularef.hu
SUMMARY:Konfirmáció előkészítő
DESCRIPTION:
URL:https://gyularef.hu/event/konfirmacio-elokeszito-2/
LOCATION:Gyülekezeti kisterem\, Petőfi tér 4.\, Gyula\, Békés\, 5700\, Magyarország
CATEGORIES:Bibliaóra
ATTACH;FMTTYPE=image/jpeg:https://gyularef.hu/wp-content/uploads/2016/09/biztos_szikla.jpg
END:VEVENT
BEGIN:VEVENT
DTSTART;TZID=Europe/Budapest:20180118T180000
DTEND;TZID=Europe/Budapest:20180118T190000
DTSTAMP:20260421T034534
CREATED:20180117T133420Z
LAST-MODIFIED:20180117T133420Z
UID:2372-1516298400-1516302000@gyularef.hu
SUMMARY:Presbiteri gyűlés
DESCRIPTION:
URL:https://gyularef.hu/event/presbiteri-gyules-7/
LOCATION:Gyülekezeti kisterem\, Petőfi tér 4.\, Gyula\, Békés\, 5700\, Magyarország
CATEGORIES:Bibliaóra
ATTACH;FMTTYPE=image/jpeg:https://gyularef.hu/wp-content/uploads/2017/10/biblia-.jpg
END:VEVENT
BEGIN:VEVENT
DTSTART;TZID=Europe/Budapest:20180118T100000
DTEND;TZID=Europe/Budapest:20180118T110000
DTSTAMP:20260421T034534
CREATED:20180117T133320Z
LAST-MODIFIED:20180117T134042Z
UID:2370-1516269600-1516273200@gyularef.hu
SUMMARY:Baba-mama kör
DESCRIPTION:
URL:https://gyularef.hu/event/baba-mama-kor-44/
LOCATION:Kisház\, Petőfi tér 4.\, Gyula\, Békés\, 5700\, Magyarország
CATEGORIES:Baba-mama kör
ATTACH;FMTTYPE=image/jpeg:https://gyularef.hu/wp-content/uploads/2016/09/baba_mama.jpg
END:VEVENT
BEGIN:VEVENT
DTSTART;TZID=Europe/Budapest:20180117T180000
DTEND;TZID=Europe/Budapest:20180117T190000
DTSTAMP:20260421T034534
CREATED:20180117T133238Z
LAST-MODIFIED:20180117T133238Z
UID:2368-1516212000-1516215600@gyularef.hu
SUMMARY:Bibliaóra
DESCRIPTION:
URL:https://gyularef.hu/event/bibliaora-23/
LOCATION:Magvető Ref. Ált. Isk. ebédlője\, Kálvin utca\, Gyula\, 5700\, Magyarország
CATEGORIES:Bibliaóra
ATTACH;FMTTYPE=image/jpeg:https://gyularef.hu/wp-content/uploads/2016/09/bibliaora_sz.jpg
END:VEVENT
BEGIN:VEVENT
DTSTART;TZID=Europe/Budapest:20180117T163000
DTEND;TZID=Europe/Budapest:20180117T173000
DTSTAMP:20260421T034534
CREATED:20180117T133202Z
LAST-MODIFIED:20180117T133202Z
UID:2366-1516206600-1516210200@gyularef.hu
SUMMARY:Nőszövetségi alkalom
DESCRIPTION:
URL:https://gyularef.hu/event/noszovetsegi-alkalom-4/
LOCATION:Gyülekezeti kisterem\, Petőfi tér 4.\, Gyula\, Békés\, 5700\, Magyarország
CATEGORIES:Bibliaóra
ATTACH;FMTTYPE=image/jpeg:https://gyularef.hu/wp-content/uploads/2016/11/noikor_hirhez.jpg
END:VEVENT
BEGIN:VEVENT
DTSTART;TZID=Europe/Budapest:20180114T170000
DTEND;TZID=Europe/Budapest:20180114T180000
DTSTAMP:20260421T034534
CREATED:20180110T194222Z
LAST-MODIFIED:20180110T194222Z
UID:2328-1515949200-1515952800@gyularef.hu
SUMMARY:Istentisztelet (du)
DESCRIPTION:
URL:https://gyularef.hu/event/istentisztelet-du-42/
LOCATION:Gyülekezeti kisterem\, Petőfi tér 4.\, Gyula\, Békés\, 5700\, Magyarország
CATEGORIES:Istentisztelet
ATTACH;FMTTYPE=image/jpeg:https://gyularef.hu/wp-content/uploads/2016/09/bibliaora.jpg
END:VEVENT
BEGIN:VEVENT
DTSTART;TZID=Europe/Budapest:20180114T100000
DTEND;TZID=Europe/Budapest:20180114T110000
DTSTAMP:20260421T034534
CREATED:20180110T194127Z
LAST-MODIFIED:20180110T194127Z
UID:2326-1515924000-1515927600@gyularef.hu
SUMMARY:Családi istentisztelet
DESCRIPTION:
URL:https://gyularef.hu/event/csaladi-istentisztelet-9/
LOCATION:Templom\, Petőfi tér 4.\, Gyula\, Békés\, 5700\, Magyarország
CATEGORIES:Istentisztelet
ATTACH;FMTTYPE=image/jpeg:https://gyularef.hu/wp-content/uploads/2016/08/istentisztelet.jpg
END:VEVENT
BEGIN:VEVENT
DTSTART;TZID=Europe/Budapest:20180114T093000
DTEND;TZID=Europe/Budapest:20180114T095000
DTSTAMP:20260421T034534
CREATED:20180110T194040Z
LAST-MODIFIED:20180110T194040Z
UID:2324-1515922200-1515923400@gyularef.hu
SUMMARY:Imaközösség
DESCRIPTION:
URL:https://gyularef.hu/event/imakozosseg-55/
LOCATION:Gyülekezeti kisterem\, Petőfi tér 4.\, Gyula\, Békés\, 5700\, Magyarország
CATEGORIES:Imaközösség
ATTACH;FMTTYPE=image/jpeg:https://gyularef.hu/wp-content/uploads/2016/09/imakozosseg.jpg
END:VEVENT
BEGIN:VEVENT
DTSTART;TZID=Europe/Budapest:20180112T180000
DTEND;TZID=Europe/Budapest:20180112T190000
DTSTAMP:20260421T034534
CREATED:20180110T193958Z
LAST-MODIFIED:20180110T193958Z
UID:2322-1515780000-1515783600@gyularef.hu
SUMMARY:Fiatalok bibliaköre
DESCRIPTION:
URL:https://gyularef.hu/event/fiatalok-bibliakore-56/
LOCATION:Kisház\, Petőfi tér 4.\, Gyula\, Békés\, 5700\, Magyarország
CATEGORIES:Fiatalok bibliaköre
ATTACH;FMTTYPE=image/jpeg:https://gyularef.hu/wp-content/uploads/2016/08/ofi.jpg
END:VEVENT
BEGIN:VEVENT
DTSTART;TZID=Europe/Budapest:20180112T150000
DTEND;TZID=Europe/Budapest:20180112T160000
DTSTAMP:20260421T034534
CREATED:20180110T193914Z
LAST-MODIFIED:20180110T193914Z
UID:2320-1515769200-1515772800@gyularef.hu
SUMMARY:Ifjúsági bibliaóra
DESCRIPTION:
URL:https://gyularef.hu/event/ifjusagi-bibliaora/
LOCATION:Kisház\, Petőfi tér 4.\, Gyula\, Békés\, 5700\, Magyarország
CATEGORIES:Biztos Szikla klub
ATTACH;FMTTYPE=image/jpeg:https://gyularef.hu/wp-content/uploads/2016/08/biztos_szikla.jpg
END:VEVENT
BEGIN:VEVENT
DTSTART;TZID=Europe/Budapest:20180112T140000
DTEND;TZID=Europe/Budapest:20180112T150000
DTSTAMP:20260421T034534
CREATED:20180110T193819Z
LAST-MODIFIED:20180110T193819Z
UID:2318-1515765600-1515769200@gyularef.hu
SUMMARY:Konfirmáció előkészítő
DESCRIPTION:
URL:https://gyularef.hu/event/konfirmacio-elokeszito/
LOCATION:Gyülekezeti kisterem\, Petőfi tér 4.\, Gyula\, Békés\, 5700\, Magyarország
CATEGORIES:Bibliaóra
ATTACH;FMTTYPE=image/jpeg:https://gyularef.hu/wp-content/uploads/2017/11/biblia-.jpg
END:VEVENT
BEGIN:VEVENT
DTSTART;TZID=Europe/Budapest:20180111T100000
DTEND;TZID=Europe/Budapest:20180111T170000
DTSTAMP:20260421T034534
CREATED:20180110T193731Z
LAST-MODIFIED:20180110T193731Z
UID:2316-1515664800-1515690000@gyularef.hu
SUMMARY:Baba-mama kör
DESCRIPTION:
URL:https://gyularef.hu/event/baba-mama-kor-43/
LOCATION:Kisház\, Petőfi tér 4.\, Gyula\, Békés\, 5700\, Magyarország
CATEGORIES:Baba-mama kör
ATTACH;FMTTYPE=image/jpeg:https://gyularef.hu/wp-content/uploads/2016/09/baba_mama.jpg
END:VEVENT
BEGIN:VEVENT
DTSTART;TZID=Europe/Budapest:20180110T080000
DTEND;TZID=Europe/Budapest:20180110T170000
DTSTAMP:20260421T034534
CREATED:20180108T071118Z
LAST-MODIFIED:20180108T071118Z
UID:2313-1515571200-1515603600@gyularef.hu
SUMMARY:Bibliaóra
DESCRIPTION:
URL:https://gyularef.hu/event/bibliaora-22/
LOCATION:Magvető Ref. Ált. Isk. ebédlője\, Kálvin utca\, Gyula\, 5700\, Magyarország
CATEGORIES:Bibliaóra
ATTACH;FMTTYPE=image/jpeg:https://gyularef.hu/wp-content/uploads/2016/09/bibliaora_sz.jpg
END:VEVENT
BEGIN:VEVENT
DTSTART;TZID=Europe/Budapest:20180107T170000
DTEND;TZID=Europe/Budapest:20180107T180000
DTSTAMP:20260421T034534
CREATED:20180101T171356Z
LAST-MODIFIED:20180101T171356Z
UID:2299-1515344400-1515348000@gyularef.hu
SUMMARY:Istentisztelet (du)
DESCRIPTION:
URL:https://gyularef.hu/event/istentisztelet-du-41/
LOCATION:Gyülekezeti kisterem\, Petőfi tér 4.\, Gyula\, Békés\, 5700\, Magyarország
CATEGORIES:Istentisztelet
ATTACH;FMTTYPE=image/jpeg:https://gyularef.hu/wp-content/uploads/2017/11/biblia-.jpg
END:VEVENT
BEGIN:VEVENT
DTSTART;TZID=Europe/Budapest:20180107T100000
DTEND;TZID=Europe/Budapest:20180107T110000
DTSTAMP:20260421T034534
CREATED:20180101T171315Z
LAST-MODIFIED:20180101T171315Z
UID:2297-1515319200-1515322800@gyularef.hu
SUMMARY:Istentisztelet
DESCRIPTION:
URL:https://gyularef.hu/event/istentisztelet-36/
LOCATION:Templom\, Petőfi tér 4.\, Gyula\, Békés\, 5700\, Magyarország
CATEGORIES:Istentisztelet
ATTACH;FMTTYPE=image/jpeg:https://gyularef.hu/wp-content/uploads/2016/08/istentisztelet.jpg
END:VEVENT
BEGIN:VEVENT
DTSTART;TZID=Europe/Budapest:20180107T093000
DTEND;TZID=Europe/Budapest:20180107T095000
DTSTAMP:20260421T034534
CREATED:20180101T171237Z
LAST-MODIFIED:20180101T171237Z
UID:2295-1515317400-1515318600@gyularef.hu
SUMMARY:Imaközösség
DESCRIPTION:
URL:https://gyularef.hu/event/imakozosseg-54/
LOCATION:Gyülekezeti kisterem\, Petőfi tér 4.\, Gyula\, Békés\, 5700\, Magyarország
CATEGORIES:Imaközösség
ATTACH;FMTTYPE=image/jpeg:https://gyularef.hu/wp-content/uploads/2016/09/imakozosseg.jpg
END:VEVENT
BEGIN:VEVENT
DTSTART;TZID=Europe/Budapest:20180105T180000
DTEND;TZID=Europe/Budapest:20180105T190000
DTSTAMP:20260421T034534
CREATED:20180101T171132Z
LAST-MODIFIED:20180101T171132Z
UID:2293-1515175200-1515178800@gyularef.hu
SUMMARY:Fiatalok Bibliaköre
DESCRIPTION:
URL:https://gyularef.hu/event/fiatalok-bibliakore-55/
LOCATION:Kisház\, Petőfi tér 4.\, Gyula\, Békés\, 5700\, Magyarország
CATEGORIES:Fiatalok bibliaköre
ATTACH;FMTTYPE=image/jpeg:https://gyularef.hu/wp-content/uploads/2016/08/ofi.jpg
END:VEVENT
BEGIN:VEVENT
DTSTART;TZID=Europe/Budapest:20180104T100000
DTEND;TZID=Europe/Budapest:20180104T110000
DTSTAMP:20260421T034534
CREATED:20180101T171049Z
LAST-MODIFIED:20180101T171049Z
UID:2291-1515060000-1515063600@gyularef.hu
SUMMARY:Baba-mama kör
DESCRIPTION:
URL:https://gyularef.hu/event/baba-mama-kor-42/
LOCATION:Kisház\, Petőfi tér 4.\, Gyula\, Békés\, 5700\, Magyarország
CATEGORIES:Baba-mama kör
ATTACH;FMTTYPE=image/jpeg:https://gyularef.hu/wp-content/uploads/2016/09/baba_mama.jpg
END:VEVENT
BEGIN:VEVENT
DTSTART;TZID=Europe/Budapest:20180103T180000
DTEND;TZID=Europe/Budapest:20180103T190000
DTSTAMP:20260421T034534
CREATED:20180101T171007Z
LAST-MODIFIED:20180101T171007Z
UID:2289-1515002400-1515006000@gyularef.hu
SUMMARY:Bibliaóra
DESCRIPTION:
URL:https://gyularef.hu/event/bibliaora-21/
LOCATION:Templom\, Petőfi tér 4.\, Gyula\, Békés\, 5700\, Magyarország
CATEGORIES:Bibliaóra
ATTACH;FMTTYPE=image/jpeg:https://gyularef.hu/wp-content/uploads/2016/09/bibliaora_sz.jpg
END:VEVENT
BEGIN:VEVENT
DTSTART;TZID=Europe/Budapest:20171226T100000
DTEND;TZID=Europe/Budapest:20171226T110000
DTSTAMP:20260421T034534
CREATED:20171218T131112Z
LAST-MODIFIED:20171218T131112Z
UID:2286-1514282400-1514286000@gyularef.hu
SUMMARY:Karácsony II. napi úrvacsorás istentisztelet
DESCRIPTION:
URL:https://gyularef.hu/event/karacsony-ii-napi-urvacsoras-istentisztelet-2/
LOCATION:Templom\, Petőfi tér 4.\, Gyula\, Békés\, 5700\, Magyarország
CATEGORIES:Úrvacsorás istentisztelet
ATTACH;FMTTYPE=image/jpeg:https://gyularef.hu/wp-content/uploads/2016/09/urvacsora.jpg
END:VEVENT
BEGIN:VEVENT
DTSTART;TZID=Europe/Budapest:20171225T100000
DTEND;TZID=Europe/Budapest:20171225T110000
DTSTAMP:20260421T034534
CREATED:20171218T131019Z
LAST-MODIFIED:20171218T131027Z
UID:2284-1514196000-1514199600@gyularef.hu
SUMMARY:Karácsony I. napi úrvacsorás istentisztelet
DESCRIPTION:
URL:https://gyularef.hu/event/karacsony-i-napi-urvacsoras-istentisztelet-2/
LOCATION:Templom\, Petőfi tér 4.\, Gyula\, Békés\, 5700\, Magyarország
CATEGORIES:Úrvacsorás istentisztelet
ATTACH;FMTTYPE=image/jpeg:https://gyularef.hu/wp-content/uploads/2016/09/urvacsora.jpg
END:VEVENT
BEGIN:VEVENT
DTSTART;TZID=Europe/Budapest:20171224T170000
DTEND;TZID=Europe/Budapest:20171224T180000
DTSTAMP:20260421T034534
CREATED:20171218T130934Z
LAST-MODIFIED:20171218T130934Z
UID:2282-1514134800-1514138400@gyularef.hu
SUMMARY:Szentesti istentisztelet (ünnepi szolgálat)
DESCRIPTION:
URL:https://gyularef.hu/event/szentesti-istentisztelet-unnepi-szolgalat/
LOCATION:Templom\, Petőfi tér 4.\, Gyula\, Békés\, 5700\, Magyarország
CATEGORIES:Istentisztelet
ATTACH;FMTTYPE=image/jpeg:https://gyularef.hu/wp-content/uploads/2017/09/x1-1.jpg
END:VEVENT
BEGIN:VEVENT
DTSTART;TZID=Europe/Budapest:20171224T100000
DTEND;TZID=Europe/Budapest:20171224T110000
DTSTAMP:20260421T034534
CREATED:20171218T130746Z
LAST-MODIFIED:20171218T130746Z
UID:2280-1514109600-1514113200@gyularef.hu
SUMMARY:Istentisztelet Advent IV. vasárnapja
DESCRIPTION:
URL:https://gyularef.hu/event/istentisztelet-advent-iv-vasarnapja/
LOCATION:Templom\, Petőfi tér 4.\, Gyula\, Békés\, 5700\, Magyarország
CATEGORIES:Istentisztelet
ATTACH;FMTTYPE=image/jpeg:https://gyularef.hu/wp-content/uploads/2016/08/istentisztelet.jpg
END:VEVENT
BEGIN:VEVENT
DTSTART;TZID=Europe/Budapest:20171222T190000
DTEND;TZID=Europe/Budapest:20171222T200000
DTSTAMP:20260421T034534
CREATED:20171218T130651Z
LAST-MODIFIED:20171218T130651Z
UID:2278-1513969200-1513972800@gyularef.hu
SUMMARY:Fiatalok Bibliaköre
DESCRIPTION:
URL:https://gyularef.hu/event/fiatalok-bibliakore-54/
LOCATION:Kisház\, Petőfi tér 4.\, Gyula\, Békés\, 5700\, Magyarország
CATEGORIES:Fiatalok bibliaköre
ATTACH;FMTTYPE=image/jpeg:https://gyularef.hu/wp-content/uploads/2016/08/ofi.jpg
END:VEVENT
BEGIN:VEVENT
DTSTART;TZID=Europe/Budapest:20171222T180000
DTEND;TZID=Europe/Budapest:20171222T190000
DTSTAMP:20260421T034534
CREATED:20171218T130404Z
LAST-MODIFIED:20171218T130404Z
UID:2272-1513965600-1513969200@gyularef.hu
SUMMARY:Bűnbánati Istentisztelet (p)
DESCRIPTION:
URL:https://gyularef.hu/event/bunbanati-istentisztelet-p-5/
LOCATION:Gyülekezeti kisterem\, Petőfi tér 4.\, Gyula\, Békés\, 5700\, Magyarország
CATEGORIES:Bűnbánati istentisztelet
ATTACH;FMTTYPE=image/jpeg:https://gyularef.hu/wp-content/uploads/2017/12/advent4.jpg
END:VEVENT
BEGIN:VEVENT
DTSTART;TZID=Europe/Budapest:20171222T140000
DTEND;TZID=Europe/Budapest:20171222T150000
DTSTAMP:20260421T034534
CREATED:20171218T130547Z
LAST-MODIFIED:20171218T130547Z
UID:2276-1513951200-1513954800@gyularef.hu
SUMMARY:Ünnepi istentisztelet (Magvető Ref. Iskola)
DESCRIPTION:
URL:https://gyularef.hu/event/unnepi-istentisztelet-magveto-ref-iskola/
LOCATION:Templom\, Petőfi tér 4.\, Gyula\, Békés\, 5700\, Magyarország
CATEGORIES:Istentisztelet
ATTACH;FMTTYPE=image/jpeg:https://gyularef.hu/wp-content/uploads/2017/11/5_2.jpg
END:VEVENT
BEGIN:VEVENT
DTSTART;TZID=Europe/Budapest:20171221T180000
DTEND;TZID=Europe/Budapest:20171221T190000
DTSTAMP:20260421T034534
CREATED:20171218T130325Z
LAST-MODIFIED:20171218T130325Z
UID:2270-1513879200-1513882800@gyularef.hu
SUMMARY:Bűnbánati Istentisztelet (cs)
DESCRIPTION:
URL:https://gyularef.hu/event/bunbanati-istentisztelet-cs-5/
LOCATION:Gyülekezeti kisterem\, Petőfi tér 4.\, Gyula\, Békés\, 5700\, Magyarország
CATEGORIES:Bűnbánati istentisztelet
ATTACH;FMTTYPE=image/jpeg:https://gyularef.hu/wp-content/uploads/2017/12/advent4.jpg
END:VEVENT
BEGIN:VEVENT
DTSTART;TZID=Europe/Budapest:20171221T090000
DTEND;TZID=Europe/Budapest:20171221T110000
DTSTAMP:20260421T034534
CREATED:20171218T130504Z
LAST-MODIFIED:20171218T130504Z
UID:2274-1513846800-1513854000@gyularef.hu
SUMMARY:Ünnepi istentisztelet (Magvető Ref. Óvoda)
DESCRIPTION:
URL:https://gyularef.hu/event/unnepi-istentisztelet-magveto-ref-ovoda/
LOCATION:Templom\, Petőfi tér 4.\, Gyula\, Békés\, 5700\, Magyarország
CATEGORIES:Istentisztelet
ATTACH;FMTTYPE=image/jpeg:https://gyularef.hu/wp-content/uploads/2017/11/biblia-.jpg
END:VEVENT
END:VCALENDAR