BEGIN:VCALENDAR
VERSION:2.0
PRODID:-//Gyulai Református Egyházközség - ECPv6.11.2.1//NONSGML v1.0//EN
CALSCALE:GREGORIAN
METHOD:PUBLISH
X-WR-CALNAME:Gyulai Református Egyházközség
X-ORIGINAL-URL:https://gyularef.hu
X-WR-CALDESC:Events for Gyulai Református Egyházközség
REFRESH-INTERVAL;VALUE=DURATION:PT1H
X-Robots-Tag:noindex
X-PUBLISHED-TTL:PT1H
BEGIN:VTIMEZONE
TZID:Europe/Budapest
BEGIN:DAYLIGHT
TZOFFSETFROM:+0100
TZOFFSETTO:+0200
TZNAME:CEST
DTSTART:20170326T010000
END:DAYLIGHT
BEGIN:STANDARD
TZOFFSETFROM:+0200
TZOFFSETTO:+0100
TZNAME:CET
DTSTART:20171029T010000
END:STANDARD
END:VTIMEZONE
BEGIN:VEVENT
DTSTART;TZID=Europe/Budapest:20170521T170000
DTEND;TZID=Europe/Budapest:20170521T180000
DTSTAMP:20260422T234722
CREATED:20170514T121910Z
LAST-MODIFIED:20170514T121910Z
UID:1372-1495386000-1495389600@gyularef.hu
SUMMARY:Istentisztelet (du)
DESCRIPTION:
URL:https://gyularef.hu/event/istentisztelet-du-19/
LOCATION:Gyülekezeti kisterem\, Petőfi tér 4.\, Gyula\, Békés\, 5700\, Magyarország
CATEGORIES:Istentisztelet
ATTACH;FMTTYPE=image/jpeg:https://gyularef.hu/wp-content/uploads/2016/09/bibliaora.jpg
END:VEVENT
BEGIN:VEVENT
DTSTART;TZID=Europe/Budapest:20170521T100000
DTEND;TZID=Europe/Budapest:20170521T110000
DTSTAMP:20260422T234722
CREATED:20170514T121818Z
LAST-MODIFIED:20170514T121818Z
UID:1370-1495360800-1495364400@gyularef.hu
SUMMARY:Istentisztelet
DESCRIPTION:
URL:https://gyularef.hu/event/istentisztelet-18/
LOCATION:Templom\, Petőfi tér 4.\, Gyula\, Békés\, 5700\, Magyarország
CATEGORIES:Istentisztelet
ATTACH;FMTTYPE=image/jpeg:https://gyularef.hu/wp-content/uploads/2016/08/istentisztelet.jpg
END:VEVENT
BEGIN:VEVENT
DTSTART;TZID=Europe/Budapest:20170521T093000
DTEND;TZID=Europe/Budapest:20170521T095000
DTSTAMP:20260422T234722
CREATED:20170514T121730Z
LAST-MODIFIED:20170514T121730Z
UID:1368-1495359000-1495360200@gyularef.hu
SUMMARY:Imaközösség
DESCRIPTION:
URL:https://gyularef.hu/event/imakozosseg-27/
CATEGORIES:Imaközösség
ATTACH;FMTTYPE=image/jpeg:https://gyularef.hu/wp-content/uploads/2016/09/imakozosseg.jpg
END:VEVENT
BEGIN:VEVENT
DTSTART;TZID=Europe/Budapest:20170519T180000
DTEND;TZID=Europe/Budapest:20170519T190000
DTSTAMP:20260422T234722
CREATED:20170514T121643Z
LAST-MODIFIED:20170514T121643Z
UID:1366-1495216800-1495220400@gyularef.hu
SUMMARY:Fiatalok  bibliaköre
DESCRIPTION:
URL:https://gyularef.hu/event/fiatalok-bibliakore-29/
LOCATION:Kisház\, Petőfi tér 4.\, Gyula\, Békés\, 5700\, Magyarország
CATEGORIES:Fiatalok bibliaköre
ATTACH;FMTTYPE=image/jpeg:https://gyularef.hu/wp-content/uploads/2016/08/ofi.jpg
END:VEVENT
BEGIN:VEVENT
DTSTART;TZID=Europe/Budapest:20170519T150000
DTEND;TZID=Europe/Budapest:20170519T160000
DTSTAMP:20260422T234722
CREATED:20170514T121600Z
LAST-MODIFIED:20170514T121600Z
UID:1364-1495206000-1495209600@gyularef.hu
SUMMARY:Ifjúsági óra  Biztos Szikla klub
DESCRIPTION:
URL:https://gyularef.hu/event/ifjusagi-ora-biztos-szikla-klub-10/
LOCATION:Kisház\, Petőfi tér 4.\, Gyula\, Békés\, 5700\, Magyarország
CATEGORIES:Biztos Szikla klub
ATTACH;FMTTYPE=image/jpeg:https://gyularef.hu/wp-content/uploads/2016/08/biztos_szikla.jpg
END:VEVENT
BEGIN:VEVENT
DTSTART;TZID=Europe/Budapest:20170519T140000
DTEND;TZID=Europe/Budapest:20170519T150000
DTSTAMP:20260422T234722
CREATED:20170514T121514Z
LAST-MODIFIED:20170514T121514Z
UID:1362-1495202400-1495206000@gyularef.hu
SUMMARY:Konfirmációs óra  (ifjúsági)
DESCRIPTION:
URL:https://gyularef.hu/event/konfirmacios-ora-ifjusagi-35/
CATEGORIES:Bibliaóra
ATTACH;FMTTYPE=image/jpeg:https://gyularef.hu/wp-content/uploads/2016/09/biztos_szikla.jpg
END:VEVENT
BEGIN:VEVENT
DTSTART;TZID=Europe/Budapest:20170518T140000
DTEND;TZID=Europe/Budapest:20170518T150000
DTSTAMP:20260422T234722
CREATED:20170514T121436Z
LAST-MODIFIED:20170514T121436Z
UID:1360-1495116000-1495119600@gyularef.hu
SUMMARY:Konfirmációs óra  (ifjúsági)
DESCRIPTION:
URL:https://gyularef.hu/event/konfirmacios-ora-ifjusagi-34/
LOCATION:Gyülekezeti kisterem\, Petőfi tér 4.\, Gyula\, Békés\, 5700\, Magyarország
CATEGORIES:Bibliaóra
ATTACH;FMTTYPE=image/jpeg:https://gyularef.hu/wp-content/uploads/2016/09/biztos_szikla.jpg
END:VEVENT
BEGIN:VEVENT
DTSTART;TZID=Europe/Budapest:20170518T100000
DTEND;TZID=Europe/Budapest:20170518T110000
DTSTAMP:20260422T234722
CREATED:20170514T121339Z
LAST-MODIFIED:20170514T121339Z
UID:1358-1495101600-1495105200@gyularef.hu
SUMMARY:Baba-mama kör
DESCRIPTION:
URL:https://gyularef.hu/event/baba-mama-kor-22/
LOCATION:Kisház\, Petőfi tér 4.\, Gyula\, Békés\, 5700\, Magyarország
CATEGORIES:Baba-mama kör
ATTACH;FMTTYPE=image/jpeg:https://gyularef.hu/wp-content/uploads/2016/09/baba_mama.jpg
END:VEVENT
BEGIN:VEVENT
DTSTART;TZID=Europe/Budapest:20170517T180000
DTEND;TZID=Europe/Budapest:20170517T190000
DTSTAMP:20260422T234722
CREATED:20170514T121245Z
LAST-MODIFIED:20170514T121245Z
UID:1356-1495044000-1495047600@gyularef.hu
SUMMARY:Bibliaóra - Egyházlátogatás
DESCRIPTION:
URL:https://gyularef.hu/event/bibliaora-egyhazlatogatas/
LOCATION:Kálvin utcai gyülekezeti ház\, Kálvin u. 4.\, Gyula\, Békés\, 5700\, Magyarország
CATEGORIES:Bibliaóra
ATTACH;FMTTYPE=image/jpeg:https://gyularef.hu/wp-content/uploads/2016/09/bibliaora_sz.jpg
END:VEVENT
BEGIN:VEVENT
DTSTART;TZID=Europe/Budapest:20170514T170000
DTEND;TZID=Europe/Budapest:20170514T180000
DTSTAMP:20260422T234722
CREATED:20170509T150159Z
LAST-MODIFIED:20170509T150159Z
UID:1349-1494781200-1494784800@gyularef.hu
SUMMARY:Istentisztelet (du)
DESCRIPTION:
URL:https://gyularef.hu/event/istentisztelet-du-18/
LOCATION:Gyülekezeti kisterem\, Petőfi tér 4.\, Gyula\, Békés\, 5700\, Magyarország
CATEGORIES:Istentisztelet
ATTACH;FMTTYPE=image/jpeg:https://gyularef.hu/wp-content/uploads/2017/01/biblia.jpg
END:VEVENT
BEGIN:VEVENT
DTSTART;TZID=Europe/Budapest:20170514T100000
DTEND;TZID=Europe/Budapest:20170514T110000
DTSTAMP:20260422T234722
CREATED:20170509T150107Z
LAST-MODIFIED:20170509T150107Z
UID:1347-1494756000-1494759600@gyularef.hu
SUMMARY:Istentisztelet
DESCRIPTION:
URL:https://gyularef.hu/event/istentisztelet-17/
LOCATION:Templom\, Petőfi tér 4.\, Gyula\, Békés\, 5700\, Magyarország
CATEGORIES:Istentisztelet
ATTACH;FMTTYPE=image/jpeg:https://gyularef.hu/wp-content/uploads/2016/08/istentisztelet.jpg
END:VEVENT
BEGIN:VEVENT
DTSTART;TZID=Europe/Budapest:20170514T093000
DTEND;TZID=Europe/Budapest:20170514T095000
DTSTAMP:20260422T234722
CREATED:20170509T150017Z
LAST-MODIFIED:20170509T150017Z
UID:1345-1494754200-1494755400@gyularef.hu
SUMMARY:Imaközösség
DESCRIPTION:
URL:https://gyularef.hu/event/imakozosseg-26/
LOCATION:Gyülekezeti kisterem\, Petőfi tér 4.\, Gyula\, Békés\, 5700\, Magyarország
CATEGORIES:Imaközösség
ATTACH;FMTTYPE=image/jpeg:https://gyularef.hu/wp-content/uploads/2016/09/imakozosseg.jpg
END:VEVENT
BEGIN:VEVENT
DTSTART;TZID=Europe/Budapest:20170513T090000
DTEND;TZID=Europe/Budapest:20170513T130000
DTSTAMP:20260422T234722
CREATED:20170509T145917Z
LAST-MODIFIED:20170509T145917Z
UID:1342-1494666000-1494680400@gyularef.hu
SUMMARY:Három egyházmegye  találkozója
DESCRIPTION:
URL:https://gyularef.hu/event/harom-egyhazmegye-talalkozoja/
LOCATION:Református templom – Békés\, Békés\, Magyarország
CATEGORIES:Istentisztelet
ATTACH;FMTTYPE=image/jpeg:https://gyularef.hu/wp-content/uploads/2016/09/bibliaora.jpg
END:VEVENT
BEGIN:VEVENT
DTSTART;TZID=Europe/Budapest:20170512T180000
DTEND;TZID=Europe/Budapest:20170512T190000
DTSTAMP:20260422T234722
CREATED:20170509T145725Z
LAST-MODIFIED:20170509T145725Z
UID:1340-1494612000-1494615600@gyularef.hu
SUMMARY:Fiatalok  bibliaköre
DESCRIPTION:
URL:https://gyularef.hu/event/fiatalok-bibliakore-28/
LOCATION:Kisház\, Petőfi tér 4.\, Gyula\, Békés\, 5700\, Magyarország
CATEGORIES:Fiatalok bibliaköre
ATTACH;FMTTYPE=image/jpeg:https://gyularef.hu/wp-content/uploads/2016/08/ofi.jpg
END:VEVENT
BEGIN:VEVENT
DTSTART;TZID=Europe/Budapest:20170512T150000
DTEND;TZID=Europe/Budapest:20170512T160000
DTSTAMP:20260422T234722
CREATED:20170509T145638Z
LAST-MODIFIED:20170509T145638Z
UID:1338-1494601200-1494604800@gyularef.hu
SUMMARY:Ifjúsági óra  Biztos Szikla klub
DESCRIPTION:
URL:https://gyularef.hu/event/ifjusagi-ora-biztos-szikla-klub-9/
CATEGORIES:Biztos Szikla klub
ATTACH;FMTTYPE=image/jpeg:https://gyularef.hu/wp-content/uploads/2016/08/biztos_szikla.jpg
END:VEVENT
BEGIN:VEVENT
DTSTART;TZID=Europe/Budapest:20170512T140000
DTEND;TZID=Europe/Budapest:20170512T150000
DTSTAMP:20260422T234722
CREATED:20170509T145533Z
LAST-MODIFIED:20170509T145533Z
UID:1336-1494597600-1494601200@gyularef.hu
SUMMARY:Konfirmációs óra  (ifjúsági)
DESCRIPTION:
URL:https://gyularef.hu/event/konfirmacios-ora-ifjusagi-33/
LOCATION:Gyülekezeti kisterem\, Petőfi tér 4.\, Gyula\, Békés\, 5700\, Magyarország
CATEGORIES:Biztos Szikla klub
ATTACH;FMTTYPE=image/jpeg:https://gyularef.hu/wp-content/uploads/2016/09/biztos_szikla.jpg
END:VEVENT
BEGIN:VEVENT
DTSTART;TZID=Europe/Budapest:20170511T140000
DTEND;TZID=Europe/Budapest:20170511T150000
DTSTAMP:20260422T234722
CREATED:20170509T145435Z
LAST-MODIFIED:20170509T145435Z
UID:1334-1494511200-1494514800@gyularef.hu
SUMMARY:Konfirmációs óra  (ifjúsági)
DESCRIPTION:
URL:https://gyularef.hu/event/konfirmacios-ora-ifjusagi-32/
LOCATION:Gyülekezeti kisterem\, Petőfi tér 4.\, Gyula\, Békés\, 5700\, Magyarország
CATEGORIES:Biztos Szikla klub
ATTACH;FMTTYPE=image/jpeg:https://gyularef.hu/wp-content/uploads/2016/09/biztos_szikla.jpg
END:VEVENT
BEGIN:VEVENT
DTSTART;TZID=Europe/Budapest:20170511T100000
DTEND;TZID=Europe/Budapest:20170511T110000
DTSTAMP:20260422T234722
CREATED:20170509T145317Z
LAST-MODIFIED:20170509T145317Z
UID:1332-1494496800-1494500400@gyularef.hu
SUMMARY:Baba-mama kör
DESCRIPTION:
URL:https://gyularef.hu/event/baba-mama-kor-21/
LOCATION:Kisház\, Petőfi tér 4.\, Gyula\, Békés\, 5700\, Magyarország
CATEGORIES:Baba-mama kör
ATTACH;FMTTYPE=image/jpeg:https://gyularef.hu/wp-content/uploads/2016/09/baba_mama.jpg
END:VEVENT
BEGIN:VEVENT
DTSTART;TZID=Europe/Budapest:20170510T180000
DTEND;TZID=Europe/Budapest:20170510T190000
DTSTAMP:20260422T234722
CREATED:20170509T145235Z
LAST-MODIFIED:20170509T145235Z
UID:1330-1494439200-1494442800@gyularef.hu
SUMMARY:Bibliaóra
DESCRIPTION:
URL:https://gyularef.hu/event/bibliaora-6/
LOCATION:Kálvin utcai gyülekezeti ház\, Kálvin u. 4.\, Gyula\, Békés\, 5700\, Magyarország
CATEGORIES:Bibliaóra
END:VEVENT
BEGIN:VEVENT
DTSTART;TZID=Europe/Budapest:20170507T170000
DTEND;TZID=Europe/Budapest:20170507T180000
DTSTAMP:20260422T234722
CREATED:20170502T054309Z
LAST-MODIFIED:20170502T054309Z
UID:1323-1494176400-1494180000@gyularef.hu
SUMMARY:Istentisztelet (du)
DESCRIPTION:
URL:https://gyularef.hu/event/istentisztelet-17du/
LOCATION:Gyülekezeti kisterem\, Petőfi tér 4.\, Gyula\, Békés\, 5700\, Magyarország
CATEGORIES:Istentisztelet
ATTACH;FMTTYPE=image/jpeg:https://gyularef.hu/wp-content/uploads/2017/01/biblia.jpg
END:VEVENT
BEGIN:VEVENT
DTSTART;TZID=Europe/Budapest:20170507T100000
DTEND;TZID=Europe/Budapest:20170507T120000
DTSTAMP:20260422T234722
CREATED:20170502T054147Z
LAST-MODIFIED:20170502T054147Z
UID:1321-1494151200-1494158400@gyularef.hu
SUMMARY:Családi istentisztelet - Anyák napja
DESCRIPTION:
URL:https://gyularef.hu/event/csaladi-istentisztelet-anyak-napja/
LOCATION:Templom\, Petőfi tér 4.\, Gyula\, Békés\, 5700\, Magyarország
CATEGORIES:Istentisztelet
ATTACH;FMTTYPE=image/jpeg:https://gyularef.hu/wp-content/uploads/2016/08/istentisztelet.jpg
END:VEVENT
BEGIN:VEVENT
DTSTART;TZID=Europe/Budapest:20170507T093000
DTEND;TZID=Europe/Budapest:20170507T095000
DTSTAMP:20260422T234722
CREATED:20170502T054050Z
LAST-MODIFIED:20170502T054050Z
UID:1319-1494149400-1494150600@gyularef.hu
SUMMARY:Imaközösség
DESCRIPTION:
URL:https://gyularef.hu/event/imakozosseg-25/
LOCATION:Gyülekezeti kisterem\, Petőfi tér 4.\, Gyula\, Békés\, 5700\, Magyarország
CATEGORIES:Imaközösség
ATTACH;FMTTYPE=image/jpeg:https://gyularef.hu/wp-content/uploads/2016/09/imakozosseg.jpg
END:VEVENT
BEGIN:VEVENT
DTSTART;TZID=Europe/Budapest:20170505T180000
DTEND;TZID=Europe/Budapest:20170505T190000
DTSTAMP:20260422T234722
CREATED:20170502T053956Z
LAST-MODIFIED:20170502T053956Z
UID:1317-1494007200-1494010800@gyularef.hu
SUMMARY:Fiatalok  bibliaköre
DESCRIPTION:
URL:https://gyularef.hu/event/fiatalok-bibliakore-27/
LOCATION:Kisház\, Petőfi tér 4.\, Gyula\, Békés\, 5700\, Magyarország
CATEGORIES:Fiatalok bibliaköre
ATTACH;FMTTYPE=image/jpeg:https://gyularef.hu/wp-content/uploads/2016/08/ofi.jpg
END:VEVENT
BEGIN:VEVENT
DTSTART;TZID=Europe/Budapest:20170505T150000
DTEND;TZID=Europe/Budapest:20170505T160000
DTSTAMP:20260422T234722
CREATED:20170502T053855Z
LAST-MODIFIED:20170502T053855Z
UID:1315-1493996400-1494000000@gyularef.hu
SUMMARY:Ifjúsági óra  Biztos Szikla klub
DESCRIPTION:
URL:https://gyularef.hu/event/ifjusagi-ora-biztos-szikla-klub-8/
LOCATION:Kisház\, Petőfi tér 4.\, Gyula\, Békés\, 5700\, Magyarország
CATEGORIES:Biztos Szikla klub
ATTACH;FMTTYPE=image/jpeg:https://gyularef.hu/wp-content/uploads/2016/08/biztos_szikla.jpg
END:VEVENT
BEGIN:VEVENT
DTSTART;TZID=Europe/Budapest:20170505T140000
DTEND;TZID=Europe/Budapest:20170505T150000
DTSTAMP:20260422T234722
CREATED:20170502T053756Z
LAST-MODIFIED:20170502T053756Z
UID:1313-1493992800-1493996400@gyularef.hu
SUMMARY:Konfirmációs óra  (ifjúsági)
DESCRIPTION:
URL:https://gyularef.hu/event/konfirmacios-ora-ifjusagi-31/
LOCATION:Gyülekezeti kisterem\, Petőfi tér 4.\, Gyula\, Békés\, 5700\, Magyarország
CATEGORIES:Istentisztelet
ATTACH;FMTTYPE=image/jpeg:https://gyularef.hu/wp-content/uploads/2016/09/biztos_szikla.jpg
END:VEVENT
BEGIN:VEVENT
DTSTART;TZID=Europe/Budapest:20170504T140000
DTEND;TZID=Europe/Budapest:20170504T150000
DTSTAMP:20260422T234722
CREATED:20170502T053704Z
LAST-MODIFIED:20170502T053704Z
UID:1311-1493906400-1493910000@gyularef.hu
SUMMARY:Konfirmációs óra  (ifjúsági)
DESCRIPTION:
URL:https://gyularef.hu/event/konfirmacios-ora-ifjusagi-30/
LOCATION:Gyülekezeti kisterem\, Petőfi tér 4.\, Gyula\, Békés\, 5700\, Magyarország
CATEGORIES:Istentisztelet
ATTACH;FMTTYPE=image/jpeg:https://gyularef.hu/wp-content/uploads/2016/09/biztos_szikla.jpg
END:VEVENT
BEGIN:VEVENT
DTSTART;TZID=Europe/Budapest:20170504T100000
DTEND;TZID=Europe/Budapest:20170504T110000
DTSTAMP:20260422T234722
CREATED:20170502T053546Z
LAST-MODIFIED:20170502T053546Z
UID:1309-1493892000-1493895600@gyularef.hu
SUMMARY:Baba-mama kör
DESCRIPTION:
URL:https://gyularef.hu/event/baba-mama-kor-20/
LOCATION:Kisház\, Petőfi tér 4.\, Gyula\, Békés\, 5700\, Magyarország
CATEGORIES:Baba-mama kör
ATTACH;FMTTYPE=image/jpeg:https://gyularef.hu/wp-content/uploads/2016/09/baba_mama.jpg
END:VEVENT
BEGIN:VEVENT
DTSTART;TZID=Europe/Budapest:20170503T180000
DTEND;TZID=Europe/Budapest:20170503T190000
DTSTAMP:20260422T234722
CREATED:20170502T053452Z
LAST-MODIFIED:20170502T053452Z
UID:1307-1493834400-1493838000@gyularef.hu
SUMMARY:Bibliaóra
DESCRIPTION:
URL:https://gyularef.hu/event/bibliaora-5/
LOCATION:Kálvin utcai gyülekezeti ház\, Kálvin u. 4.\, Gyula\, Békés\, 5700\, Magyarország
CATEGORIES:Bibliaóra
ATTACH;FMTTYPE=image/jpeg:https://gyularef.hu/wp-content/uploads/2016/09/bibliaora_sz.jpg
END:VEVENT
BEGIN:VEVENT
DTSTART;TZID=Europe/Budapest:20170502T080000
DTEND;TZID=Europe/Budapest:20170502T170000
DTSTAMP:20260422T234722
CREATED:20170502T053411Z
LAST-MODIFIED:20170502T053411Z
UID:1305-1493712000-1493744400@gyularef.hu
SUMMARY:Hétkezdő áhítat
DESCRIPTION:
URL:https://gyularef.hu/event/hetkezdo-ahitat/
LOCATION:Templom\, Petőfi tér 4.\, Gyula\, Békés\, 5700\, Magyarország
CATEGORIES:Istentisztelet
ATTACH;FMTTYPE=image/jpeg:https://gyularef.hu/wp-content/uploads/2016/09/imakozosseg.jpg
END:VEVENT
BEGIN:VEVENT
DTSTART;TZID=Europe/Budapest:20170430T170000
DTEND;TZID=Europe/Budapest:20170430T180000
DTSTAMP:20260422T234722
CREATED:20170427T170257Z
LAST-MODIFIED:20170427T170257Z
UID:1300-1493571600-1493575200@gyularef.hu
SUMMARY:Istentisztelet (du)
DESCRIPTION:
URL:https://gyularef.hu/event/istentisztelet-du-17/
LOCATION:Gyülekezeti kisterem\, Petőfi tér 4.\, Gyula\, Békés\, 5700\, Magyarország
CATEGORIES:Istentisztelet
ATTACH;FMTTYPE=image/jpeg:https://gyularef.hu/wp-content/uploads/2016/09/bibliaora.jpg
END:VEVENT
END:VCALENDAR