BEGIN:VCALENDAR
VERSION:2.0
PRODID:-//Gyulai Református Egyházközség - ECPv6.11.2.1//NONSGML v1.0//EN
CALSCALE:GREGORIAN
METHOD:PUBLISH
X-WR-CALNAME:Gyulai Református Egyházközség
X-ORIGINAL-URL:https://gyularef.hu
X-WR-CALDESC:Events for Gyulai Református Egyházközség
REFRESH-INTERVAL;VALUE=DURATION:PT1H
X-Robots-Tag:noindex
X-PUBLISHED-TTL:PT1H
BEGIN:VTIMEZONE
TZID:Europe/Budapest
BEGIN:DAYLIGHT
TZOFFSETFROM:+0100
TZOFFSETTO:+0200
TZNAME:CEST
DTSTART:20160327T010000
END:DAYLIGHT
BEGIN:STANDARD
TZOFFSETFROM:+0200
TZOFFSETTO:+0100
TZNAME:CET
DTSTART:20161030T010000
END:STANDARD
END:VTIMEZONE
BEGIN:VEVENT
DTSTART;TZID=Europe/Budapest:20161125T150000
DTEND;TZID=Europe/Budapest:20161125T160000
DTSTAMP:20260424T014830
CREATED:20161120T201141Z
LAST-MODIFIED:20161120T201141Z
UID:439-1480086000-1480089600@gyularef.hu
SUMMARY:Biztos Szikla klub
DESCRIPTION:
URL:https://gyularef.hu/event/biztos-szikla-klub-8/
LOCATION:Kisház\, Petőfi tér 4.\, Gyula\, Békés\, 5700\, Magyarország
CATEGORIES:Biztos Szikla klub
ATTACH;FMTTYPE=image/jpeg:https://gyularef.hu/wp-content/uploads/2016/08/biztos_szikla.jpg
END:VEVENT
BEGIN:VEVENT
DTSTART;TZID=Europe/Budapest:20161125T140000
DTEND;TZID=Europe/Budapest:20161125T150000
DTSTAMP:20260424T014830
CREATED:20161120T201829Z
LAST-MODIFIED:20161120T201829Z
UID:443-1480082400-1480086000@gyularef.hu
SUMMARY:Konfirmációs óra (Ifjúsági)
DESCRIPTION:
URL:https://gyularef.hu/event/konfirmacios-ora-ifjusagi-4/
LOCATION:Gyülekezeti kisterem\, Petőfi tér 4.\, Gyula\, Békés\, 5700\, Magyarország
CATEGORIES:Bibliaóra
ATTACH;FMTTYPE=image/jpeg:https://gyularef.hu/wp-content/uploads/2016/09/bibliaora.jpg
END:VEVENT
BEGIN:VEVENT
DTSTART;TZID=Europe/Budapest:20161124T180000
DTEND;TZID=Europe/Budapest:20161124T190000
DTSTAMP:20260424T014830
CREATED:20161120T195944Z
LAST-MODIFIED:20161120T195944Z
UID:427-1480010400-1480014000@gyularef.hu
SUMMARY:Bűnbánati istentisztelet
DESCRIPTION:
URL:https://gyularef.hu/event/bunbanati-istentisztelet-5/
LOCATION:Kálvin utcai gyülekezeti ház\, Kálvin u. 4.\, Gyula\, Békés\, 5700\, Magyarország
CATEGORIES:Bűnbánati istentisztelet
ATTACH;FMTTYPE=image/jpeg:https://gyularef.hu/wp-content/uploads/2016/08/istentisztelet.jpg
END:VEVENT
BEGIN:VEVENT
DTSTART;TZID=Europe/Budapest:20161124T140000
DTEND;TZID=Europe/Budapest:20161124T150000
DTSTAMP:20260424T014830
CREATED:20161120T201640Z
LAST-MODIFIED:20161120T201640Z
UID:441-1479996000-1479999600@gyularef.hu
SUMMARY:Konfirmációs óra (Ifjúsági)
DESCRIPTION:
URL:https://gyularef.hu/event/konfirmacios-ora-ifjusagi-3/
LOCATION:Gyülekezeti kisterem\, Petőfi tér 4.\, Gyula\, Békés\, 5700\, Magyarország
CATEGORIES:Bibliaóra
ATTACH;FMTTYPE=image/jpeg:https://gyularef.hu/wp-content/uploads/2016/09/bibliaora.jpg
END:VEVENT
BEGIN:VEVENT
DTSTART;TZID=Europe/Budapest:20161124T100000
DTEND;TZID=Europe/Budapest:20161124T110000
DTSTAMP:20260424T014830
CREATED:20161120T200831Z
LAST-MODIFIED:20161120T200831Z
UID:437-1479981600-1479985200@gyularef.hu
SUMMARY:Baba - mama kör
DESCRIPTION:
URL:https://gyularef.hu/event/baba-mama-kor-7/
LOCATION:Kisház\, Petőfi tér 4.\, Gyula\, Békés\, 5700\, Magyarország
CATEGORIES:Baba-mama kör
ATTACH;FMTTYPE=image/jpeg:https://gyularef.hu/wp-content/uploads/2016/09/baba_mama.jpg
END:VEVENT
BEGIN:VEVENT
DTSTART;TZID=Europe/Budapest:20161123T180000
DTEND;TZID=Europe/Budapest:20161123T190000
DTSTAMP:20260424T014830
CREATED:20161120T200322Z
LAST-MODIFIED:20161120T200322Z
UID:431-1479924000-1479927600@gyularef.hu
SUMMARY:Bibliaóra - Újratervezés
DESCRIPTION:
URL:https://gyularef.hu/event/bibliaora-ujratervezes-3/
LOCATION:Kálvin utcai gyülekezeti ház\, Kálvin u. 4.\, Gyula\, Békés\, 5700\, Magyarország
CATEGORIES:Bibliaóra
ATTACH;FMTTYPE=image/jpeg:https://gyularef.hu/wp-content/uploads/2016/09/bibliaora_sz.jpg
END:VEVENT
BEGIN:VEVENT
DTSTART;TZID=Europe/Budapest:20161122T180000
DTEND;TZID=Europe/Budapest:20161122T190000
DTSTAMP:20260424T014830
CREATED:20161120T195848Z
LAST-MODIFIED:20161120T195848Z
UID:425-1479837600-1479841200@gyularef.hu
SUMMARY:Bűnbánati istentisztelet
DESCRIPTION:
URL:https://gyularef.hu/event/bunbanati-istentisztelet-4/
LOCATION:Kálvin utcai gyülekezeti ház\, Kálvin u. 4.\, Gyula\, Békés\, 5700\, Magyarország
CATEGORIES:Bűnbánati istentisztelet
ATTACH;FMTTYPE=image/jpeg:https://gyularef.hu/wp-content/uploads/2016/08/istentisztelet.jpg
END:VEVENT
BEGIN:VEVENT
DTSTART;TZID=Europe/Budapest:20161121T180000
DTEND;TZID=Europe/Budapest:20161121T190000
DTSTAMP:20260424T014830
CREATED:20161120T195758Z
LAST-MODIFIED:20161120T195758Z
UID:423-1479751200-1479754800@gyularef.hu
SUMMARY:Bűnbánati istentisztelet
DESCRIPTION:
URL:https://gyularef.hu/event/bunbanati-istentisztelet-3/
LOCATION:Kálvin utcai gyülekezeti ház\, Kálvin u. 4.\, Gyula\, Békés\, 5700\, Magyarország
CATEGORIES:Bűnbánati istentisztelet
ATTACH;FMTTYPE=image/jpeg:https://gyularef.hu/wp-content/uploads/2016/08/istentisztelet.jpg
END:VEVENT
BEGIN:VEVENT
DTSTART;TZID=Europe/Budapest:20161113T170000
DTEND;TZID=Europe/Budapest:20161113T180000
DTSTAMP:20260424T014830
CREATED:20161106T171127Z
LAST-MODIFIED:20161106T171127Z
UID:420-1479056400-1479060000@gyularef.hu
SUMMARY:Istentisztelet (du)
DESCRIPTION:
URL:https://gyularef.hu/event/istentisztelet-du-6/
LOCATION:Gyülekezeti kisterem\, Petőfi tér 4.\, Gyula\, Békés\, 5700\, Magyarország
CATEGORIES:Istentisztelet
ATTACH;FMTTYPE=image/jpeg:https://gyularef.hu/wp-content/uploads/2016/09/bibliaora.jpg
END:VEVENT
BEGIN:VEVENT
DTSTART;TZID=Europe/Budapest:20161113T100000
DTEND;TZID=Europe/Budapest:20161113T110000
DTSTAMP:20260424T014830
CREATED:20161106T171037Z
LAST-MODIFIED:20161106T171037Z
UID:418-1479031200-1479034800@gyularef.hu
SUMMARY:Családi istentisztelet
DESCRIPTION:
URL:https://gyularef.hu/event/csaladi-istentisztelet/
LOCATION:Templom\, Petőfi tér 4.\, Gyula\, Békés\, 5700\, Magyarország
CATEGORIES:Istentisztelet
ATTACH;FMTTYPE=image/jpeg:https://gyularef.hu/wp-content/uploads/2016/08/istentisztelet.jpg
END:VEVENT
BEGIN:VEVENT
DTSTART;TZID=Europe/Budapest:20161113T091500
DTEND;TZID=Europe/Budapest:20161113T095000
DTSTAMP:20260424T014830
CREATED:20161106T170944Z
LAST-MODIFIED:20161106T170944Z
UID:416-1479028500-1479030600@gyularef.hu
SUMMARY:Imaközösség
DESCRIPTION:
URL:https://gyularef.hu/event/imakozosseg-7/
LOCATION:Gyülekezeti kisterem\, Petőfi tér 4.\, Gyula\, Békés\, 5700\, Magyarország
CATEGORIES:Imaközösség
ATTACH;FMTTYPE=image/jpeg:https://gyularef.hu/wp-content/uploads/2016/09/imakozosseg.jpg
END:VEVENT
BEGIN:VEVENT
DTSTART;TZID=Europe/Budapest:20161111T180000
DTEND;TZID=Europe/Budapest:20161111T190000
DTSTAMP:20260424T014830
CREATED:20161106T170810Z
LAST-MODIFIED:20161106T170810Z
UID:414-1478887200-1478890800@gyularef.hu
SUMMARY:Fiatalok bibliaköre
DESCRIPTION:
URL:https://gyularef.hu/event/fiatalok-bibliakore-9/
LOCATION:Kisház\, Petőfi tér 4.\, Gyula\, Békés\, 5700\, Magyarország
CATEGORIES:Fiatalok bibliaköre
ATTACH;FMTTYPE=image/jpeg:https://gyularef.hu/wp-content/uploads/2016/08/ofi.jpg
END:VEVENT
BEGIN:VEVENT
DTSTART;TZID=Europe/Budapest:20161111T150000
DTEND;TZID=Europe/Budapest:20161111T160000
DTSTAMP:20260424T014830
CREATED:20161106T170703Z
LAST-MODIFIED:20161106T170703Z
UID:412-1478876400-1478880000@gyularef.hu
SUMMARY:Biztos Szikla klub
DESCRIPTION:
URL:https://gyularef.hu/event/biztos-szikla-klub-7/
CATEGORIES:Biztos Szikla klub
ATTACH;FMTTYPE=image/jpeg:https://gyularef.hu/wp-content/uploads/2016/08/biztos_szikla.jpg
END:VEVENT
BEGIN:VEVENT
DTSTART;TZID=Europe/Budapest:20161110T180000
DTEND;TZID=Europe/Budapest:20161110T190000
DTSTAMP:20260424T014830
CREATED:20161106T170556Z
LAST-MODIFIED:20161106T170556Z
UID:410-1478800800-1478804400@gyularef.hu
SUMMARY:Református hit alapjai kurzus
DESCRIPTION:
URL:https://gyularef.hu/event/reformatus-hit-alapjai-kurzus-2/
CATEGORIES:Bibliaóra
ATTACH;FMTTYPE=image/jpeg:https://gyularef.hu/wp-content/uploads/2016/08/templomunk.jpg
END:VEVENT
BEGIN:VEVENT
DTSTART;TZID=Europe/Budapest:20161110T140000
DTEND;TZID=Europe/Budapest:20161110T150000
DTSTAMP:20260424T014830
CREATED:20161106T170435Z
LAST-MODIFIED:20161106T170435Z
UID:408-1478786400-1478790000@gyularef.hu
SUMMARY:Konfirmációs óra (ifjúsági)
DESCRIPTION:
URL:https://gyularef.hu/event/konfirmacios-ora-ifjusagi-2/
CATEGORIES:Bibliaóra
ATTACH;FMTTYPE=image/jpeg:https://gyularef.hu/wp-content/uploads/2016/09/biztos_szikla.jpg
END:VEVENT
BEGIN:VEVENT
DTSTART;TZID=Europe/Budapest:20161110T100000
DTEND;TZID=Europe/Budapest:20161110T110000
DTSTAMP:20260424T014830
CREATED:20161106T170315Z
LAST-MODIFIED:20161106T170315Z
UID:406-1478772000-1478775600@gyularef.hu
SUMMARY:Baba - mama kör
DESCRIPTION:
URL:https://gyularef.hu/event/baba-mama-kor-6/
LOCATION:Kisház\, Petőfi tér 4.\, Gyula\, Békés\, 5700\, Magyarország
CATEGORIES:Baba-mama kör
ATTACH;FMTTYPE=image/jpeg:https://gyularef.hu/wp-content/uploads/2016/09/baba_mama.jpg
END:VEVENT
BEGIN:VEVENT
DTSTART;TZID=Europe/Budapest:20161109T180000
DTEND;TZID=Europe/Budapest:20161109T190000
DTSTAMP:20260424T014830
CREATED:20161106T170227Z
LAST-MODIFIED:20161106T170227Z
UID:404-1478714400-1478718000@gyularef.hu
SUMMARY:Bibliaóra - Újratervezés
DESCRIPTION:
URL:https://gyularef.hu/event/bibliaora-ujratervezes-2/
LOCATION:Kálvin utcai gyülekezeti ház\, Kálvin u. 4.\, Gyula\, Békés\, 5700\, Magyarország
CATEGORIES:Bibliaóra
ATTACH;FMTTYPE=image/jpeg:https://gyularef.hu/wp-content/uploads/2016/09/bibliaora_sz.jpg
END:VEVENT
BEGIN:VEVENT
DTSTART;TZID=Europe/Budapest:20161107T180000
DTEND;TZID=Europe/Budapest:20161107T190000
DTSTAMP:20260424T014830
CREATED:20161106T170137Z
LAST-MODIFIED:20161106T170137Z
UID:402-1478541600-1478545200@gyularef.hu
SUMMARY:Szolgálók bibliaköre
DESCRIPTION:
URL:https://gyularef.hu/event/szolgalok-bibliakore/
LOCATION:Gyülekezeti kisterem\, Petőfi tér 4.\, Gyula\, Békés\, 5700\, Magyarország
CATEGORIES:Bibliaóra
ATTACH;FMTTYPE=image/jpeg:https://gyularef.hu/wp-content/uploads/2016/09/bibliaora.jpg
END:VEVENT
BEGIN:VEVENT
DTSTART;TZID=Europe/Budapest:20161106T170000
DTEND;TZID=Europe/Budapest:20161106T180000
DTSTAMP:20260424T014830
CREATED:20161102T070220Z
LAST-MODIFIED:20161102T070220Z
UID:395-1478451600-1478455200@gyularef.hu
SUMMARY:Istentisztelet (du)
DESCRIPTION:
URL:https://gyularef.hu/event/istentisztelet-du-5/
LOCATION:Gyülekezeti kisterem\, Petőfi tér 4.\, Gyula\, Békés\, 5700\, Magyarország
CATEGORIES:Istentisztelet
ATTACH;FMTTYPE=image/jpeg:https://gyularef.hu/wp-content/uploads/2016/09/bibliaora.jpg
END:VEVENT
BEGIN:VEVENT
DTSTART;TZID=Europe/Budapest:20161106T100000
DTEND;TZID=Europe/Budapest:20161106T110000
DTSTAMP:20260424T014830
CREATED:20161102T070015Z
LAST-MODIFIED:20161102T070015Z
UID:391-1478426400-1478430000@gyularef.hu
SUMMARY:Istentisztelet
DESCRIPTION:
URL:https://gyularef.hu/event/istentisztelet-6/
LOCATION:Templom\, Petőfi tér 4.\, Gyula\, Békés\, 5700\, Magyarország
CATEGORIES:Istentisztelet
ATTACH;FMTTYPE=image/jpeg:https://gyularef.hu/wp-content/uploads/2016/08/istentisztelet.jpg
END:VEVENT
BEGIN:VEVENT
DTSTART;TZID=Europe/Budapest:20161106T091500
DTEND;TZID=Europe/Budapest:20161106T095000
DTSTAMP:20260424T014830
CREATED:20161102T070118Z
LAST-MODIFIED:20161102T070118Z
UID:393-1478423700-1478425800@gyularef.hu
SUMMARY:Imaközösség
DESCRIPTION:
URL:https://gyularef.hu/event/imakozosseg-6/
LOCATION:Gyülekezeti kisterem\, Petőfi tér 4.\, Gyula\, Békés\, 5700\, Magyarország
CATEGORIES:Imaközösség
ATTACH;FMTTYPE=image/jpeg:https://gyularef.hu/wp-content/uploads/2016/09/imakozosseg.jpg
END:VEVENT
BEGIN:VEVENT
DTSTART;TZID=Europe/Budapest:20161104T180500
DTEND;TZID=Europe/Budapest:20161104T190000
DTSTAMP:20260424T014830
CREATED:20161102T065916Z
LAST-MODIFIED:20161102T065916Z
UID:389-1478282700-1478286000@gyularef.hu
SUMMARY:Fiatalok bibliaköre
DESCRIPTION:
URL:https://gyularef.hu/event/fiatalok-bibliakore-8/
LOCATION:Kisház\, Petőfi tér 4.\, Gyula\, Békés\, 5700\, Magyarország
CATEGORIES:Fiatalok bibliaköre
ATTACH;FMTTYPE=image/jpeg:https://gyularef.hu/wp-content/uploads/2016/08/ofi.jpg
END:VEVENT
BEGIN:VEVENT
DTSTART;TZID=Europe/Budapest:20161104T170000
DTEND;TZID=Europe/Budapest:20161104T180000
DTSTAMP:20260424T014830
CREATED:20161102T065737Z
LAST-MODIFIED:20161102T065737Z
UID:386-1478278800-1478282400@gyularef.hu
SUMMARY:56-os megemlékezés és és koncert
DESCRIPTION:
URL:https://gyularef.hu/event/56-os-megemlekezes-es-es-koncert/
LOCATION:Templom\, Petőfi tér 4.\, Gyula\, Békés\, 5700\, Magyarország
CATEGORIES:Koncert
ATTACH;FMTTYPE=image/jpeg:https://gyularef.hu/wp-content/uploads/2016/11/erkelkorus.jpg
END:VEVENT
BEGIN:VEVENT
DTSTART;TZID=Europe/Budapest:20161102T180000
DTEND;TZID=Europe/Budapest:20161102T190000
DTSTAMP:20260424T014830
CREATED:20161102T065444Z
LAST-MODIFIED:20161102T065805Z
UID:384-1478109600-1478113200@gyularef.hu
SUMMARY:Bibliaóra - Újratervezés
DESCRIPTION:
URL:https://gyularef.hu/event/bibliaora-ujratervezes/
LOCATION:Kálvin utcai gyülekezeti ház\, Kálvin u. 4.\, Gyula\, Békés\, 5700\, Magyarország
CATEGORIES:Bibliaóra
ATTACH;FMTTYPE=image/jpeg:https://gyularef.hu/wp-content/uploads/2016/09/bibliaora_sz.jpg
END:VEVENT
BEGIN:VEVENT
DTSTART;TZID=Europe/Budapest:20161023T170000
DTEND;TZID=Europe/Budapest:20161023T180000
DTSTAMP:20260424T014830
CREATED:20161016T141909Z
LAST-MODIFIED:20161016T141909Z
UID:381-1477242000-1477245600@gyularef.hu
SUMMARY:Istentisztelet (du)
DESCRIPTION:
URL:https://gyularef.hu/event/istentisztelet-du-4/
LOCATION:Gyülekezeti kisterem\, Petőfi tér 4.\, Gyula\, Békés\, 5700\, Magyarország
CATEGORIES:Istentisztelet
ATTACH;FMTTYPE=image/jpeg:https://gyularef.hu/wp-content/uploads/2016/09/bibliaora.jpg
END:VEVENT
BEGIN:VEVENT
DTSTART;TZID=Europe/Budapest:20161023T100000
DTEND;TZID=Europe/Budapest:20161023T104500
DTSTAMP:20260424T014830
CREATED:20161016T141755Z
LAST-MODIFIED:20161016T141755Z
UID:379-1477216800-1477219500@gyularef.hu
SUMMARY:Ünnepi istentisztelet
DESCRIPTION:
URL:https://gyularef.hu/event/unnepi-istentisztelet/
LOCATION:Templom\, Petőfi tér 4.\, Gyula\, Békés\, 5700\, Magyarország
CATEGORIES:Istentisztelet
ATTACH;FMTTYPE=image/jpeg:https://gyularef.hu/wp-content/uploads/2016/08/istentisztelet.jpg
END:VEVENT
BEGIN:VEVENT
DTSTART;TZID=Europe/Budapest:20161023T091500
DTEND;TZID=Europe/Budapest:20161023T094500
DTSTAMP:20260424T014830
CREATED:20161016T141659Z
LAST-MODIFIED:20161016T141659Z
UID:377-1477214100-1477215900@gyularef.hu
SUMMARY:Imaközösség
DESCRIPTION:
URL:https://gyularef.hu/event/imakozosseg-5/
LOCATION:Gyülekezeti kisterem\, Petőfi tér 4.\, Gyula\, Békés\, 5700\, Magyarország
CATEGORIES:Imaközösség
ATTACH;FMTTYPE=image/jpeg:https://gyularef.hu/wp-content/uploads/2016/09/imakozosseg.jpg
END:VEVENT
BEGIN:VEVENT
DTSTART;TZID=Europe/Budapest:20161022T100000
DTEND;TZID=Europe/Budapest:20161022T120000
DTSTAMP:20260424T014830
CREATED:20161016T141608Z
LAST-MODIFIED:20161016T141608Z
UID:375-1477130400-1477137600@gyularef.hu
SUMMARY:Csendesnap
DESCRIPTION:
URL:https://gyularef.hu/event/csendesnap/
LOCATION:Kálvin utcai gyülekezeti ház\, Kálvin u. 4.\, Gyula\, Békés\, 5700\, Magyarország
CATEGORIES:Csendesnap
ATTACH;FMTTYPE=image/jpeg:https://gyularef.hu/wp-content/uploads/2016/09/bibliaora.jpg
END:VEVENT
BEGIN:VEVENT
DTSTART;TZID=Europe/Budapest:20161022T090000
DTEND;TZID=Europe/Budapest:20161022T120000
DTSTAMP:20260424T014830
CREATED:20161016T141515Z
LAST-MODIFIED:20161016T141515Z
UID:371-1477126800-1477137600@gyularef.hu
SUMMARY:Egyházmegye presbiteri és gyülekezeti konferencia
DESCRIPTION:
URL:https://gyularef.hu/event/egyhazmegye-presbiteri-es-gyulekezeti-konferencia/
LOCATION:Református templom – Békéscsaba\, Békéscsaba\, 5600\, Magyarország
CATEGORIES:Csendesnap
ATTACH;FMTTYPE=image/jpeg:https://gyularef.hu/wp-content/uploads/2016/09/bibliaora_sz.jpg
END:VEVENT
BEGIN:VEVENT
DTSTART;TZID=Europe/Budapest:20161021T180000
DTEND;TZID=Europe/Budapest:20161021T190000
DTSTAMP:20260424T014830
CREATED:20161016T141251Z
LAST-MODIFIED:20161016T141251Z
UID:369-1477072800-1477076400@gyularef.hu
SUMMARY:Fiatalok bibliaköre
DESCRIPTION:
URL:https://gyularef.hu/event/fiatalok-bibliakore-7/
LOCATION:Kisház\, Petőfi tér 4.\, Gyula\, Békés\, 5700\, Magyarország
CATEGORIES:Fiatalok bibliaköre
ATTACH;FMTTYPE=image/jpeg:https://gyularef.hu/wp-content/uploads/2016/08/ofi.jpg
END:VEVENT
END:VCALENDAR