BEGIN:VCALENDAR
VERSION:2.0
PRODID:-//Gyulai Református Egyházközség - ECPv6.11.2.1//NONSGML v1.0//EN
CALSCALE:GREGORIAN
METHOD:PUBLISH
X-ORIGINAL-URL:https://gyularef.hu
X-WR-CALDESC:Events for Gyulai Református Egyházközség
REFRESH-INTERVAL;VALUE=DURATION:PT1H
X-Robots-Tag:noindex
X-PUBLISHED-TTL:PT1H
BEGIN:VTIMEZONE
TZID:Europe/Budapest
BEGIN:DAYLIGHT
TZOFFSETFROM:+0100
TZOFFSETTO:+0200
TZNAME:CEST
DTSTART:20170326T010000
END:DAYLIGHT
BEGIN:STANDARD
TZOFFSETFROM:+0200
TZOFFSETTO:+0100
TZNAME:CET
DTSTART:20171029T010000
END:STANDARD
END:VTIMEZONE
BEGIN:VEVENT
DTSTART;TZID=Europe/Budapest:20170802T180000
DTEND;TZID=Europe/Budapest:20170802T190000
DTSTAMP:20260421T064442
CREATED:20170731T062801Z
LAST-MODIFIED:20170731T062801Z
UID:1628-1501696800-1501700400@gyularef.hu
SUMMARY:Bibliaóra
DESCRIPTION:
URL:https://gyularef.hu/event/bibliaora-9/
LOCATION:Templom\, Petőfi tér 4.\, Gyula\, Békés\, 5700\, Magyarország
CATEGORIES:Bibliaóra
ATTACH;FMTTYPE=image/jpeg:https://gyularef.hu/wp-content/uploads/2016/09/bibliaora_sz.jpg
END:VEVENT
BEGIN:VEVENT
DTSTART;TZID=Europe/Budapest:20170804T150000
DTEND;TZID=Europe/Budapest:20170804T160000
DTSTAMP:20260421T064442
CREATED:20170731T062901Z
LAST-MODIFIED:20170731T062901Z
UID:1630-1501858800-1501862400@gyularef.hu
SUMMARY:Ifjúsági óra - Biztos Szikla klub
DESCRIPTION:
URL:https://gyularef.hu/event/ifjusagi-ora-biztos-szikla-klub-18/
LOCATION:Kisház\, Petőfi tér 4.\, Gyula\, Békés\, 5700\, Magyarország
CATEGORIES:Biztos Szikla klub
ATTACH;FMTTYPE=image/jpeg:https://gyularef.hu/wp-content/uploads/2016/08/biztos_szikla.jpg
END:VEVENT
BEGIN:VEVENT
DTSTART;TZID=Europe/Budapest:20170804T180000
DTEND;TZID=Europe/Budapest:20170804T190000
DTSTAMP:20260421T064442
CREATED:20170731T062945Z
LAST-MODIFIED:20170731T062945Z
UID:1632-1501869600-1501873200@gyularef.hu
SUMMARY:Fiatalok Bibliaköre
DESCRIPTION:
URL:https://gyularef.hu/event/fiatalok-bibliakore-38/
LOCATION:Kisház\, Petőfi tér 4.\, Gyula\, Békés\, 5700\, Magyarország
CATEGORIES:Fiatalok bibliaköre
ATTACH;FMTTYPE=image/jpeg:https://gyularef.hu/wp-content/uploads/2016/08/ofi.jpg
END:VEVENT
BEGIN:VEVENT
DTSTART;TZID=Europe/Budapest:20170806T093000
DTEND;TZID=Europe/Budapest:20170806T095000
DTSTAMP:20260421T064442
CREATED:20170731T063043Z
LAST-MODIFIED:20170731T063043Z
UID:1634-1502011800-1502013000@gyularef.hu
SUMMARY:Imaközösség
DESCRIPTION:
URL:https://gyularef.hu/event/imakozosseg-37/
LOCATION:Gyülekezeti kisterem\, Petőfi tér 4.\, Gyula\, Békés\, 5700\, Magyarország
CATEGORIES:Imaközösség
ATTACH;FMTTYPE=image/jpeg:https://gyularef.hu/wp-content/uploads/2016/09/imakozosseg.jpg
END:VEVENT
BEGIN:VEVENT
DTSTART;TZID=Europe/Budapest:20170806T100000
DTEND;TZID=Europe/Budapest:20170806T110000
DTSTAMP:20260421T064442
CREATED:20170731T063124Z
LAST-MODIFIED:20170731T063124Z
UID:1636-1502013600-1502017200@gyularef.hu
SUMMARY:Istentisztelet
DESCRIPTION:
URL:https://gyularef.hu/event/istentisztelet-24/
LOCATION:Templom\, Petőfi tér 4.\, Gyula\, Békés\, 5700\, Magyarország
CATEGORIES:Istentisztelet
ATTACH;FMTTYPE=image/jpeg:https://gyularef.hu/wp-content/uploads/2016/08/istentisztelet.jpg
END:VEVENT
BEGIN:VEVENT
DTSTART;TZID=Europe/Budapest:20170806T170000
DTEND;TZID=Europe/Budapest:20170806T180000
DTSTAMP:20260421T064442
CREATED:20170731T063213Z
LAST-MODIFIED:20170731T063213Z
UID:1638-1502038800-1502042400@gyularef.hu
SUMMARY:Istentisztelet (du)
DESCRIPTION:
URL:https://gyularef.hu/event/istentisztelet-du-28/
LOCATION:Gyülekezeti kisterem\, Petőfi tér 4.\, Gyula\, Békés\, 5700\, Magyarország
CATEGORIES:Istentisztelet
ATTACH;FMTTYPE=image/jpeg:https://gyularef.hu/wp-content/uploads/2016/09/bibliaora.jpg
END:VEVENT
BEGIN:VEVENT
DTSTART;TZID=Europe/Budapest:20170809T180000
DTEND;TZID=Europe/Budapest:20170809T190000
DTSTAMP:20260421T064442
CREATED:20170807T082636Z
LAST-MODIFIED:20170807T082636Z
UID:1647-1502301600-1502305200@gyularef.hu
SUMMARY:Bibliaóra
DESCRIPTION:
URL:https://gyularef.hu/event/bibliaora-10/
LOCATION:Templom\, Petőfi tér 4.\, Gyula\, Békés\, 5700\, Magyarország
CATEGORIES:Bibliaóra
ATTACH;FMTTYPE=image/jpeg:https://gyularef.hu/wp-content/uploads/2016/09/bibliaora_sz.jpg
END:VEVENT
BEGIN:VEVENT
DTSTART;TZID=Europe/Budapest:20170811T130000
DTEND;TZID=Europe/Budapest:20170811T140000
DTSTAMP:20260421T064442
CREATED:20170807T082724Z
LAST-MODIFIED:20170807T082724Z
UID:1649-1502456400-1502460000@gyularef.hu
SUMMARY:Ifjúsági óra Biztos Szikla klub
DESCRIPTION:
URL:https://gyularef.hu/event/ifjusagi-ora-biztos-szikla-klub-19/
LOCATION:Kisház\, Petőfi tér 4.\, Gyula\, Békés\, 5700\, Magyarország
CATEGORIES:Biztos Szikla klub
ATTACH;FMTTYPE=image/jpeg:https://gyularef.hu/wp-content/uploads/2016/08/biztos_szikla.jpg
END:VEVENT
BEGIN:VEVENT
DTSTART;TZID=Europe/Budapest:20170811T180000
DTEND;TZID=Europe/Budapest:20170811T190000
DTSTAMP:20260421T064442
CREATED:20170807T082806Z
LAST-MODIFIED:20170807T082806Z
UID:1651-1502474400-1502478000@gyularef.hu
SUMMARY:Fiatalok Bibliaköre
DESCRIPTION:
URL:https://gyularef.hu/event/fiatalok-bibliakore-39/
LOCATION:Kisház\, Petőfi tér 4.\, Gyula\, Békés\, 5700\, Magyarország
CATEGORIES:Fiatalok bibliaköre
ATTACH;FMTTYPE=image/jpeg:https://gyularef.hu/wp-content/uploads/2016/08/ofi.jpg
END:VEVENT
BEGIN:VEVENT
DTSTART;TZID=Europe/Budapest:20170813T093000
DTEND;TZID=Europe/Budapest:20170813T095000
DTSTAMP:20260421T064442
CREATED:20170807T082854Z
LAST-MODIFIED:20170807T082854Z
UID:1653-1502616600-1502617800@gyularef.hu
SUMMARY:Imaközösség
DESCRIPTION:
URL:https://gyularef.hu/event/imakozosseg-38/
LOCATION:Gyülekezeti kisterem\, Petőfi tér 4.\, Gyula\, Békés\, 5700\, Magyarország
CATEGORIES:Imaközösség
ATTACH;FMTTYPE=image/jpeg:https://gyularef.hu/wp-content/uploads/2016/09/imakozosseg.jpg
END:VEVENT
BEGIN:VEVENT
DTSTART;TZID=Europe/Budapest:20170813T100000
DTEND;TZID=Europe/Budapest:20170813T110000
DTSTAMP:20260421T064442
CREATED:20170807T082927Z
LAST-MODIFIED:20170807T082927Z
UID:1655-1502618400-1502622000@gyularef.hu
SUMMARY:Istentisztelet
DESCRIPTION:
URL:https://gyularef.hu/event/istentisztelet-25/
LOCATION:Templom\, Petőfi tér 4.\, Gyula\, Békés\, 5700\, Magyarország
CATEGORIES:Istentisztelet
ATTACH;FMTTYPE=image/jpeg:https://gyularef.hu/wp-content/uploads/2016/08/istentisztelet.jpg
END:VEVENT
BEGIN:VEVENT
DTSTART;TZID=Europe/Budapest:20170813T170000
DTEND;TZID=Europe/Budapest:20170813T180000
DTSTAMP:20260421T064442
CREATED:20170807T083007Z
LAST-MODIFIED:20170807T083007Z
UID:1657-1502643600-1502647200@gyularef.hu
SUMMARY:Istentisztelet (du)
DESCRIPTION:
URL:https://gyularef.hu/event/istentisztelet-du-29/
LOCATION:Gyülekezeti kisterem\, Petőfi tér 4.\, Gyula\, Békés\, 5700\, Magyarország
CATEGORIES:Istentisztelet
ATTACH;FMTTYPE=image/jpeg:https://gyularef.hu/wp-content/uploads/2016/09/bibliaora.jpg
END:VEVENT
BEGIN:VEVENT
DTSTART;TZID=Europe/Budapest:20170821T180000
DTEND;TZID=Europe/Budapest:20170821T190000
DTSTAMP:20260421T064442
CREATED:20170821T061035Z
LAST-MODIFIED:20170821T061035Z
UID:1660-1503338400-1503342000@gyularef.hu
SUMMARY:Bűnbánati istentisztelet
DESCRIPTION:
URL:https://gyularef.hu/event/bunbanati-istentisztelet-13/
LOCATION:Templom\, Petőfi tér 4.\, Gyula\, Békés\, 5700\, Magyarország
CATEGORIES:Bűnbánati istentisztelet
ATTACH;FMTTYPE=image/jpeg:https://gyularef.hu/wp-content/uploads/2016/09/bibliaora_sz.jpg
END:VEVENT
BEGIN:VEVENT
DTSTART;TZID=Europe/Budapest:20170822T180000
DTEND;TZID=Europe/Budapest:20170822T190000
DTSTAMP:20260421T064442
CREATED:20170821T061131Z
LAST-MODIFIED:20170821T061131Z
UID:1662-1503424800-1503428400@gyularef.hu
SUMMARY:Bűnbánati istentisztelet
DESCRIPTION:
URL:https://gyularef.hu/event/bunbanati-istentisztelet-14/
LOCATION:Templom\, Petőfi tér 4.\, Gyula\, Békés\, 5700\, Magyarország
CATEGORIES:Bűnbánati istentisztelet
ATTACH;FMTTYPE=image/jpeg:https://gyularef.hu/wp-content/uploads/2016/09/bibliaora_sz.jpg
END:VEVENT
BEGIN:VEVENT
DTSTART;TZID=Europe/Budapest:20170823T164500
DTEND;TZID=Europe/Budapest:20170823T175000
DTSTAMP:20260421T064442
CREATED:20170821T061527Z
LAST-MODIFIED:20170821T061527Z
UID:1670-1503506700-1503510600@gyularef.hu
SUMMARY:Presbiteri gyűlés
DESCRIPTION:
URL:https://gyularef.hu/event/presbiteri-gyules-3/
LOCATION:Békés
CATEGORIES:Bibliaóra
ATTACH;FMTTYPE=image/gif:https://gyularef.hu/wp-content/uploads/2017/06/imadkozo-pap2.gif
END:VEVENT
BEGIN:VEVENT
DTSTART;TZID=Europe/Budapest:20170823T180000
DTEND;TZID=Europe/Budapest:20170823T190000
DTSTAMP:20260421T064442
CREATED:20170821T061208Z
LAST-MODIFIED:20170821T061208Z
UID:1664-1503511200-1503514800@gyularef.hu
SUMMARY:Bűnbánati istentisztelet
DESCRIPTION:
URL:https://gyularef.hu/event/bunbanati-istentisztelet-15/
LOCATION:Templom\, Petőfi tér 4.\, Gyula\, Békés\, 5700\, Magyarország
CATEGORIES:Bűnbánati istentisztelet
ATTACH;FMTTYPE=image/jpeg:https://gyularef.hu/wp-content/uploads/2016/09/bibliaora_sz.jpg
END:VEVENT
BEGIN:VEVENT
DTSTART;TZID=Europe/Budapest:20170824T100000
DTEND;TZID=Europe/Budapest:20170824T110000
DTSTAMP:20260421T064442
CREATED:20170821T061615Z
LAST-MODIFIED:20170821T061615Z
UID:1672-1503568800-1503572400@gyularef.hu
SUMMARY:Baba - mama kör
DESCRIPTION:
URL:https://gyularef.hu/event/baba-mama-kor-29/
LOCATION:Kisház\, Petőfi tér 4.\, Gyula\, Békés\, 5700\, Magyarország
CATEGORIES:Baba-mama kör
ATTACH;FMTTYPE=image/jpeg:https://gyularef.hu/wp-content/uploads/2016/09/baba_mama.jpg
END:VEVENT
BEGIN:VEVENT
DTSTART;TZID=Europe/Budapest:20170824T180000
DTEND;TZID=Europe/Budapest:20170824T190000
DTSTAMP:20260421T064442
CREATED:20170821T061245Z
LAST-MODIFIED:20170821T061245Z
UID:1666-1503597600-1503601200@gyularef.hu
SUMMARY:Bűnbánati istentisztelet
DESCRIPTION:
URL:https://gyularef.hu/event/bunbanati-istentisztelet-16/
LOCATION:Templom\, Petőfi tér 4.\, Gyula\, Békés\, 5700\, Magyarország
CATEGORIES:Bűnbánati istentisztelet
ATTACH;FMTTYPE=image/jpeg:https://gyularef.hu/wp-content/uploads/2016/09/bibliaora_sz.jpg
END:VEVENT
BEGIN:VEVENT
DTSTART;TZID=Europe/Budapest:20170825T150000
DTEND;TZID=Europe/Budapest:20170825T160000
DTSTAMP:20260421T064442
CREATED:20170821T061712Z
LAST-MODIFIED:20170821T061712Z
UID:1674-1503673200-1503676800@gyularef.hu
SUMMARY:Ifjúsági óra - Biztos Szikla klub
DESCRIPTION:
URL:https://gyularef.hu/event/ifjusagi-ora-biztos-szikla-klub-20/
LOCATION:Békés
CATEGORIES:Biztos Szikla klub
ATTACH;FMTTYPE=image/jpeg:https://gyularef.hu/wp-content/uploads/2016/08/biztos_szikla.jpg
END:VEVENT
BEGIN:VEVENT
DTSTART;TZID=Europe/Budapest:20170825T180000
DTEND;TZID=Europe/Budapest:20170825T190000
DTSTAMP:20260421T064442
CREATED:20170821T061400Z
LAST-MODIFIED:20170821T061400Z
UID:1668-1503684000-1503687600@gyularef.hu
SUMMARY:Bűnbánati istentisztelet
DESCRIPTION:
URL:https://gyularef.hu/event/bunbanati-istentisztelet-17/
LOCATION:Békés
CATEGORIES:Bűnbánati istentisztelet
ATTACH;FMTTYPE=image/jpeg:https://gyularef.hu/wp-content/uploads/2016/09/bibliaora_sz.jpg
END:VEVENT
BEGIN:VEVENT
DTSTART;TZID=Europe/Budapest:20170825T190000
DTEND;TZID=Europe/Budapest:20170825T200000
DTSTAMP:20260421T064442
CREATED:20170821T061752Z
LAST-MODIFIED:20170821T061752Z
UID:1676-1503687600-1503691200@gyularef.hu
SUMMARY:Fiatalok bibliaköre
DESCRIPTION:
URL:https://gyularef.hu/event/fiatalok-bibliakore-40/
LOCATION:Békés
CATEGORIES:Fiatalok bibliaköre
ATTACH;FMTTYPE=image/jpeg:https://gyularef.hu/wp-content/uploads/2016/08/ofi.jpg
END:VEVENT
BEGIN:VEVENT
DTSTART;TZID=Europe/Budapest:20170826T170000
DTEND;TZID=Europe/Budapest:20170826T173000
DTSTAMP:20260421T064442
CREATED:20170821T061849Z
LAST-MODIFIED:20170821T061849Z
UID:1678-1503766800-1503768600@gyularef.hu
SUMMARY:Házasságkötés megáldása
DESCRIPTION:
URL:https://gyularef.hu/event/hazassagkotes-megaldasa-3/
LOCATION:Templom\, Petőfi tér 4.\, Gyula\, Békés\, 5700\, Magyarország
CATEGORIES:Istentisztelet
ATTACH;FMTTYPE=image/jpeg:https://gyularef.hu/wp-content/uploads/2017/05/aranygyuru.jpg
END:VEVENT
BEGIN:VEVENT
DTSTART;TZID=Europe/Budapest:20170827T093000
DTEND;TZID=Europe/Budapest:20170827T095000
DTSTAMP:20260421T064442
CREATED:20170821T062200Z
LAST-MODIFIED:20170821T062200Z
UID:1684-1503826200-1503827400@gyularef.hu
SUMMARY:Imaközösség
DESCRIPTION:
URL:https://gyularef.hu/event/imakozosseg-39/
LOCATION:Gyülekezeti kisterem\, Petőfi tér 4.\, Gyula\, Békés\, 5700\, Magyarország
CATEGORIES:Imaközösség
ATTACH;FMTTYPE=image/jpeg:https://gyularef.hu/wp-content/uploads/2016/09/imakozosseg.jpg
END:VEVENT
BEGIN:VEVENT
DTSTART;TZID=Europe/Budapest:20170827T100000
DTEND;TZID=Europe/Budapest:20170827T110000
DTSTAMP:20260421T064442
CREATED:20170821T061959Z
LAST-MODIFIED:20170821T061959Z
UID:1680-1503828000-1503831600@gyularef.hu
SUMMARY:Úrvacsorás istentisztelet
DESCRIPTION:
URL:https://gyularef.hu/event/urvacsoras-istentisztelet-4/
LOCATION:Templom\, Petőfi tér 4.\, Gyula\, Békés\, 5700\, Magyarország
CATEGORIES:Úrvacsorás istentisztelet
ATTACH;FMTTYPE=image/jpeg:https://gyularef.hu/wp-content/uploads/2016/09/urvacsora.jpg
END:VEVENT
BEGIN:VEVENT
DTSTART;TZID=Europe/Budapest:20170827T170000
DTEND;TZID=Europe/Budapest:20170827T180000
DTSTAMP:20260421T064442
CREATED:20170821T062112Z
LAST-MODIFIED:20170821T062112Z
UID:1682-1503853200-1503856800@gyularef.hu
SUMMARY:Istentisztelet (du)
DESCRIPTION:
URL:https://gyularef.hu/event/istentisztelet-du-30/
LOCATION:Gyülekezeti kisterem\, Petőfi tér 4.\, Gyula\, Békés\, 5700\, Magyarország
CATEGORIES:Istentisztelet
ATTACH;FMTTYPE=image/jpeg:https://gyularef.hu/wp-content/uploads/2016/09/bibliaora.jpg
END:VEVENT
BEGIN:VEVENT
DTSTART;TZID=Europe/Budapest:20170830T180000
DTEND;TZID=Europe/Budapest:20170830T190000
DTSTAMP:20260421T064442
CREATED:20170828T072518Z
LAST-MODIFIED:20170828T072518Z
UID:1696-1504116000-1504119600@gyularef.hu
SUMMARY:Bibliaóra
DESCRIPTION:
URL:https://gyularef.hu/event/bibliaora-11/
LOCATION:Templom\, Petőfi tér 4.\, Gyula\, Békés\, 5700\, Magyarország
CATEGORIES:Bibliaóra
ATTACH;FMTTYPE=image/jpeg:https://gyularef.hu/wp-content/uploads/2016/09/bibliaora_sz.jpg
END:VEVENT
BEGIN:VEVENT
DTSTART;TZID=Europe/Budapest:20170831T100000
DTEND;TZID=Europe/Budapest:20170831T110000
DTSTAMP:20260421T064442
CREATED:20170828T072603Z
LAST-MODIFIED:20170828T072603Z
UID:1698-1504173600-1504177200@gyularef.hu
SUMMARY:Baba-mama kör
DESCRIPTION:
URL:https://gyularef.hu/event/baba-mama-kor-30/
LOCATION:Kisház\, Petőfi tér 4.\, Gyula\, Békés\, 5700\, Magyarország
CATEGORIES:Baba-mama kör
ATTACH;FMTTYPE=image/jpeg:https://gyularef.hu/wp-content/uploads/2016/09/baba_mama.jpg
END:VEVENT
END:VCALENDAR